{"text_format":"1","workbook":"xlsx","n_sheets":6,"sheets":["Inputs","Table","Table Reader","Table Reader (2)","STL Volume","Sheet1"],"not_rendered":{"charts":0,"images":3,"macros":1,"external_links":0,"defined_names":0,"comments":0,"pivot_tables":0},"unopened":[],"bounds":{"document_bytes":16777216,"sheet_cells":100000,"rows_first":2000,"rows_last":500,"rows_between":2000,"halvings":0,"cell_chars":16384,"cell_head_chars":4096},"cells_cut":0,"cells_raw":0,"read":"whole","date_system":"1900"}

{"sheet":"Inputs","index":0,"n_rows":52,"n_cols":3,"rows_kept":52,"cut":false,"hidden":false,"merged":[[45,0,46,0]]}
["Existing e",3.8,"Percent"]
["Required e",7,"Percent"]
["Curve Length",348.48,"feet"]
["Required STL",null,"feet"]
["Existing STL",null,"feet"]
["Radius",933,"feet"]
["Width",24,"feet"]
["Density",111,"Lbs / Sq Yd - inch"]
[{"$f":"IF('STL Volume'!C103<'STL Volume'!A106,\"WARNING!\",\"\")","v":""}]
["Tonnage",{"$f":"B38/9*12*B8/2000","v":507.71758716756295},"Tons"]
[]
[]
[]
["\"Area of"]
["Curve\"",{"$f":"B7*B3","v":8363.52},"sq ft"]
["Adjustment"]
["Factor",{"$f":"1+B7/6/B6","v":1.0042872454448017}]
["True Area "]
["of Curve",{"$f":"B15*B17","v":8399.3764630225087},"sq ft"]
["Average"]
["Required"]
["Height",{"$f":"B7*B2/2/100","v":0.84},"feet"]
["Average"]
["Existing"]
["Height",{"$f":"B7*B1/2/100","v":0.45599999999999996},"feet"]
["Extra"]
["Height",{"$f":"1/12","v":8.3333333333333329E-2},"feet"]
["Average"]
["Height",{"$f":"B22+B27-B25","v":0.46733333333333338},"feet"]
["Volume"]
["of Curve",{"$f":"B29*B19","v":3925.308600385853},"cu ft"]
[]
["Old STL",{"$f":"'Table Reader'!D40","v":100},"feet"]
[]
["Volume"]
["of STLs",{"$f":"'STL Volume'!AA107","v":2935.7398748514847},"cu ft"]
[]
["Volume",{"$f":"B36+B31","v":6861.0484752373377},"cu ft"]
[]
["New STL",{"$f":"'Table Reader (2)'!D40","v":220},"feet"]
[]
[null,{"$f":"IF(B4=\"\",B40,B4)","v":220}]
[null,{"$f":"IF(B5=\"\",B33,B5)","v":100}]
["LEGEND:"]
["Input"]
["Optional Input"]
[]
["Calculated"]
[]
["NOTE: Optional Input is not"]
["required but it must be left"]
["blank if it is not being used."]

{"sheet":"Table","index":1,"n_rows":36,"n_cols":34,"rows_kept":36,"cut":false,"hidden":false,"merged":[]}
[null,2,null,null," LANE"]
[null," e",null,null," DESIGN"]
[null," (%)",0," mph",15," mph",20," mph",25," mph",30," mph",35," mph",40," mph",45," mph",50," mph",55," mph",60," mph",65," mph",70," mph",75," mph",80," mph",85," mph"]
[null," R","Radius","STL","Radius","STL","Radius","STL","Radius","STL","Radius","STL","Radius","STL","Radius","STL","Radius","STL","Radius","STL","Radius","STL","Radius","STL","Radius","STL","Radius","STL","Radius","STL","Radius","STL","Radius","STL"]
[null,"NC",0,0,932,0,1640,0,2370,0,3240,0,4260,0,5410,0,6710,0,8150,0,9720,0,11500,0,12900,0,14500,0,16100,0,17800,0,999999,0]
[null,"RC",0,70,676,70,1190,70,1720,70,2370,80,3120,80,3970,90,4930,90,5990,100,7150,110,8440,110,9510,120,10700,120,12000,130,13300,140,999999,140]
[null,2.2000000000000002,0,70,605,70,1070,70,1550,80,2130,80,2800,90,3570,90,4440,100,5400,110,6450,110,7620,120,8600,120,9660,130,10800,140,12000,150,999999,150]
[null,2.4,0,80,546,80,959,80,1400,80,1930,90,2540,90,3240,100,4030,100,4910,110,5870,120,6930,120,7830,130,8810,140,9850,140,11000,160,999999,160]
[null,2.6,0,80,496,80,872,80,1280,80,1760,90,2320,90,2960,100,3690,110,4490,120,5370,120,6350,130,7180,130,8090,140,9050,150,10100,160,999999,160]
[null,2.8,0,80,453,80,796,80,1170,90,1610,90,2130,100,2720,100,3390,110,4130,120,4950,130,5850,130,6630,140,7470,150,8370,160,9340,170,999999,170]
[null,3,0,80,415,80,730,90,1070,90,1480,100,1960,100,2510,110,3130,120,3820,120,4580,130,5420,140,6140,140,6930,150,7780,160,8700,180,999999,180]
[null,3.2,0,80,382,80,672,90,985,90,1370,100,1820,110,2330,110,2900,120,3550,130,4250,140,5040,140,5720,150,6460,160,7260,170,8130,180,999999,180]
[null,3.4,0,90,352,90,620,90,911,100,1270,100,1690,110,2170,120,2700,120,3300,130,3970,140,4700,150,5350,160,6050,170,6800,180,7620,190,999999,190]
[null,3.6,0,90,324,90,572,100,845,100,1180,110,1570,110,2020,120,2520,130,3090,140,3710,150,4400,150,5010,160,5680,170,6400,180,7180,200,999999,200]
[null,3.8,0,90,300,90,530,100,784,100,1100,110,1470,120,1890,120,2360,130,2890,140,3480,150,4140,160,4710,170,5350,180,6030,190,6780,200,999999,200]
[null,4,0,100,277,100,490,100,729,110,1030,110,1370,120,1770,130,2220,140,2720,150,3270,160,3890,160,4450,170,5050,180,5710,190,6420,210,999999,210]
[null,4.2,0,100,255,100,453,110,678,110,955,120,1280,120,1660,130,2080,140,2560,150,3080,160,3670,170,4200,180,4780,190,5410,200,6090,220,999999,220]
[null,4.4000000000000004,0,100,235,100,418,110,630,110,893,120,1200,130,1560,140,1960,150,2410,160,2910,170,3470,180,3980,180,4540,200,5140,210,5800,220,999999,220]
[null,4.5999999999999996,0,110,215,110,384,110,585,120,834,130,1130,130,1470,140,1850,150,2280,160,2750,170,3290,180,3770,190,4310,200,4890,210,5530,230,999999,230]
[null,4.8,0,110,193,110,349,120,542,120,779,130,1060,140,1390,150,1750,160,2160,170,2610,180,3120,190,3590,200,4100,210,4670,220,5280,240,999999,240]
[null,5,0,110,172,110,314,120,499,130,727,130,991,140,1310,150,1650,160,2040,170,2470,180,2960,190,3410,200,3910,210,4460,230,5050,250,999999,250]
[null,5.2,0,120,154,120,284,120,457,130,676,140,929,140,1230,150,1560,160,1930,180,2350,190,2820,200,3250,210,3740,220,4260,230,4840,250,999999,250]
[null,5.4,0,120,139,120,258,120,420,130,627,140,870,150,1160,160,1480,170,1830,180,2230,190,2680,200,3110,210,3570,230,4090,240,4640,260,999999,260]
[null,5.6,0,120,126,120,236,130,387,140,582,140,813,150,1090,160,1390,170,1740,190,2120,200,2550,210,2970,220,3420,230,3920,240,4460,270,999999,270]
[null,5.8,0,120,115,120,216,130,358,140,542,150,761,160,1030,170,1320,180,1650,190,2010,200,2430,210,2840,220,3280,240,3760,250,4290,270,999999,270]
[null,6,0,130,105,130,199,130,332,140,506,150,713,160,965,170,1250,180,1560,200,1920,210,2320,220,2710,230,3150,240,3620,260,4140,280,999999,280]
[null,6.2,0,130,97,130,184,140,308,150,472,150,669,160,909,170,1180,190,1480,200,1820,210,2210,220,2600,230,3020,250,3480,260,3990,290,999999,290]
[null,6.4,0,130,89,130,170,140,287,150,442,160,628,170,857,180,1110,190,1400,210,1730,220,2110,230,2490,240,2910,260,3360,270,3850,290,999999,290]
[null,6.6,0,140,82,140,157,140,267,150,413,160,590,170,808,180,1050,200,1330,210,1650,220,2010,230,2380,250,2790,260,3240,280,3720,300,999999,300]
[null,6.8,0,140,76,140,146,150,248,160,386,170,553,180,761,190,990,200,1260,220,1560,230,1910,240,2280,250,2690,270,3120,280,3600,310,999999,310]
[null,7,0,140,70,140,135,150,231,160,360,170,518,180,716,190,933,200,1190,220,1480,240,1820,240,2180,260,2580,270,3010,290,3480,31,999999,31]
[null,7.2,0,150,64,150,125,150,214,160,336,170,485,180,672,190,878,210,1120,230,1400,240,1720,250,2070,260,2470,280,2900,300,3370,320,999999,320]
[null,7.4,0,150,59,150,115,160,198,170,312,180,451,190,628,200,822,210,1060,230,1320,250,1630,260,1970,270,2350,290,2780,300,3250,330,999999,330]
[null,7.6,0,150,54,150,105,160,182,170,287,180,417,190,583,200,765,220,980,240,1230,250,1530,260,1850,270,2230,290,2650,310,3120,330,999999,330]
[null,7.8,0,160,48,160,94,160,164,170,261,180,380,190,533,210,701,220,901,240,1140,260,1410,270,1720,280,2090,300,2500,310,2970,340,999999,340]
[null,8,0,160,38,160,76,170,134,180,214,190,314,200,444,210,587,230,758,240,960,260,1200,270,1480,280,1810,300,2210,320,2670,350,999999,350]

{"sheet":"Table Reader","index":2,"n_rows":40,"n_cols":34,"rows_kept":40,"cut":false,"hidden":false,"merged":[]}
[]
[]
[]
[]
[{"$f":"AND(B5,NOT(B6))","v":false},{"$f":"0<=Inputs!B$1","v":true},{"$f":"Table!C5<=Inputs!$B$6","v":true},{"$f":"IF(AND($A5,C5,NOT(E5)),Table!D5,0)","v":0},{"$f":"Table!E5<=Inputs!$B$6","v":true},{"$f":"IF(AND($A5,E5,NOT(G5)),Table!F5,0)","v":0},{"$f":"Table!G5<=Inputs!$B$6","v":false},{"$f":"IF(AND($A5,G5,NOT(I5)),Table!H5,0)","v":0},{"$f":"Table!I5<=Inputs!$B$6","v":false},{"$f":"IF(AND($A5,I5,NOT(K5)),Table!J5,0)","v":0},{"$f":"Table!K5<=Inputs!$B$6","v":false},{"$f":"IF(AND($A5,K5,NOT(M5)),Table!L5,0)","v":0},{"$f":"Table!M5<=Inputs!$B$6","v":false},{"$f":"IF(AND($A5,M5,NOT(O5)),Table!N5,0)","v":0},{"$f":"Table!O5<=Inputs!$B$6","v":false},{"$f":"IF(AND($A5,O5,NOT(Q5)),Table!P5,0)","v":0},{"$f":"Table!Q5<=Inputs!$B$6","v":false},{"$f":"IF(AND($A5,Q5,NOT(S5)),Table!R5,0)","v":0},{"$f":"Table!S5<=Inputs!$B$6","v":false},{"$f":"IF(AND($A5,S5,NOT(U5)),Table!T5,0)","v":0},{"$f":"Table!U5<=Inputs!$B$6","v":false},{"$f":"IF(AND($A5,U5,NOT(W5)),Table!V5,0)","v":0},{"$f":"Table!W5<=Inputs!$B$6","v":false},{"$f":"IF(AND($A5,W5,NOT(Y5)),Table!X5,0)","v":0},{"$f":"Table!Y5<=Inputs!$B$6","v":false},{"$f":"IF(AND($A5,Y5,NOT(AA5)),Table!Z5,0)","v":0},{"$f":"Table!AA5<=Inputs!$B$6","v":false},{"$f":"IF(AND($A5,AA5,NOT(AC5)),Table!AB5,0)","v":0},{"$f":"Table!AC5<=Inputs!$B$6","v":false},{"$f":"IF(AND($A5,AC5,NOT(AE5)),Table!AD5,0)","v":0},{"$f":"Table!AE5<=Inputs!$B$6","v":false},{"$f":"IF(AND($A5,AE5,NOT(AG5)),Table!AF5,0)","v":0},{"$f":"Table!AG5<=Inputs!$B$6","v":false},{"$f":"IF(AND($A5,AG5,NOT(AI5)),Table!AH5,0)","v":0}]
[{"$f":"AND(B6,NOT(B7))","v":false},{"$f":"2<=Inputs!B$1","v":true},{"$f":"Table!C6<=Inputs!$B$6","v":true},{"$f":"IF(AND($A6,C6,NOT(E6)),Table!D6,0)","v":0},{"$f":"Table!E6<=Inputs!$B$6","v":true},{"$f":"IF(AND($A6,E6,NOT(G6)),Table!F6,0)","v":0},{"$f":"Table!G6<=Inputs!$B$6","v":false},{"$f":"IF(AND($A6,G6,NOT(I6)),Table!H6,0)","v":0},{"$f":"Table!I6<=Inputs!$B$6","v":false},{"$f":"IF(AND($A6,I6,NOT(K6)),Table!J6,0)","v":0},{"$f":"Table!K6<=Inputs!$B$6","v":false},{"$f":"IF(AND($A6,K6,NOT(M6)),Table!L6,0)","v":0},{"$f":"Table!M6<=Inputs!$B$6","v":false},{"$f":"IF(AND($A6,M6,NOT(O6)),Table!N6,0)","v":0},{"$f":"Table!O6<=Inputs!$B$6","v":false},{"$f":"IF(AND($A6,O6,NOT(Q6)),Table!P6,0)","v":0},{"$f":"Table!Q6<=Inputs!$B$6","v":false},{"$f":"IF(AND($A6,Q6,NOT(S6)),Table!R6,0)","v":0},{"$f":"Table!S6<=Inputs!$B$6","v":false},{"$f":"IF(AND($A6,S6,NOT(U6)),Table!T6,0)","v":0},{"$f":"Table!U6<=Inputs!$B$6","v":false},{"$f":"IF(AND($A6,U6,NOT(W6)),Table!V6,0)","v":0},{"$f":"Table!W6<=Inputs!$B$6","v":false},{"$f":"IF(AND($A6,W6,NOT(Y6)),Table!X6,0)","v":0},{"$f":"Table!Y6<=Inputs!$B$6","v":false},{"$f":"IF(AND($A6,Y6,NOT(AA6)),Table!Z6,0)","v":0},{"$f":"Table!AA6<=Inputs!$B$6","v":false},{"$f":"IF(AND($A6,AA6,NOT(AC6)),Table!AB6,0)","v":0},{"$f":"Table!AC6<=Inputs!$B$6","v":false},{"$f":"IF(AND($A6,AC6,NOT(AE6)),Table!AD6,0)","v":0},{"$f":"Table!AE6<=Inputs!$B$6","v":false},{"$f":"IF(AND($A6,AE6,NOT(AG6)),Table!AF6,0)","v":0},{"$f":"Table!AG6<=Inputs!$B$6","v":false},{"$f":"IF(AND($A6,AG6,NOT(AI6)),Table!AH6,0)","v":0}]
[{"$f":"AND(B7,NOT(B8))","v":false},{"$f":"Table!B7<=Inputs!B$1","v":true},{"$f":"Table!C7<=Inputs!$B$6","v":true},{"$f":"IF(AND($A7,C7,NOT(E7)),Table!D7,0)","v":0},{"$f":"Table!E7<=Inputs!$B$6","v":true},{"$f":"IF(AND($A7,E7,NOT(G7)),Table!F7,0)","v":0},{"$f":"Table!G7<=Inputs!$B$6","v":false},{"$f":"IF(AND($A7,G7,NOT(I7)),Table!H7,0)","v":0},{"$f":"Table!I7<=Inputs!$B$6","v":false},{"$f":"IF(AND($A7,I7,NOT(K7)),Table!J7,0)","v":0},{"$f":"Table!K7<=Inputs!$B$6","v":false},{"$f":"IF(AND($A7,K7,NOT(M7)),Table!L7,0)","v":0},{"$f":"Table!M7<=Inputs!$B$6","v":false},{"$f":"IF(AND($A7,M7,NOT(O7)),Table!N7,0)","v":0},{"$f":"Table!O7<=Inputs!$B$6","v":false},{"$f":"IF(AND($A7,O7,NOT(Q7)),Table!P7,0)","v":0},{"$f":"Table!Q7<=Inputs!$B$6","v":false},{"$f":"IF(AND($A7,Q7,NOT(S7)),Table!R7,0)","v":0},{"$f":"Table!S7<=Inputs!$B$6","v":false},{"$f":"IF(AND($A7,S7,NOT(U7)),Table!T7,0)","v":0},{"$f":"Table!U7<=Inputs!$B$6","v":false},{"$f":"IF(AND($A7,U7,NOT(W7)),Table!V7,0)","v":0},{"$f":"Table!W7<=Inputs!$B$6","v":false},{"$f":"IF(AND($A7,W7,NOT(Y7)),Table!X7,0)","v":0},{"$f":"Table!Y7<=Inputs!$B$6","v":false},{"$f":"IF(AND($A7,Y7,NOT(AA7)),Table!Z7,0)","v":0},{"$f":"Table!AA7<=Inputs!$B$6","v":false},{"$f":"IF(AND($A7,AA7,NOT(AC7)),Table!AB7,0)","v":0},{"$f":"Table!AC7<=Inputs!$B$6","v":false},{"$f":"IF(AND($A7,AC7,NOT(AE7)),Table!AD7,0)","v":0},{"$f":"Table!AE7<=Inputs!$B$6","v":false},{"$f":"IF(AND($A7,AE7,NOT(AG7)),Table!AF7,0)","v":0},{"$f":"Table!AG7<=Inputs!$B$6","v":false},{"$f":"IF(AND($A7,AG7,NOT(AI7)),Table!AH7,0)","v":0}]
[{"$f":"AND(B8,NOT(B9))","v":false},{"$f":"Table!B8<=Inputs!B$1","v":true},{"$f":"Table!C8<=Inputs!$B$6","v":true},{"$f":"IF(AND($A8,C8,NOT(E8)),Table!D8,0)","v":0},{"$f":"Table!E8<=Inputs!$B$6","v":true},{"$f":"IF(AND($A8,E8,NOT(G8)),Table!F8,0)","v":0},{"$f":"Table!G8<=Inputs!$B$6","v":false},{"$f":"IF(AND($A8,G8,NOT(I8)),Table!H8,0)","v":0},{"$f":"Table!I8<=Inputs!$B$6","v":false},{"$f":"IF(AND($A8,I8,NOT(K8)),Table!J8,0)","v":0},{"$f":"Table!K8<=Inputs!$B$6","v":false},{"$f":"IF(AND($A8,K8,NOT(M8)),Table!L8,0)","v":0},{"$f":"Table!M8<=Inputs!$B$6","v":false},{"$f":"IF(AND($A8,M8,NOT(O8)),Table!N8,0)","v":0},{"$f":"Table!O8<=Inputs!$B$6","v":false},{"$f":"IF(AND($A8,O8,NOT(Q8)),Table!P8,0)","v":0},{"$f":"Table!Q8<=Inputs!$B$6","v":false},{"$f":"IF(AND($A8,Q8,NOT(S8)),Table!R8,0)","v":0},{"$f":"Table!S8<=Inputs!$B$6","v":false},{"$f":"IF(AND($A8,S8,NOT(U8)),Table!T8,0)","v":0},{"$f":"Table!U8<=Inputs!$B$6","v":false},{"$f":"IF(AND($A8,U8,NOT(W8)),Table!V8,0)","v":0},{"$f":"Table!W8<=Inputs!$B$6","v":false},{"$f":"IF(AND($A8,W8,NOT(Y8)),Table!X8,0)","v":0},{"$f":"Table!Y8<=Inputs!$B$6","v":false},{"$f":"IF(AND($A8,Y8,NOT(AA8)),Table!Z8,0)","v":0},{"$f":"Table!AA8<=Inputs!$B$6","v":false},{"$f":"IF(AND($A8,AA8,NOT(AC8)),Table!AB8,0)","v":0},{"$f":"Table!AC8<=Inputs!$B$6","v":false},{"$f":"IF(AND($A8,AC8,NOT(AE8)),Table!AD8,0)","v":0},{"$f":"Table!AE8<=Inputs!$B$6","v":false},{"$f":"IF(AND($A8,AE8,NOT(AG8)),Table!AF8,0)","v":0},{"$f":"Table!AG8<=Inputs!$B$6","v":false},{"$f":"IF(AND($A8,AG8,NOT(AI8)),Table!AH8,0)","v":0}]
[false,{"$f":"Table!B9<=Inputs!B$1","v":true},{"$f":"Table!C9<=Inputs!$B$6","v":true},{"$f":"IF(AND($A9,C9,NOT(E9)),Table!D9,0)","v":0},{"$f":"Table!E9<=Inputs!$B$6","v":true},{"$f":"IF(AND($A9,E9,NOT(G9)),Table!F9,0)","v":0},{"$f":"Table!G9<=Inputs!$B$6","v":true},{"$f":"IF(AND($A9,G9,NOT(I9)),Table!H9,0)","v":0},{"$f":"Table!I9<=Inputs!$B$6","v":false},{"$f":"IF(AND($A9,I9,NOT(K9)),Table!J9,0)","v":0},{"$f":"Table!K9<=Inputs!$B$6","v":false},{"$f":"IF(AND($A9,K9,NOT(M9)),Table!L9,0)","v":0},{"$f":"Table!M9<=Inputs!$B$6","v":false},{"$f":"IF(AND($A9,M9,NOT(O9)),Table!N9,0)","v":0},{"$f":"Table!O9<=Inputs!$B$6","v":false},{"$f":"IF(AND($A9,O9,NOT(Q9)),Table!P9,0)","v":0},{"$f":"Table!Q9<=Inputs!$B$6","v":false},{"$f":"IF(AND($A9,Q9,NOT(S9)),Table!R9,0)","v":0},{"$f":"Table!S9<=Inputs!$B$6","v":false},{"$f":"IF(AND($A9,S9,NOT(U9)),Table!T9,0)","v":0},{"$f":"Table!U9<=Inputs!$B$6","v":false},{"$f":"IF(AND($A9,U9,NOT(W9)),Table!V9,0)","v":0},{"$f":"Table!W9<=Inputs!$B$6","v":false},{"$f":"IF(AND($A9,W9,NOT(Y9)),Table!X9,0)","v":0},{"$f":"Table!Y9<=Inputs!$B$6","v":false},{"$f":"IF(AND($A9,Y9,NOT(AA9)),Table!Z9,0)","v":0},{"$f":"Table!AA9<=Inputs!$B$6","v":false},{"$f":"IF(AND($A9,AA9,NOT(AC9)),Table!AB9,0)","v":0},{"$f":"Table!AC9<=Inputs!$B$6","v":false},{"$f":"IF(AND($A9,AC9,NOT(AE9)),Table!AD9,0)","v":0},{"$f":"Table!AE9<=Inputs!$B$6","v":false},{"$f":"IF(AND($A9,AE9,NOT(AG9)),Table!AF9,0)","v":0},{"$f":"Table!AG9<=Inputs!$B$6","v":false},{"$f":"IF(AND($A9,AG9,NOT(AI9)),Table!AH9,0)","v":0}]
[false,{"$f":"Table!B10<=Inputs!B$1","v":true},{"$f":"Table!C10<=Inputs!$B$6","v":true},{"$f":"IF(AND($A10,C10,NOT(E10)),Table!D10,0)","v":0},{"$f":"Table!E10<=Inputs!$B$6","v":true},{"$f":"IF(AND($A10,E10,NOT(G10)),Table!F10,0)","v":0},{"$f":"Table!G10<=Inputs!$B$6","v":true},{"$f":"IF(AND($A10,G10,NOT(I10)),Table!H10,0)","v":0},{"$f":"Table!I10<=Inputs!$B$6","v":false},{"$f":"IF(AND($A10,I10,NOT(K10)),Table!J10,0)","v":0},{"$f":"Table!K10<=Inputs!$B$6","v":false},{"$f":"IF(AND($A10,K10,NOT(M10)),Table!L10,0)","v":0},{"$f":"Table!M10<=Inputs!$B$6","v":false},{"$f":"IF(AND($A10,M10,NOT(O10)),Table!N10,0)","v":0},{"$f":"Table!O10<=Inputs!$B$6","v":false},{"$f":"IF(AND($A10,O10,NOT(Q10)),Table!P10,0)","v":0},{"$f":"Table!Q10<=Inputs!$B$6","v":false},{"$f":"IF(AND($A10,Q10,NOT(S10)),Table!R10,0)","v":0},{"$f":"Table!S10<=Inputs!$B$6","v":false},{"$f":"IF(AND($A10,S10,NOT(U10)),Table!T10,0)","v":0},{"$f":"Table!U10<=Inputs!$B$6","v":false},{"$f":"IF(AND($A10,U10,NOT(W10)),Table!V10,0)","v":0},{"$f":"Table!W10<=Inputs!$B$6","v":false},{"$f":"IF(AND($A10,W10,NOT(Y10)),Table!X10,0)","v":0},{"$f":"Table!Y10<=Inputs!$B$6","v":false},{"$f":"IF(AND($A10,Y10,NOT(AA10)),Table!Z10,0)","v":0},{"$f":"Table!AA10<=Inputs!$B$6","v":false},{"$f":"IF(AND($A10,AA10,NOT(AC10)),Table!AB10,0)","v":0},{"$f":"Table!AC10<=Inputs!$B$6","v":false},{"$f":"IF(AND($A10,AC10,NOT(AE10)),Table!AD10,0)","v":0},{"$f":"Table!AE10<=Inputs!$B$6","v":false},{"$f":"IF(AND($A10,AE10,NOT(AG10)),Table!AF10,0)","v":0},{"$f":"Table!AG10<=Inputs!$B$6","v":false},{"$f":"IF(AND($A10,AG10,NOT(AI10)),Table!AH10,0)","v":0}]
[false,{"$f":"Table!B11<=Inputs!B$1","v":true},{"$f":"Table!C11<=Inputs!$B$6","v":true},{"$f":"IF(AND($A11,C11,NOT(E11)),Table!D11,0)","v":0},{"$f":"Table!E11<=Inputs!$B$6","v":true},{"$f":"IF(AND($A11,E11,NOT(G11)),Table!F11,0)","v":0},{"$f":"Table!G11<=Inputs!$B$6","v":true},{"$f":"IF(AND($A11,G11,NOT(I11)),Table!H11,0)","v":0},{"$f":"Table!I11<=Inputs!$B$6","v":false},{"$f":"IF(AND($A11,I11,NOT(K11)),Table!J11,0)","v":0},{"$f":"Table!K11<=Inputs!$B$6","v":false},{"$f":"IF(AND($A11,K11,NOT(M11)),Table!L11,0)","v":0},{"$f":"Table!M11<=Inputs!$B$6","v":false},{"$f":"IF(AND($A11,M11,NOT(O11)),Table!N11,0)","v":0},{"$f":"Table!O11<=Inputs!$B$6","v":false},{"$f":"IF(AND($A11,O11,NOT(Q11)),Table!P11,0)","v":0},{"$f":"Table!Q11<=Inputs!$B$6","v":false},{"$f":"IF(AND($A11,Q11,NOT(S11)),Table!R11,0)","v":0},{"$f":"Table!S11<=Inputs!$B$6","v":false},{"$f":"IF(AND($A11,S11,NOT(U11)),Table!T11,0)","v":0},{"$f":"Table!U11<=Inputs!$B$6","v":false},{"$f":"IF(AND($A11,U11,NOT(W11)),Table!V11,0)","v":0},{"$f":"Table!W11<=Inputs!$B$6","v":false},{"$f":"IF(AND($A11,W11,NOT(Y11)),Table!X11,0)","v":0},{"$f":"Table!Y11<=Inputs!$B$6","v":false},{"$f":"IF(AND($A11,Y11,NOT(AA11)),Table!Z11,0)","v":0},{"$f":"Table!AA11<=Inputs!$B$6","v":false},{"$f":"IF(AND($A11,AA11,NOT(AC11)),Table!AB11,0)","v":0},{"$f":"Table!AC11<=Inputs!$B$6","v":false},{"$f":"IF(AND($A11,AC11,NOT(AE11)),Table!AD11,0)","v":0},{"$f":"Table!AE11<=Inputs!$B$6","v":false},{"$f":"IF(AND($A11,AE11,NOT(AG11)),Table!AF11,0)","v":0},{"$f":"Table!AG11<=Inputs!$B$6","v":false},{"$f":"IF(AND($A11,AG11,NOT(AI11)),Table!AH11,0)","v":0}]
[false,{"$f":"Table!B12<=Inputs!B$1","v":true},{"$f":"Table!C12<=Inputs!$B$6","v":true},{"$f":"IF(AND($A12,C12,NOT(E12)),Table!D12,0)","v":0},{"$f":"Table!E12<=Inputs!$B$6","v":true},{"$f":"IF(AND($A12,E12,NOT(G12)),Table!F12,0)","v":0},{"$f":"Table!G12<=Inputs!$B$6","v":true},{"$f":"IF(AND($A12,G12,NOT(I12)),Table!H12,0)","v":0},{"$f":"Table!I12<=Inputs!$B$6","v":false},{"$f":"IF(AND($A12,I12,NOT(K12)),Table!J12,0)","v":0},{"$f":"Table!K12<=Inputs!$B$6","v":false},{"$f":"IF(AND($A12,K12,NOT(M12)),Table!L12,0)","v":0},{"$f":"Table!M12<=Inputs!$B$6","v":false},{"$f":"IF(AND($A12,M12,NOT(O12)),Table!N12,0)","v":0},{"$f":"Table!O12<=Inputs!$B$6","v":false},{"$f":"IF(AND($A12,O12,NOT(Q12)),Table!P12,0)","v":0},{"$f":"Table!Q12<=Inputs!$B$6","v":false},{"$f":"IF(AND($A12,Q12,NOT(S12)),Table!R12,0)","v":0},{"$f":"Table!S12<=Inputs!$B$6","v":false},{"$f":"IF(AND($A12,S12,NOT(U12)),Table!T12,0)","v":0},{"$f":"Table!U12<=Inputs!$B$6","v":false},{"$f":"IF(AND($A12,U12,NOT(W12)),Table!V12,0)","v":0},{"$f":"Table!W12<=Inputs!$B$6","v":false},{"$f":"IF(AND($A12,W12,NOT(Y12)),Table!X12,0)","v":0},{"$f":"Table!Y12<=Inputs!$B$6","v":false},{"$f":"IF(AND($A12,Y12,NOT(AA12)),Table!Z12,0)","v":0},{"$f":"Table!AA12<=Inputs!$B$6","v":false},{"$f":"IF(AND($A12,AA12,NOT(AC12)),Table!AB12,0)","v":0},{"$f":"Table!AC12<=Inputs!$B$6","v":false},{"$f":"IF(AND($A12,AC12,NOT(AE12)),Table!AD12,0)","v":0},{"$f":"Table!AE12<=Inputs!$B$6","v":false},{"$f":"IF(AND($A12,AE12,NOT(AG12)),Table!AF12,0)","v":0},{"$f":"Table!AG12<=Inputs!$B$6","v":false},{"$f":"IF(AND($A12,AG12,NOT(AI12)),Table!AH12,0)","v":0}]
[false,{"$f":"Table!B13<=Inputs!B$1","v":true},{"$f":"Table!C13<=Inputs!$B$6","v":true},{"$f":"IF(AND($A13,C13,NOT(E13)),Table!D13,0)","v":0},{"$f":"Table!E13<=Inputs!$B$6","v":true},{"$f":"IF(AND($A13,E13,NOT(G13)),Table!F13,0)","v":0},{"$f":"Table!G13<=Inputs!$B$6","v":true},{"$f":"IF(AND($A13,G13,NOT(I13)),Table!H13,0)","v":0},{"$f":"Table!I13<=Inputs!$B$6","v":true},{"$f":"IF(AND($A13,I13,NOT(K13)),Table!J13,0)","v":0},{"$f":"Table!K13<=Inputs!$B$6","v":false},{"$f":"IF(AND($A13,K13,NOT(M13)),Table!L13,0)","v":0},{"$f":"Table!M13<=Inputs!$B$6","v":false},{"$f":"IF(AND($A13,M13,NOT(O13)),Table!N13,0)","v":0},{"$f":"Table!O13<=Inputs!$B$6","v":false},{"$f":"IF(AND($A13,O13,NOT(Q13)),Table!P13,0)","v":0},{"$f":"Table!Q13<=Inputs!$B$6","v":false},{"$f":"IF(AND($A13,Q13,NOT(S13)),Table!R13,0)","v":0},{"$f":"Table!S13<=Inputs!$B$6","v":false},{"$f":"IF(AND($A13,S13,NOT(U13)),Table!T13,0)","v":0},{"$f":"Table!U13<=Inputs!$B$6","v":false},{"$f":"IF(AND($A13,U13,NOT(W13)),Table!V13,0)","v":0},{"$f":"Table!W13<=Inputs!$B$6","v":false},{"$f":"IF(AND($A13,W13,NOT(Y13)),Table!X13,0)","v":0},{"$f":"Table!Y13<=Inputs!$B$6","v":false},{"$f":"IF(AND($A13,Y13,NOT(AA13)),Table!Z13,0)","v":0},{"$f":"Table!AA13<=Inputs!$B$6","v":false},{"$f":"IF(AND($A13,AA13,NOT(AC13)),Table!AB13,0)","v":0},{"$f":"Table!AC13<=Inputs!$B$6","v":false},{"$f":"IF(AND($A13,AC13,NOT(AE13)),Table!AD13,0)","v":0},{"$f":"Table!AE13<=Inputs!$B$6","v":false},{"$f":"IF(AND($A13,AE13,NOT(AG13)),Table!AF13,0)","v":0},{"$f":"Table!AG13<=Inputs!$B$6","v":false},{"$f":"IF(AND($A13,AG13,NOT(AI13)),Table!AH13,0)","v":0}]
[false,{"$f":"Table!B14<=Inputs!B$1","v":true},{"$f":"Table!C14<=Inputs!$B$6","v":true},{"$f":"IF(AND($A14,C14,NOT(E14)),Table!D14,0)","v":0},{"$f":"Table!E14<=Inputs!$B$6","v":true},{"$f":"IF(AND($A14,E14,NOT(G14)),Table!F14,0)","v":0},{"$f":"Table!G14<=Inputs!$B$6","v":true},{"$f":"IF(AND($A14,G14,NOT(I14)),Table!H14,0)","v":0},{"$f":"Table!I14<=Inputs!$B$6","v":true},{"$f":"IF(AND($A14,I14,NOT(K14)),Table!J14,0)","v":0},{"$f":"Table!K14<=Inputs!$B$6","v":false},{"$f":"IF(AND($A14,K14,NOT(M14)),Table!L14,0)","v":0},{"$f":"Table!M14<=Inputs!$B$6","v":false},{"$f":"IF(AND($A14,M14,NOT(O14)),Table!N14,0)","v":0},{"$f":"Table!O14<=Inputs!$B$6","v":false},{"$f":"IF(AND($A14,O14,NOT(Q14)),Table!P14,0)","v":0},{"$f":"Table!Q14<=Inputs!$B$6","v":false},{"$f":"IF(AND($A14,Q14,NOT(S14)),Table!R14,0)","v":0},{"$f":"Table!S14<=Inputs!$B$6","v":false},{"$f":"IF(AND($A14,S14,NOT(U14)),Table!T14,0)","v":0},{"$f":"Table!U14<=Inputs!$B$6","v":false},{"$f":"IF(AND($A14,U14,NOT(W14)),Table!V14,0)","v":0},{"$f":"Table!W14<=Inputs!$B$6","v":false},{"$f":"IF(AND($A14,W14,NOT(Y14)),Table!X14,0)","v":0},{"$f":"Table!Y14<=Inputs!$B$6","v":false},{"$f":"IF(AND($A14,Y14,NOT(AA14)),Table!Z14,0)","v":0},{"$f":"Table!AA14<=Inputs!$B$6","v":false},{"$f":"IF(AND($A14,AA14,NOT(AC14)),Table!AB14,0)","v":0},{"$f":"Table!AC14<=Inputs!$B$6","v":false},{"$f":"IF(AND($A14,AC14,NOT(AE14)),Table!AD14,0)","v":0},{"$f":"Table!AE14<=Inputs!$B$6","v":false},{"$f":"IF(AND($A14,AE14,NOT(AG14)),Table!AF14,0)","v":0},{"$f":"Table!AG14<=Inputs!$B$6","v":false},{"$f":"IF(AND($A14,AG14,NOT(AI14)),Table!AH14,0)","v":0}]
[true,{"$f":"Table!B15<=Inputs!B$1","v":true},{"$f":"Table!C15<=Inputs!$B$6","v":true},{"$f":"IF(AND($A15,C15,NOT(E15)),Table!D15,0)","v":0},{"$f":"Table!E15<=Inputs!$B$6","v":true},{"$f":"IF(AND($A15,E15,NOT(G15)),Table!F15,0)","v":0},{"$f":"Table!G15<=Inputs!$B$6","v":true},{"$f":"IF(AND($A15,G15,NOT(I15)),Table!H15,0)","v":0},{"$f":"Table!I15<=Inputs!$B$6","v":true},{"$f":"IF(AND($A15,I15,NOT(K15)),Table!J15,0)","v":100},{"$f":"Table!K15<=Inputs!$B$6","v":false},{"$f":"IF(AND($A15,K15,NOT(M15)),Table!L15,0)","v":0},{"$f":"Table!M15<=Inputs!$B$6","v":false},{"$f":"IF(AND($A15,M15,NOT(O15)),Table!N15,0)","v":0},{"$f":"Table!O15<=Inputs!$B$6","v":false},{"$f":"IF(AND($A15,O15,NOT(Q15)),Table!P15,0)","v":0},{"$f":"Table!Q15<=Inputs!$B$6","v":false},{"$f":"IF(AND($A15,Q15,NOT(S15)),Table!R15,0)","v":0},{"$f":"Table!S15<=Inputs!$B$6","v":false},{"$f":"IF(AND($A15,S15,NOT(U15)),Table!T15,0)","v":0},{"$f":"Table!U15<=Inputs!$B$6","v":false},{"$f":"IF(AND($A15,U15,NOT(W15)),Table!V15,0)","v":0},{"$f":"Table!W15<=Inputs!$B$6","v":false},{"$f":"IF(AND($A15,W15,NOT(Y15)),Table!X15,0)","v":0},{"$f":"Table!Y15<=Inputs!$B$6","v":false},{"$f":"IF(AND($A15,Y15,NOT(AA15)),Table!Z15,0)","v":0},{"$f":"Table!AA15<=Inputs!$B$6","v":false},{"$f":"IF(AND($A15,AA15,NOT(AC15)),Table!AB15,0)","v":0},{"$f":"Table!AC15<=Inputs!$B$6","v":false},{"$f":"IF(AND($A15,AC15,NOT(AE15)),Table!AD15,0)","v":0},{"$f":"Table!AE15<=Inputs!$B$6","v":false},{"$f":"IF(AND($A15,AE15,NOT(AG15)),Table!AF15,0)","v":0},{"$f":"Table!AG15<=Inputs!$B$6","v":false},{"$f":"IF(AND($A15,AG15,NOT(AI15)),Table!AH15,0)","v":0}]
[false,{"$f":"Table!B16<=Inputs!B$1","v":false},{"$f":"Table!C16<=Inputs!$B$6","v":true},{"$f":"IF(AND($A16,C16,NOT(E16)),Table!D16,0)","v":0},{"$f":"Table!E16<=Inputs!$B$6","v":true},{"$f":"IF(AND($A16,E16,NOT(G16)),Table!F16,0)","v":0},{"$f":"Table!G16<=Inputs!$B$6","v":true},{"$f":"IF(AND($A16,G16,NOT(I16)),Table!H16,0)","v":0},{"$f":"Table!I16<=Inputs!$B$6","v":true},{"$f":"IF(AND($A16,I16,NOT(K16)),Table!J16,0)","v":0},{"$f":"Table!K16<=Inputs!$B$6","v":false},{"$f":"IF(AND($A16,K16,NOT(M16)),Table!L16,0)","v":0},{"$f":"Table!M16<=Inputs!$B$6","v":false},{"$f":"IF(AND($A16,M16,NOT(O16)),Table!N16,0)","v":0},{"$f":"Table!O16<=Inputs!$B$6","v":false},{"$f":"IF(AND($A16,O16,NOT(Q16)),Table!P16,0)","v":0},{"$f":"Table!Q16<=Inputs!$B$6","v":false},{"$f":"IF(AND($A16,Q16,NOT(S16)),Table!R16,0)","v":0},{"$f":"Table!S16<=Inputs!$B$6","v":false},{"$f":"IF(AND($A16,S16,NOT(U16)),Table!T16,0)","v":0},{"$f":"Table!U16<=Inputs!$B$6","v":false},{"$f":"IF(AND($A16,U16,NOT(W16)),Table!V16,0)","v":0},{"$f":"Table!W16<=Inputs!$B$6","v":false},{"$f":"IF(AND($A16,W16,NOT(Y16)),Table!X16,0)","v":0},{"$f":"Table!Y16<=Inputs!$B$6","v":false},{"$f":"IF(AND($A16,Y16,NOT(AA16)),Table!Z16,0)","v":0},{"$f":"Table!AA16<=Inputs!$B$6","v":false},{"$f":"IF(AND($A16,AA16,NOT(AC16)),Table!AB16,0)","v":0},{"$f":"Table!AC16<=Inputs!$B$6","v":false},{"$f":"IF(AND($A16,AC16,NOT(AE16)),Table!AD16,0)","v":0},{"$f":"Table!AE16<=Inputs!$B$6","v":false},{"$f":"IF(AND($A16,AE16,NOT(AG16)),Table!AF16,0)","v":0},{"$f":"Table!AG16<=Inputs!$B$6","v":false},{"$f":"IF(AND($A16,AG16,NOT(AI16)),Table!AH16,0)","v":0}]
[false,{"$f":"Table!B17<=Inputs!B$1","v":false},{"$f":"Table!C17<=Inputs!$B$6","v":true},{"$f":"IF(AND($A17,C17,NOT(E17)),Table!D17,0)","v":0},{"$f":"Table!E17<=Inputs!$B$6","v":true},{"$f":"IF(AND($A17,E17,NOT(G17)),Table!F17,0)","v":0},{"$f":"Table!G17<=Inputs!$B$6","v":true},{"$f":"IF(AND($A17,G17,NOT(I17)),Table!H17,0)","v":0},{"$f":"Table!I17<=Inputs!$B$6","v":true},{"$f":"IF(AND($A17,I17,NOT(K17)),Table!J17,0)","v":0},{"$f":"Table!K17<=Inputs!$B$6","v":false},{"$f":"IF(AND($A17,K17,NOT(M17)),Table!L17,0)","v":0},{"$f":"Table!M17<=Inputs!$B$6","v":false},{"$f":"IF(AND($A17,M17,NOT(O17)),Table!N17,0)","v":0},{"$f":"Table!O17<=Inputs!$B$6","v":false},{"$f":"IF(AND($A17,O17,NOT(Q17)),Table!P17,0)","v":0},{"$f":"Table!Q17<=Inputs!$B$6","v":false},{"$f":"IF(AND($A17,Q17,NOT(S17)),Table!R17,0)","v":0},{"$f":"Table!S17<=Inputs!$B$6","v":false},{"$f":"IF(AND($A17,S17,NOT(U17)),Table!T17,0)","v":0},{"$f":"Table!U17<=Inputs!$B$6","v":false},{"$f":"IF(AND($A17,U17,NOT(W17)),Table!V17,0)","v":0},{"$f":"Table!W17<=Inputs!$B$6","v":false},{"$f":"IF(AND($A17,W17,NOT(Y17)),Table!X17,0)","v":0},{"$f":"Table!Y17<=Inputs!$B$6","v":false},{"$f":"IF(AND($A17,Y17,NOT(AA17)),Table!Z17,0)","v":0},{"$f":"Table!AA17<=Inputs!$B$6","v":false},{"$f":"IF(AND($A17,AA17,NOT(AC17)),Table!AB17,0)","v":0},{"$f":"Table!AC17<=Inputs!$B$6","v":false},{"$f":"IF(AND($A17,AC17,NOT(AE17)),Table!AD17,0)","v":0},{"$f":"Table!AE17<=Inputs!$B$6","v":false},{"$f":"IF(AND($A17,AE17,NOT(AG17)),Table!AF17,0)","v":0},{"$f":"Table!AG17<=Inputs!$B$6","v":false},{"$f":"IF(AND($A17,AG17,NOT(AI17)),Table!AH17,0)","v":0}]
[false,{"$f":"Table!B18<=Inputs!B$1","v":false},{"$f":"Table!C18<=Inputs!$B$6","v":true},{"$f":"IF(AND($A18,C18,NOT(E18)),Table!D18,0)","v":0},{"$f":"Table!E18<=Inputs!$B$6","v":true},{"$f":"IF(AND($A18,E18,NOT(G18)),Table!F18,0)","v":0},{"$f":"Table!G18<=Inputs!$B$6","v":true},{"$f":"IF(AND($A18,G18,NOT(I18)),Table!H18,0)","v":0},{"$f":"Table!I18<=Inputs!$B$6","v":true},{"$f":"IF(AND($A18,I18,NOT(K18)),Table!J18,0)","v":0},{"$f":"Table!K18<=Inputs!$B$6","v":true},{"$f":"IF(AND($A18,K18,NOT(M18)),Table!L18,0)","v":0},{"$f":"Table!M18<=Inputs!$B$6","v":false},{"$f":"IF(AND($A18,M18,NOT(O18)),Table!N18,0)","v":0},{"$f":"Table!O18<=Inputs!$B$6","v":false},{"$f":"IF(AND($A18,O18,NOT(Q18)),Table!P18,0)","v":0},{"$f":"Table!Q18<=Inputs!$B$6","v":false},{"$f":"IF(AND($A18,Q18,NOT(S18)),Table!R18,0)","v":0},{"$f":"Table!S18<=Inputs!$B$6","v":false},{"$f":"IF(AND($A18,S18,NOT(U18)),Table!T18,0)","v":0},{"$f":"Table!U18<=Inputs!$B$6","v":false},{"$f":"IF(AND($A18,U18,NOT(W18)),Table!V18,0)","v":0},{"$f":"Table!W18<=Inputs!$B$6","v":false},{"$f":"IF(AND($A18,W18,NOT(Y18)),Table!X18,0)","v":0},{"$f":"Table!Y18<=Inputs!$B$6","v":false},{"$f":"IF(AND($A18,Y18,NOT(AA18)),Table!Z18,0)","v":0},{"$f":"Table!AA18<=Inputs!$B$6","v":false},{"$f":"IF(AND($A18,AA18,NOT(AC18)),Table!AB18,0)","v":0},{"$f":"Table!AC18<=Inputs!$B$6","v":false},{"$f":"IF(AND($A18,AC18,NOT(AE18)),Table!AD18,0)","v":0},{"$f":"Table!AE18<=Inputs!$B$6","v":false},{"$f":"IF(AND($A18,AE18,NOT(AG18)),Table!AF18,0)","v":0},{"$f":"Table!AG18<=Inputs!$B$6","v":false},{"$f":"IF(AND($A18,AG18,NOT(AI18)),Table!AH18,0)","v":0}]
[false,{"$f":"Table!B19<=Inputs!B$1","v":false},{"$f":"Table!C19<=Inputs!$B$6","v":true},{"$f":"IF(AND($A19,C19,NOT(E19)),Table!D19,0)","v":0},{"$f":"Table!E19<=Inputs!$B$6","v":true},{"$f":"IF(AND($A19,E19,NOT(G19)),Table!F19,0)","v":0},{"$f":"Table!G19<=Inputs!$B$6","v":true},{"$f":"IF(AND($A19,G19,NOT(I19)),Table!H19,0)","v":0},{"$f":"Table!I19<=Inputs!$B$6","v":true},{"$f":"IF(AND($A19,I19,NOT(K19)),Table!J19,0)","v":0},{"$f":"Table!K19<=Inputs!$B$6","v":true},{"$f":"IF(AND($A19,K19,NOT(M19)),Table!L19,0)","v":0},{"$f":"Table!M19<=Inputs!$B$6","v":false},{"$f":"IF(AND($A19,M19,NOT(O19)),Table!N19,0)","v":0},{"$f":"Table!O19<=Inputs!$B$6","v":false},{"$f":"IF(AND($A19,O19,NOT(Q19)),Table!P19,0)","v":0},{"$f":"Table!Q19<=Inputs!$B$6","v":false},{"$f":"IF(AND($A19,Q19,NOT(S19)),Table!R19,0)","v":0},{"$f":"Table!S19<=Inputs!$B$6","v":false},{"$f":"IF(AND($A19,S19,NOT(U19)),Table!T19,0)","v":0},{"$f":"Table!U19<=Inputs!$B$6","v":false},{"$f":"IF(AND($A19,U19,NOT(W19)),Table!V19,0)","v":0},{"$f":"Table!W19<=Inputs!$B$6","v":false},{"$f":"IF(AND($A19,W19,NOT(Y19)),Table!X19,0)","v":0},{"$f":"Table!Y19<=Inputs!$B$6","v":false},{"$f":"IF(AND($A19,Y19,NOT(AA19)),Table!Z19,0)","v":0},{"$f":"Table!AA19<=Inputs!$B$6","v":false},{"$f":"IF(AND($A19,AA19,NOT(AC19)),Table!AB19,0)","v":0},{"$f":"Table!AC19<=Inputs!$B$6","v":false},{"$f":"IF(AND($A19,AC19,NOT(AE19)),Table!AD19,0)","v":0},{"$f":"Table!AE19<=Inputs!$B$6","v":false},{"$f":"IF(AND($A19,AE19,NOT(AG19)),Table!AF19,0)","v":0},{"$f":"Table!AG19<=Inputs!$B$6","v":false},{"$f":"IF(AND($A19,AG19,NOT(AI19)),Table!AH19,0)","v":0}]
[false,{"$f":"Table!B20<=Inputs!B$1","v":false},{"$f":"Table!C20<=Inputs!$B$6","v":true},{"$f":"IF(AND($A20,C20,NOT(E20)),Table!D20,0)","v":0},{"$f":"Table!E20<=Inputs!$B$6","v":true},{"$f":"IF(AND($A20,E20,NOT(G20)),Table!F20,0)","v":0},{"$f":"Table!G20<=Inputs!$B$6","v":true},{"$f":"IF(AND($A20,G20,NOT(I20)),Table!H20,0)","v":0},{"$f":"Table!I20<=Inputs!$B$6","v":true},{"$f":"IF(AND($A20,I20,NOT(K20)),Table!J20,0)","v":0},{"$f":"Table!K20<=Inputs!$B$6","v":true},{"$f":"IF(AND($A20,K20,NOT(M20)),Table!L20,0)","v":0},{"$f":"Table!M20<=Inputs!$B$6","v":false},{"$f":"IF(AND($A20,M20,NOT(O20)),Table!N20,0)","v":0},{"$f":"Table!O20<=Inputs!$B$6","v":false},{"$f":"IF(AND($A20,O20,NOT(Q20)),Table!P20,0)","v":0},{"$f":"Table!Q20<=Inputs!$B$6","v":false},{"$f":"IF(AND($A20,Q20,NOT(S20)),Table!R20,0)","v":0},{"$f":"Table!S20<=Inputs!$B$6","v":false},{"$f":"IF(AND($A20,S20,NOT(U20)),Table!T20,0)","v":0},{"$f":"Table!U20<=Inputs!$B$6","v":false},{"$f":"IF(AND($A20,U20,NOT(W20)),Table!V20,0)","v":0},{"$f":"Table!W20<=Inputs!$B$6","v":false},{"$f":"IF(AND($A20,W20,NOT(Y20)),Table!X20,0)","v":0},{"$f":"Table!Y20<=Inputs!$B$6","v":false},{"$f":"IF(AND($A20,Y20,NOT(AA20)),Table!Z20,0)","v":0},{"$f":"Table!AA20<=Inputs!$B$6","v":false},{"$f":"IF(AND($A20,AA20,NOT(AC20)),Table!AB20,0)","v":0},{"$f":"Table!AC20<=Inputs!$B$6","v":false},{"$f":"IF(AND($A20,AC20,NOT(AE20)),Table!AD20,0)","v":0},{"$f":"Table!AE20<=Inputs!$B$6","v":false},{"$f":"IF(AND($A20,AE20,NOT(AG20)),Table!AF20,0)","v":0},{"$f":"Table!AG20<=Inputs!$B$6","v":false},{"$f":"IF(AND($A20,AG20,NOT(AI20)),Table!AH20,0)","v":0}]
[false,{"$f":"Table!B21<=Inputs!B$1","v":false},{"$f":"Table!C21<=Inputs!$B$6","v":true},{"$f":"IF(AND($A21,C21,NOT(E21)),Table!D21,0)","v":0},{"$f":"Table!E21<=Inputs!$B$6","v":true},{"$f":"IF(AND($A21,E21,NOT(G21)),Table!F21,0)","v":0},{"$f":"Table!G21<=Inputs!$B$6","v":true},{"$f":"IF(AND($A21,G21,NOT(I21)),Table!H21,0)","v":0},{"$f":"Table!I21<=Inputs!$B$6","v":true},{"$f":"IF(AND($A21,I21,NOT(K21)),Table!J21,0)","v":0},{"$f":"Table!K21<=Inputs!$B$6","v":true},{"$f":"IF(AND($A21,K21,NOT(M21)),Table!L21,0)","v":0},{"$f":"Table!M21<=Inputs!$B$6","v":false},{"$f":"IF(AND($A21,M21,NOT(O21)),Table!N21,0)","v":0},{"$f":"Table!O21<=Inputs!$B$6","v":false},{"$f":"IF(AND($A21,O21,NOT(Q21)),Table!P21,0)","v":0},{"$f":"Table!Q21<=Inputs!$B$6","v":false},{"$f":"IF(AND($A21,Q21,NOT(S21)),Table!R21,0)","v":0},{"$f":"Table!S21<=Inputs!$B$6","v":false},{"$f":"IF(AND($A21,S21,NOT(U21)),Table!T21,0)","v":0},{"$f":"Table!U21<=Inputs!$B$6","v":false},{"$f":"IF(AND($A21,U21,NOT(W21)),Table!V21,0)","v":0},{"$f":"Table!W21<=Inputs!$B$6","v":false},{"$f":"IF(AND($A21,W21,NOT(Y21)),Table!X21,0)","v":0},{"$f":"Table!Y21<=Inputs!$B$6","v":false},{"$f":"IF(AND($A21,Y21,NOT(AA21)),Table!Z21,0)","v":0},{"$f":"Table!AA21<=Inputs!$B$6","v":false},{"$f":"IF(AND($A21,AA21,NOT(AC21)),Table!AB21,0)","v":0},{"$f":"Table!AC21<=Inputs!$B$6","v":false},{"$f":"IF(AND($A21,AC21,NOT(AE21)),Table!AD21,0)","v":0},{"$f":"Table!AE21<=Inputs!$B$6","v":false},{"$f":"IF(AND($A21,AE21,NOT(AG21)),Table!AF21,0)","v":0},{"$f":"Table!AG21<=Inputs!$B$6","v":false},{"$f":"IF(AND($A21,AG21,NOT(AI21)),Table!AH21,0)","v":0}]
[false,{"$f":"Table!B22<=Inputs!B$1","v":false},{"$f":"Table!C22<=Inputs!$B$6","v":true},{"$f":"IF(AND($A22,C22,NOT(E22)),Table!D22,0)","v":0},{"$f":"Table!E22<=Inputs!$B$6","v":true},{"$f":"IF(AND($A22,E22,NOT(G22)),Table!F22,0)","v":0},{"$f":"Table!G22<=Inputs!$B$6","v":true},{"$f":"IF(AND($A22,G22,NOT(I22)),Table!H22,0)","v":0},{"$f":"Table!I22<=Inputs!$B$6","v":true},{"$f":"IF(AND($A22,I22,NOT(K22)),Table!J22,0)","v":0},{"$f":"Table!K22<=Inputs!$B$6","v":true},{"$f":"IF(AND($A22,K22,NOT(M22)),Table!L22,0)","v":0},{"$f":"Table!M22<=Inputs!$B$6","v":true},{"$f":"IF(AND($A22,M22,NOT(O22)),Table!N22,0)","v":0},{"$f":"Table!O22<=Inputs!$B$6","v":false},{"$f":"IF(AND($A22,O22,NOT(Q22)),Table!P22,0)","v":0},{"$f":"Table!Q22<=Inputs!$B$6","v":false},{"$f":"IF(AND($A22,Q22,NOT(S22)),Table!R22,0)","v":0},{"$f":"Table!S22<=Inputs!$B$6","v":false},{"$f":"IF(AND($A22,S22,NOT(U22)),Table!T22,0)","v":0},{"$f":"Table!U22<=Inputs!$B$6","v":false},{"$f":"IF(AND($A22,U22,NOT(W22)),Table!V22,0)","v":0},{"$f":"Table!W22<=Inputs!$B$6","v":false},{"$f":"IF(AND($A22,W22,NOT(Y22)),Table!X22,0)","v":0},{"$f":"Table!Y22<=Inputs!$B$6","v":false},{"$f":"IF(AND($A22,Y22,NOT(AA22)),Table!Z22,0)","v":0},{"$f":"Table!AA22<=Inputs!$B$6","v":false},{"$f":"IF(AND($A22,AA22,NOT(AC22)),Table!AB22,0)","v":0},{"$f":"Table!AC22<=Inputs!$B$6","v":false},{"$f":"IF(AND($A22,AC22,NOT(AE22)),Table!AD22,0)","v":0},{"$f":"Table!AE22<=Inputs!$B$6","v":false},{"$f":"IF(AND($A22,AE22,NOT(AG22)),Table!AF22,0)","v":0},{"$f":"Table!AG22<=Inputs!$B$6","v":false},{"$f":"IF(AND($A22,AG22,NOT(AI22)),Table!AH22,0)","v":0}]
[false,{"$f":"Table!B23<=Inputs!B$1","v":false},{"$f":"Table!C23<=Inputs!$B$6","v":true},{"$f":"IF(AND($A23,C23,NOT(E23)),Table!D23,0)","v":0},{"$f":"Table!E23<=Inputs!$B$6","v":true},{"$f":"IF(AND($A23,E23,NOT(G23)),Table!F23,0)","v":0},{"$f":"Table!G23<=Inputs!$B$6","v":true},{"$f":"IF(AND($A23,G23,NOT(I23)),Table!H23,0)","v":0},{"$f":"Table!I23<=Inputs!$B$6","v":true},{"$f":"IF(AND($A23,I23,NOT(K23)),Table!J23,0)","v":0},{"$f":"Table!K23<=Inputs!$B$6","v":true},{"$f":"IF(AND($A23,K23,NOT(M23)),Table!L23,0)","v":0},{"$f":"Table!M23<=Inputs!$B$6","v":true},{"$f":"IF(AND($A23,M23,NOT(O23)),Table!N23,0)","v":0},{"$f":"Table!O23<=Inputs!$B$6","v":false},{"$f":"IF(AND($A23,O23,NOT(Q23)),Table!P23,0)","v":0},{"$f":"Table!Q23<=Inputs!$B$6","v":false},{"$f":"IF(AND($A23,Q23,NOT(S23)),Table!R23,0)","v":0},{"$f":"Table!S23<=Inputs!$B$6","v":false},{"$f":"IF(AND($A23,S23,NOT(U23)),Table!T23,0)","v":0},{"$f":"Table!U23<=Inputs!$B$6","v":false},{"$f":"IF(AND($A23,U23,NOT(W23)),Table!V23,0)","v":0},{"$f":"Table!W23<=Inputs!$B$6","v":false},{"$f":"IF(AND($A23,W23,NOT(Y23)),Table!X23,0)","v":0},{"$f":"Table!Y23<=Inputs!$B$6","v":false},{"$f":"IF(AND($A23,Y23,NOT(AA23)),Table!Z23,0)","v":0},{"$f":"Table!AA23<=Inputs!$B$6","v":false},{"$f":"IF(AND($A23,AA23,NOT(AC23)),Table!AB23,0)","v":0},{"$f":"Table!AC23<=Inputs!$B$6","v":false},{"$f":"IF(AND($A23,AC23,NOT(AE23)),Table!AD23,0)","v":0},{"$f":"Table!AE23<=Inputs!$B$6","v":false},{"$f":"IF(AND($A23,AE23,NOT(AG23)),Table!AF23,0)","v":0},{"$f":"Table!AG23<=Inputs!$B$6","v":false},{"$f":"IF(AND($A23,AG23,NOT(AI23)),Table!AH23,0)","v":0}]
[false,{"$f":"Table!B24<=Inputs!B$1","v":false},{"$f":"Table!C24<=Inputs!$B$6","v":true},{"$f":"IF(AND($A24,C24,NOT(E24)),Table!D24,0)","v":0},{"$f":"Table!E24<=Inputs!$B$6","v":true},{"$f":"IF(AND($A24,E24,NOT(G24)),Table!F24,0)","v":0},{"$f":"Table!G24<=Inputs!$B$6","v":true},{"$f":"IF(AND($A24,G24,NOT(I24)),Table!H24,0)","v":0},{"$f":"Table!I24<=Inputs!$B$6","v":true},{"$f":"IF(AND($A24,I24,NOT(K24)),Table!J24,0)","v":0},{"$f":"Table!K24<=Inputs!$B$6","v":true},{"$f":"IF(AND($A24,K24,NOT(M24)),Table!L24,0)","v":0},{"$f":"Table!M24<=Inputs!$B$6","v":true},{"$f":"IF(AND($A24,M24,NOT(O24)),Table!N24,0)","v":0},{"$f":"Table!O24<=Inputs!$B$6","v":false},{"$f":"IF(AND($A24,O24,NOT(Q24)),Table!P24,0)","v":0},{"$f":"Table!Q24<=Inputs!$B$6","v":false},{"$f":"IF(AND($A24,Q24,NOT(S24)),Table!R24,0)","v":0},{"$f":"Table!S24<=Inputs!$B$6","v":false},{"$f":"IF(AND($A24,S24,NOT(U24)),Table!T24,0)","v":0},{"$f":"Table!U24<=Inputs!$B$6","v":false},{"$f":"IF(AND($A24,U24,NOT(W24)),Table!V24,0)","v":0},{"$f":"Table!W24<=Inputs!$B$6","v":false},{"$f":"IF(AND($A24,W24,NOT(Y24)),Table!X24,0)","v":0},{"$f":"Table!Y24<=Inputs!$B$6","v":false},{"$f":"IF(AND($A24,Y24,NOT(AA24)),Table!Z24,0)","v":0},{"$f":"Table!AA24<=Inputs!$B$6","v":false},{"$f":"IF(AND($A24,AA24,NOT(AC24)),Table!AB24,0)","v":0},{"$f":"Table!AC24<=Inputs!$B$6","v":false},{"$f":"IF(AND($A24,AC24,NOT(AE24)),Table!AD24,0)","v":0},{"$f":"Table!AE24<=Inputs!$B$6","v":false},{"$f":"IF(AND($A24,AE24,NOT(AG24)),Table!AF24,0)","v":0},{"$f":"Table!AG24<=Inputs!$B$6","v":false},{"$f":"IF(AND($A24,AG24,NOT(AI24)),Table!AH24,0)","v":0}]
[false,{"$f":"Table!B25<=Inputs!B$1","v":false},{"$f":"Table!C25<=Inputs!$B$6","v":true},{"$f":"IF(AND($A25,C25,NOT(E25)),Table!D25,0)","v":0},{"$f":"Table!E25<=Inputs!$B$6","v":true},{"$f":"IF(AND($A25,E25,NOT(G25)),Table!F25,0)","v":0},{"$f":"Table!G25<=Inputs!$B$6","v":true},{"$f":"IF(AND($A25,G25,NOT(I25)),Table!H25,0)","v":0},{"$f":"Table!I25<=Inputs!$B$6","v":true},{"$f":"IF(AND($A25,I25,NOT(K25)),Table!J25,0)","v":0},{"$f":"Table!K25<=Inputs!$B$6","v":true},{"$f":"IF(AND($A25,K25,NOT(M25)),Table!L25,0)","v":0},{"$f":"Table!M25<=Inputs!$B$6","v":true},{"$f":"IF(AND($A25,M25,NOT(O25)),Table!N25,0)","v":0},{"$f":"Table!O25<=Inputs!$B$6","v":false},{"$f":"IF(AND($A25,O25,NOT(Q25)),Table!P25,0)","v":0},{"$f":"Table!Q25<=Inputs!$B$6","v":false},{"$f":"IF(AND($A25,Q25,NOT(S25)),Table!R25,0)","v":0},{"$f":"Table!S25<=Inputs!$B$6","v":false},{"$f":"IF(AND($A25,S25,NOT(U25)),Table!T25,0)","v":0},{"$f":"Table!U25<=Inputs!$B$6","v":false},{"$f":"IF(AND($A25,U25,NOT(W25)),Table!V25,0)","v":0},{"$f":"Table!W25<=Inputs!$B$6","v":false},{"$f":"IF(AND($A25,W25,NOT(Y25)),Table!X25,0)","v":0},{"$f":"Table!Y25<=Inputs!$B$6","v":false},{"$f":"IF(AND($A25,Y25,NOT(AA25)),Table!Z25,0)","v":0},{"$f":"Table!AA25<=Inputs!$B$6","v":false},{"$f":"IF(AND($A25,AA25,NOT(AC25)),Table!AB25,0)","v":0},{"$f":"Table!AC25<=Inputs!$B$6","v":false},{"$f":"IF(AND($A25,AC25,NOT(AE25)),Table!AD25,0)","v":0},{"$f":"Table!AE25<=Inputs!$B$6","v":false},{"$f":"IF(AND($A25,AE25,NOT(AG25)),Table!AF25,0)","v":0},{"$f":"Table!AG25<=Inputs!$B$6","v":false},{"$f":"IF(AND($A25,AG25,NOT(AI25)),Table!AH25,0)","v":0}]
[false,{"$f":"Table!B26<=Inputs!B$1","v":false},{"$f":"Table!C26<=Inputs!$B$6","v":true},{"$f":"IF(AND($A26,C26,NOT(E26)),Table!D26,0)","v":0},{"$f":"Table!E26<=Inputs!$B$6","v":true},{"$f":"IF(AND($A26,E26,NOT(G26)),Table!F26,0)","v":0},{"$f":"Table!G26<=Inputs!$B$6","v":true},{"$f":"IF(AND($A26,G26,NOT(I26)),Table!H26,0)","v":0},{"$f":"Table!I26<=Inputs!$B$6","v":true},{"$f":"IF(AND($A26,I26,NOT(K26)),Table!J26,0)","v":0},{"$f":"Table!K26<=Inputs!$B$6","v":true},{"$f":"IF(AND($A26,K26,NOT(M26)),Table!L26,0)","v":0},{"$f":"Table!M26<=Inputs!$B$6","v":true},{"$f":"IF(AND($A26,M26,NOT(O26)),Table!N26,0)","v":0},{"$f":"Table!O26<=Inputs!$B$6","v":false},{"$f":"IF(AND($A26,O26,NOT(Q26)),Table!P26,0)","v":0},{"$f":"Table!Q26<=Inputs!$B$6","v":false},{"$f":"IF(AND($A26,Q26,NOT(S26)),Table!R26,0)","v":0},{"$f":"Table!S26<=Inputs!$B$6","v":false},{"$f":"IF(AND($A26,S26,NOT(U26)),Table!T26,0)","v":0},{"$f":"Table!U26<=Inputs!$B$6","v":false},{"$f":"IF(AND($A26,U26,NOT(W26)),Table!V26,0)","v":0},{"$f":"Table!W26<=Inputs!$B$6","v":false},{"$f":"IF(AND($A26,W26,NOT(Y26)),Table!X26,0)","v":0},{"$f":"Table!Y26<=Inputs!$B$6","v":false},{"$f":"IF(AND($A26,Y26,NOT(AA26)),Table!Z26,0)","v":0},{"$f":"Table!AA26<=Inputs!$B$6","v":false},{"$f":"IF(AND($A26,AA26,NOT(AC26)),Table!AB26,0)","v":0},{"$f":"Table!AC26<=Inputs!$B$6","v":false},{"$f":"IF(AND($A26,AC26,NOT(AE26)),Table!AD26,0)","v":0},{"$f":"Table!AE26<=Inputs!$B$6","v":false},{"$f":"IF(AND($A26,AE26,NOT(AG26)),Table!AF26,0)","v":0},{"$f":"Table!AG26<=Inputs!$B$6","v":false},{"$f":"IF(AND($A26,AG26,NOT(AI26)),Table!AH26,0)","v":0}]
[false,{"$f":"Table!B27<=Inputs!B$1","v":false},{"$f":"Table!C27<=Inputs!$B$6","v":true},{"$f":"IF(AND($A27,C27,NOT(E27)),Table!D27,0)","v":0},{"$f":"Table!E27<=Inputs!$B$6","v":true},{"$f":"IF(AND($A27,E27,NOT(G27)),Table!F27,0)","v":0},{"$f":"Table!G27<=Inputs!$B$6","v":true},{"$f":"IF(AND($A27,G27,NOT(I27)),Table!H27,0)","v":0},{"$f":"Table!I27<=Inputs!$B$6","v":true},{"$f":"IF(AND($A27,I27,NOT(K27)),Table!J27,0)","v":0},{"$f":"Table!K27<=Inputs!$B$6","v":true},{"$f":"IF(AND($A27,K27,NOT(M27)),Table!L27,0)","v":0},{"$f":"Table!M27<=Inputs!$B$6","v":true},{"$f":"IF(AND($A27,M27,NOT(O27)),Table!N27,0)","v":0},{"$f":"Table!O27<=Inputs!$B$6","v":true},{"$f":"IF(AND($A27,O27,NOT(Q27)),Table!P27,0)","v":0},{"$f":"Table!Q27<=Inputs!$B$6","v":false},{"$f":"IF(AND($A27,Q27,NOT(S27)),Table!R27,0)","v":0},{"$f":"Table!S27<=Inputs!$B$6","v":false},{"$f":"IF(AND($A27,S27,NOT(U27)),Table!T27,0)","v":0},{"$f":"Table!U27<=Inputs!$B$6","v":false},{"$f":"IF(AND($A27,U27,NOT(W27)),Table!V27,0)","v":0},{"$f":"Table!W27<=Inputs!$B$6","v":false},{"$f":"IF(AND($A27,W27,NOT(Y27)),Table!X27,0)","v":0},{"$f":"Table!Y27<=Inputs!$B$6","v":false},{"$f":"IF(AND($A27,Y27,NOT(AA27)),Table!Z27,0)","v":0},{"$f":"Table!AA27<=Inputs!$B$6","v":false},{"$f":"IF(AND($A27,AA27,NOT(AC27)),Table!AB27,0)","v":0},{"$f":"Table!AC27<=Inputs!$B$6","v":false},{"$f":"IF(AND($A27,AC27,NOT(AE27)),Table!AD27,0)","v":0},{"$f":"Table!AE27<=Inputs!$B$6","v":false},{"$f":"IF(AND($A27,AE27,NOT(AG27)),Table!AF27,0)","v":0},{"$f":"Table!AG27<=Inputs!$B$6","v":false},{"$f":"IF(AND($A27,AG27,NOT(AI27)),Table!AH27,0)","v":0}]
[false,{"$f":"Table!B28<=Inputs!B$1","v":false},{"$f":"Table!C28<=Inputs!$B$6","v":true},{"$f":"IF(AND($A28,C28,NOT(E28)),Table!D28,0)","v":0},{"$f":"Table!E28<=Inputs!$B$6","v":true},{"$f":"IF(AND($A28,E28,NOT(G28)),Table!F28,0)","v":0},{"$f":"Table!G28<=Inputs!$B$6","v":true},{"$f":"IF(AND($A28,G28,NOT(I28)),Table!H28,0)","v":0},{"$f":"Table!I28<=Inputs!$B$6","v":true},{"$f":"IF(AND($A28,I28,NOT(K28)),Table!J28,0)","v":0},{"$f":"Table!K28<=Inputs!$B$6","v":true},{"$f":"IF(AND($A28,K28,NOT(M28)),Table!L28,0)","v":0},{"$f":"Table!M28<=Inputs!$B$6","v":true},{"$f":"IF(AND($A28,M28,NOT(O28)),Table!N28,0)","v":0},{"$f":"Table!O28<=Inputs!$B$6","v":true},{"$f":"IF(AND($A28,O28,NOT(Q28)),Table!P28,0)","v":0},{"$f":"Table!Q28<=Inputs!$B$6","v":false},{"$f":"IF(AND($A28,Q28,NOT(S28)),Table!R28,0)","v":0},{"$f":"Table!S28<=Inputs!$B$6","v":false},{"$f":"IF(AND($A28,S28,NOT(U28)),Table!T28,0)","v":0},{"$f":"Table!U28<=Inputs!$B$6","v":false},{"$f":"IF(AND($A28,U28,NOT(W28)),Table!V28,0)","v":0},{"$f":"Table!W28<=Inputs!$B$6","v":false},{"$f":"IF(AND($A28,W28,NOT(Y28)),Table!X28,0)","v":0},{"$f":"Table!Y28<=Inputs!$B$6","v":false},{"$f":"IF(AND($A28,Y28,NOT(AA28)),Table!Z28,0)","v":0},{"$f":"Table!AA28<=Inputs!$B$6","v":false},{"$f":"IF(AND($A28,AA28,NOT(AC28)),Table!AB28,0)","v":0},{"$f":"Table!AC28<=Inputs!$B$6","v":false},{"$f":"IF(AND($A28,AC28,NOT(AE28)),Table!AD28,0)","v":0},{"$f":"Table!AE28<=Inputs!$B$6","v":false},{"$f":"IF(AND($A28,AE28,NOT(AG28)),Table!AF28,0)","v":0},{"$f":"Table!AG28<=Inputs!$B$6","v":false},{"$f":"IF(AND($A28,AG28,NOT(AI28)),Table!AH28,0)","v":0}]
[false,{"$f":"Table!B29<=Inputs!B$1","v":false},{"$f":"Table!C29<=Inputs!$B$6","v":true},{"$f":"IF(AND($A29,C29,NOT(E29)),Table!D29,0)","v":0},{"$f":"Table!E29<=Inputs!$B$6","v":true},{"$f":"IF(AND($A29,E29,NOT(G29)),Table!F29,0)","v":0},{"$f":"Table!G29<=Inputs!$B$6","v":true},{"$f":"IF(AND($A29,G29,NOT(I29)),Table!H29,0)","v":0},{"$f":"Table!I29<=Inputs!$B$6","v":true},{"$f":"IF(AND($A29,I29,NOT(K29)),Table!J29,0)","v":0},{"$f":"Table!K29<=Inputs!$B$6","v":true},{"$f":"IF(AND($A29,K29,NOT(M29)),Table!L29,0)","v":0},{"$f":"Table!M29<=Inputs!$B$6","v":true},{"$f":"IF(AND($A29,M29,NOT(O29)),Table!N29,0)","v":0},{"$f":"Table!O29<=Inputs!$B$6","v":true},{"$f":"IF(AND($A29,O29,NOT(Q29)),Table!P29,0)","v":0},{"$f":"Table!Q29<=Inputs!$B$6","v":false},{"$f":"IF(AND($A29,Q29,NOT(S29)),Table!R29,0)","v":0},{"$f":"Table!S29<=Inputs!$B$6","v":false},{"$f":"IF(AND($A29,S29,NOT(U29)),Table!T29,0)","v":0},{"$f":"Table!U29<=Inputs!$B$6","v":false},{"$f":"IF(AND($A29,U29,NOT(W29)),Table!V29,0)","v":0},{"$f":"Table!W29<=Inputs!$B$6","v":false},{"$f":"IF(AND($A29,W29,NOT(Y29)),Table!X29,0)","v":0},{"$f":"Table!Y29<=Inputs!$B$6","v":false},{"$f":"IF(AND($A29,Y29,NOT(AA29)),Table!Z29,0)","v":0},{"$f":"Table!AA29<=Inputs!$B$6","v":false},{"$f":"IF(AND($A29,AA29,NOT(AC29)),Table!AB29,0)","v":0},{"$f":"Table!AC29<=Inputs!$B$6","v":false},{"$f":"IF(AND($A29,AC29,NOT(AE29)),Table!AD29,0)","v":0},{"$f":"Table!AE29<=Inputs!$B$6","v":false},{"$f":"IF(AND($A29,AE29,NOT(AG29)),Table!AF29,0)","v":0},{"$f":"Table!AG29<=Inputs!$B$6","v":false},{"$f":"IF(AND($A29,AG29,NOT(AI29)),Table!AH29,0)","v":0}]
[false,{"$f":"Table!B30<=Inputs!B$1","v":false},{"$f":"Table!C30<=Inputs!$B$6","v":true},{"$f":"IF(AND($A30,C30,NOT(E30)),Table!D30,0)","v":0},{"$f":"Table!E30<=Inputs!$B$6","v":true},{"$f":"IF(AND($A30,E30,NOT(G30)),Table!F30,0)","v":0},{"$f":"Table!G30<=Inputs!$B$6","v":true},{"$f":"IF(AND($A30,G30,NOT(I30)),Table!H30,0)","v":0},{"$f":"Table!I30<=Inputs!$B$6","v":true},{"$f":"IF(AND($A30,I30,NOT(K30)),Table!J30,0)","v":0},{"$f":"Table!K30<=Inputs!$B$6","v":true},{"$f":"IF(AND($A30,K30,NOT(M30)),Table!L30,0)","v":0},{"$f":"Table!M30<=Inputs!$B$6","v":true},{"$f":"IF(AND($A30,M30,NOT(O30)),Table!N30,0)","v":0},{"$f":"Table!O30<=Inputs!$B$6","v":true},{"$f":"IF(AND($A30,O30,NOT(Q30)),Table!P30,0)","v":0},{"$f":"Table!Q30<=Inputs!$B$6","v":false},{"$f":"IF(AND($A30,Q30,NOT(S30)),Table!R30,0)","v":0},{"$f":"Table!S30<=Inputs!$B$6","v":false},{"$f":"IF(AND($A30,S30,NOT(U30)),Table!T30,0)","v":0},{"$f":"Table!U30<=Inputs!$B$6","v":false},{"$f":"IF(AND($A30,U30,NOT(W30)),Table!V30,0)","v":0},{"$f":"Table!W30<=Inputs!$B$6","v":false},{"$f":"IF(AND($A30,W30,NOT(Y30)),Table!X30,0)","v":0},{"$f":"Table!Y30<=Inputs!$B$6","v":false},{"$f":"IF(AND($A30,Y30,NOT(AA30)),Table!Z30,0)","v":0},{"$f":"Table!AA30<=Inputs!$B$6","v":false},{"$f":"IF(AND($A30,AA30,NOT(AC30)),Table!AB30,0)","v":0},{"$f":"Table!AC30<=Inputs!$B$6","v":false},{"$f":"IF(AND($A30,AC30,NOT(AE30)),Table!AD30,0)","v":0},{"$f":"Table!AE30<=Inputs!$B$6","v":false},{"$f":"IF(AND($A30,AE30,NOT(AG30)),Table!AF30,0)","v":0},{"$f":"Table!AG30<=Inputs!$B$6","v":false},{"$f":"IF(AND($A30,AG30,NOT(AI30)),Table!AH30,0)","v":0}]
[false,{"$f":"Table!B31<=Inputs!B$1","v":false},{"$f":"Table!C31<=Inputs!$B$6","v":true},{"$f":"IF(AND($A31,C31,NOT(E31)),Table!D31,0)","v":0},{"$f":"Table!E31<=Inputs!$B$6","v":true},{"$f":"IF(AND($A31,E31,NOT(G31)),Table!F31,0)","v":0},{"$f":"Table!G31<=Inputs!$B$6","v":true},{"$f":"IF(AND($A31,G31,NOT(I31)),Table!H31,0)","v":0},{"$f":"Table!I31<=Inputs!$B$6","v":true},{"$f":"IF(AND($A31,I31,NOT(K31)),Table!J31,0)","v":0},{"$f":"Table!K31<=Inputs!$B$6","v":true},{"$f":"IF(AND($A31,K31,NOT(M31)),Table!L31,0)","v":0},{"$f":"Table!M31<=Inputs!$B$6","v":true},{"$f":"IF(AND($A31,M31,NOT(O31)),Table!N31,0)","v":0},{"$f":"Table!O31<=Inputs!$B$6","v":true},{"$f":"IF(AND($A31,O31,NOT(Q31)),Table!P31,0)","v":0},{"$f":"Table!Q31<=Inputs!$B$6","v":true},{"$f":"IF(AND($A31,Q31,NOT(S31)),Table!R31,0)","v":0},{"$f":"Table!S31<=Inputs!$B$6","v":false},{"$f":"IF(AND($A31,S31,NOT(U31)),Table!T31,0)","v":0},{"$f":"Table!U31<=Inputs!$B$6","v":false},{"$f":"IF(AND($A31,U31,NOT(W31)),Table!V31,0)","v":0},{"$f":"Table!W31<=Inputs!$B$6","v":false},{"$f":"IF(AND($A31,W31,NOT(Y31)),Table!X31,0)","v":0},{"$f":"Table!Y31<=Inputs!$B$6","v":false},{"$f":"IF(AND($A31,Y31,NOT(AA31)),Table!Z31,0)","v":0},{"$f":"Table!AA31<=Inputs!$B$6","v":false},{"$f":"IF(AND($A31,AA31,NOT(AC31)),Table!AB31,0)","v":0},{"$f":"Table!AC31<=Inputs!$B$6","v":false},{"$f":"IF(AND($A31,AC31,NOT(AE31)),Table!AD31,0)","v":0},{"$f":"Table!AE31<=Inputs!$B$6","v":false},{"$f":"IF(AND($A31,AE31,NOT(AG31)),Table!AF31,0)","v":0},{"$f":"Table!AG31<=Inputs!$B$6","v":false},{"$f":"IF(AND($A31,AG31,NOT(AI31)),Table!AH31,0)","v":0}]
[false,{"$f":"Table!B32<=Inputs!B$1","v":false},{"$f":"Table!C32<=Inputs!$B$6","v":true},{"$f":"IF(AND($A32,C32,NOT(E32)),Table!D32,0)","v":0},{"$f":"Table!E32<=Inputs!$B$6","v":true},{"$f":"IF(AND($A32,E32,NOT(G32)),Table!F32,0)","v":0},{"$f":"Table!G32<=Inputs!$B$6","v":true},{"$f":"IF(AND($A32,G32,NOT(I32)),Table!H32,0)","v":0},{"$f":"Table!I32<=Inputs!$B$6","v":true},{"$f":"IF(AND($A32,I32,NOT(K32)),Table!J32,0)","v":0},{"$f":"Table!K32<=Inputs!$B$6","v":true},{"$f":"IF(AND($A32,K32,NOT(M32)),Table!L32,0)","v":0},{"$f":"Table!M32<=Inputs!$B$6","v":true},{"$f":"IF(AND($A32,M32,NOT(O32)),Table!N32,0)","v":0},{"$f":"Table!O32<=Inputs!$B$6","v":true},{"$f":"IF(AND($A32,O32,NOT(Q32)),Table!P32,0)","v":0},{"$f":"Table!Q32<=Inputs!$B$6","v":true},{"$f":"IF(AND($A32,Q32,NOT(S32)),Table!R32,0)","v":0},{"$f":"Table!S32<=Inputs!$B$6","v":false},{"$f":"IF(AND($A32,S32,NOT(U32)),Table!T32,0)","v":0},{"$f":"Table!U32<=Inputs!$B$6","v":false},{"$f":"IF(AND($A32,U32,NOT(W32)),Table!V32,0)","v":0},{"$f":"Table!W32<=Inputs!$B$6","v":false},{"$f":"IF(AND($A32,W32,NOT(Y32)),Table!X32,0)","v":0},{"$f":"Table!Y32<=Inputs!$B$6","v":false},{"$f":"IF(AND($A32,Y32,NOT(AA32)),Table!Z32,0)","v":0},{"$f":"Table!AA32<=Inputs!$B$6","v":false},{"$f":"IF(AND($A32,AA32,NOT(AC32)),Table!AB32,0)","v":0},{"$f":"Table!AC32<=Inputs!$B$6","v":false},{"$f":"IF(AND($A32,AC32,NOT(AE32)),Table!AD32,0)","v":0},{"$f":"Table!AE32<=Inputs!$B$6","v":false},{"$f":"IF(AND($A32,AE32,NOT(AG32)),Table!AF32,0)","v":0},{"$f":"Table!AG32<=Inputs!$B$6","v":false},{"$f":"IF(AND($A32,AG32,NOT(AI32)),Table!AH32,0)","v":0}]
[false,{"$f":"Table!B33<=Inputs!B$1","v":false},{"$f":"Table!C33<=Inputs!$B$6","v":true},{"$f":"IF(AND($A33,C33,NOT(E33)),Table!D33,0)","v":0},{"$f":"Table!E33<=Inputs!$B$6","v":true},{"$f":"IF(AND($A33,E33,NOT(G33)),Table!F33,0)","v":0},{"$f":"Table!G33<=Inputs!$B$6","v":true},{"$f":"IF(AND($A33,G33,NOT(I33)),Table!H33,0)","v":0},{"$f":"Table!I33<=Inputs!$B$6","v":true},{"$f":"IF(AND($A33,I33,NOT(K33)),Table!J33,0)","v":0},{"$f":"Table!K33<=Inputs!$B$6","v":true},{"$f":"IF(AND($A33,K33,NOT(M33)),Table!L33,0)","v":0},{"$f":"Table!M33<=Inputs!$B$6","v":true},{"$f":"IF(AND($A33,M33,NOT(O33)),Table!N33,0)","v":0},{"$f":"Table!O33<=Inputs!$B$6","v":true},{"$f":"IF(AND($A33,O33,NOT(Q33)),Table!P33,0)","v":0},{"$f":"Table!Q33<=Inputs!$B$6","v":true},{"$f":"IF(AND($A33,Q33,NOT(S33)),Table!R33,0)","v":0},{"$f":"Table!S33<=Inputs!$B$6","v":false},{"$f":"IF(AND($A33,S33,NOT(U33)),Table!T33,0)","v":0},{"$f":"Table!U33<=Inputs!$B$6","v":false},{"$f":"IF(AND($A33,U33,NOT(W33)),Table!V33,0)","v":0},{"$f":"Table!W33<=Inputs!$B$6","v":false},{"$f":"IF(AND($A33,W33,NOT(Y33)),Table!X33,0)","v":0},{"$f":"Table!Y33<=Inputs!$B$6","v":false},{"$f":"IF(AND($A33,Y33,NOT(AA33)),Table!Z33,0)","v":0},{"$f":"Table!AA33<=Inputs!$B$6","v":false},{"$f":"IF(AND($A33,AA33,NOT(AC33)),Table!AB33,0)","v":0},{"$f":"Table!AC33<=Inputs!$B$6","v":false},{"$f":"IF(AND($A33,AC33,NOT(AE33)),Table!AD33,0)","v":0},{"$f":"Table!AE33<=Inputs!$B$6","v":false},{"$f":"IF(AND($A33,AE33,NOT(AG33)),Table!AF33,0)","v":0},{"$f":"Table!AG33<=Inputs!$B$6","v":false},{"$f":"IF(AND($A33,AG33,NOT(AI33)),Table!AH33,0)","v":0}]
[false,{"$f":"Table!B34<=Inputs!B$1","v":false},{"$f":"Table!C34<=Inputs!$B$6","v":true},{"$f":"IF(AND($A34,C34,NOT(E34)),Table!D34,0)","v":0},{"$f":"Table!E34<=Inputs!$B$6","v":true},{"$f":"IF(AND($A34,E34,NOT(G34)),Table!F34,0)","v":0},{"$f":"Table!G34<=Inputs!$B$6","v":true},{"$f":"IF(AND($A34,G34,NOT(I34)),Table!H34,0)","v":0},{"$f":"Table!I34<=Inputs!$B$6","v":true},{"$f":"IF(AND($A34,I34,NOT(K34)),Table!J34,0)","v":0},{"$f":"Table!K34<=Inputs!$B$6","v":true},{"$f":"IF(AND($A34,K34,NOT(M34)),Table!L34,0)","v":0},{"$f":"Table!M34<=Inputs!$B$6","v":true},{"$f":"IF(AND($A34,M34,NOT(O34)),Table!N34,0)","v":0},{"$f":"Table!O34<=Inputs!$B$6","v":true},{"$f":"IF(AND($A34,O34,NOT(Q34)),Table!P34,0)","v":0},{"$f":"Table!Q34<=Inputs!$B$6","v":true},{"$f":"IF(AND($A34,Q34,NOT(S34)),Table!R34,0)","v":0},{"$f":"Table!S34<=Inputs!$B$6","v":false},{"$f":"IF(AND($A34,S34,NOT(U34)),Table!T34,0)","v":0},{"$f":"Table!U34<=Inputs!$B$6","v":false},{"$f":"IF(AND($A34,U34,NOT(W34)),Table!V34,0)","v":0},{"$f":"Table!W34<=Inputs!$B$6","v":false},{"$f":"IF(AND($A34,W34,NOT(Y34)),Table!X34,0)","v":0},{"$f":"Table!Y34<=Inputs!$B$6","v":false},{"$f":"IF(AND($A34,Y34,NOT(AA34)),Table!Z34,0)","v":0},{"$f":"Table!AA34<=Inputs!$B$6","v":false},{"$f":"IF(AND($A34,AA34,NOT(AC34)),Table!AB34,0)","v":0},{"$f":"Table!AC34<=Inputs!$B$6","v":false},{"$f":"IF(AND($A34,AC34,NOT(AE34)),Table!AD34,0)","v":0},{"$f":"Table!AE34<=Inputs!$B$6","v":false},{"$f":"IF(AND($A34,AE34,NOT(AG34)),Table!AF34,0)","v":0},{"$f":"Table!AG34<=Inputs!$B$6","v":false},{"$f":"IF(AND($A34,AG34,NOT(AI34)),Table!AH34,0)","v":0}]
[false,{"$f":"Table!B35<=Inputs!B$1","v":false},{"$f":"Table!C35<=Inputs!$B$6","v":true},{"$f":"IF(AND($A35,C35,NOT(E35)),Table!D35,0)","v":0},{"$f":"Table!E35<=Inputs!$B$6","v":true},{"$f":"IF(AND($A35,E35,NOT(G35)),Table!F35,0)","v":0},{"$f":"Table!G35<=Inputs!$B$6","v":true},{"$f":"IF(AND($A35,G35,NOT(I35)),Table!H35,0)","v":0},{"$f":"Table!I35<=Inputs!$B$6","v":true},{"$f":"IF(AND($A35,I35,NOT(K35)),Table!J35,0)","v":0},{"$f":"Table!K35<=Inputs!$B$6","v":true},{"$f":"IF(AND($A35,K35,NOT(M35)),Table!L35,0)","v":0},{"$f":"Table!M35<=Inputs!$B$6","v":true},{"$f":"IF(AND($A35,M35,NOT(O35)),Table!N35,0)","v":0},{"$f":"Table!O35<=Inputs!$B$6","v":true},{"$f":"IF(AND($A35,O35,NOT(Q35)),Table!P35,0)","v":0},{"$f":"Table!Q35<=Inputs!$B$6","v":true},{"$f":"IF(AND($A35,Q35,NOT(S35)),Table!R35,0)","v":0},{"$f":"Table!S35<=Inputs!$B$6","v":true},{"$f":"IF(AND($A35,S35,NOT(U35)),Table!T35,0)","v":0},{"$f":"Table!U35<=Inputs!$B$6","v":false},{"$f":"IF(AND($A35,U35,NOT(W35)),Table!V35,0)","v":0},{"$f":"Table!W35<=Inputs!$B$6","v":false},{"$f":"IF(AND($A35,W35,NOT(Y35)),Table!X35,0)","v":0},{"$f":"Table!Y35<=Inputs!$B$6","v":false},{"$f":"IF(AND($A35,Y35,NOT(AA35)),Table!Z35,0)","v":0},{"$f":"Table!AA35<=Inputs!$B$6","v":false},{"$f":"IF(AND($A35,AA35,NOT(AC35)),Table!AB35,0)","v":0},{"$f":"Table!AC35<=Inputs!$B$6","v":false},{"$f":"IF(AND($A35,AC35,NOT(AE35)),Table!AD35,0)","v":0},{"$f":"Table!AE35<=Inputs!$B$6","v":false},{"$f":"IF(AND($A35,AE35,NOT(AG35)),Table!AF35,0)","v":0},{"$f":"Table!AG35<=Inputs!$B$6","v":false},{"$f":"IF(AND($A35,AG35,NOT(AI35)),Table!AH35,0)","v":0}]
[false,{"$f":"Table!B36<=Inputs!B$1","v":false},{"$f":"Table!C36<=Inputs!$B$6","v":true},{"$f":"IF(AND($A36,C36,NOT(E36)),Table!D36,0)","v":0},{"$f":"Table!E36<=Inputs!$B$6","v":true},{"$f":"IF(AND($A36,E36,NOT(G36)),Table!F36,0)","v":0},{"$f":"Table!G36<=Inputs!$B$6","v":true},{"$f":"IF(AND($A36,G36,NOT(I36)),Table!H36,0)","v":0},{"$f":"Table!I36<=Inputs!$B$6","v":true},{"$f":"IF(AND($A36,I36,NOT(K36)),Table!J36,0)","v":0},{"$f":"Table!K36<=Inputs!$B$6","v":true},{"$f":"IF(AND($A36,K36,NOT(M36)),Table!L36,0)","v":0},{"$f":"Table!M36<=Inputs!$B$6","v":true},{"$f":"IF(AND($A36,M36,NOT(O36)),Table!N36,0)","v":0},{"$f":"Table!O36<=Inputs!$B$6","v":true},{"$f":"IF(AND($A36,O36,NOT(Q36)),Table!P36,0)","v":0},{"$f":"Table!Q36<=Inputs!$B$6","v":true},{"$f":"IF(AND($A36,Q36,NOT(S36)),Table!R36,0)","v":0},{"$f":"Table!S36<=Inputs!$B$6","v":true},{"$f":"IF(AND($A36,S36,NOT(U36)),Table!T36,0)","v":0},{"$f":"Table!U36<=Inputs!$B$6","v":false},{"$f":"IF(AND($A36,U36,NOT(W36)),Table!V36,0)","v":0},{"$f":"Table!W36<=Inputs!$B$6","v":false},{"$f":"IF(AND($A36,W36,NOT(Y36)),Table!X36,0)","v":0},{"$f":"Table!Y36<=Inputs!$B$6","v":false},{"$f":"IF(AND($A36,Y36,NOT(AA36)),Table!Z36,0)","v":0},{"$f":"Table!AA36<=Inputs!$B$6","v":false},{"$f":"IF(AND($A36,AA36,NOT(AC36)),Table!AB36,0)","v":0},{"$f":"Table!AC36<=Inputs!$B$6","v":false},{"$f":"IF(AND($A36,AC36,NOT(AE36)),Table!AD36,0)","v":0},{"$f":"Table!AE36<=Inputs!$B$6","v":false},{"$f":"IF(AND($A36,AE36,NOT(AG36)),Table!AF36,0)","v":0},{"$f":"Table!AG36<=Inputs!$B$6","v":false},{"$f":"IF(AND($A36,AG36,NOT(AI36)),Table!AH36,0)","v":0}]
[]
[null,null,null,{"$f":"SUM(D6:D36)","v":0},null,{"$f":"SUM(F6:F36)","v":0},null,{"$f":"SUM(H6:H36)","v":0},null,{"$f":"SUM(J6:J36)","v":100},null,{"$f":"SUM(L6:L36)","v":0},null,{"$f":"SUM(N6:N36)","v":0},null,{"$f":"SUM(P6:P36)","v":0},null,{"$f":"SUM(R6:R36)","v":0},null,{"$f":"SUM(T6:T36)","v":0},null,{"$f":"SUM(V6:V36)","v":0},null,{"$f":"SUM(X6:X36)","v":0},null,{"$f":"SUM(Z6:Z36)","v":0},null,{"$f":"SUM(AB6:AB36)","v":0},null,{"$f":"SUM(AD6:AD36)","v":0},null,{"$f":"SUM(AF6:AF36)","v":0},null,{"$f":"SUM(AH6:AH36)","v":0}]
[]
[null,null,null,{"$f":"SUM(D38:AH38)","v":100}]

{"sheet":"Table Reader (2)","index":3,"n_rows":40,"n_cols":34,"rows_kept":40,"cut":false,"hidden":false,"merged":[]}
[]
[]
[]
[]
[{"$f":"AND(B5,NOT(B6))","v":false},{"$f":"0<=Inputs!B$2","v":true},{"$f":"Table!C5<=Inputs!$B$6","v":true},{"$f":"IF(AND(A5,AH5+AF5+AD5+AB5+Z5+X5+V5+T5+R5+P5+N5+L5+J5+H5+F5=0),Table!D5,0)","v":0},{"$f":"Table!E5<=Inputs!$B$6","v":true},{"$f":"IF(AND($A5,C5,NOT(E5)),Table!F5,0)","v":0},{"$f":"Table!G5<=Inputs!$B$6","v":false},{"$f":"IF(AND($A5,E5,NOT(G5)),Table!H5,0)","v":0},{"$f":"Table!I5<=Inputs!$B$6","v":false},{"$f":"IF(AND($A5,G5,NOT(I5)),Table!J5,0)","v":0},{"$f":"Table!K5<=Inputs!$B$6","v":false},{"$f":"IF(AND($A5,I5,NOT(K5)),Table!L5,0)","v":0},{"$f":"Table!M5<=Inputs!$B$6","v":false},{"$f":"IF(AND($A5,K5,NOT(M5)),Table!N5,0)","v":0},{"$f":"Table!O5<=Inputs!$B$6","v":false},{"$f":"IF(AND($A5,M5,NOT(O5)),Table!P5,0)","v":0},{"$f":"Table!Q5<=Inputs!$B$6","v":false},{"$f":"IF(AND($A5,O5,NOT(Q5)),Table!R5,0)","v":0},{"$f":"Table!S5<=Inputs!$B$6","v":false},{"$f":"IF(AND($A5,Q5,NOT(S5)),Table!T5,0)","v":0},{"$f":"Table!U5<=Inputs!$B$6","v":false},{"$f":"IF(AND($A5,S5,NOT(U5)),Table!V5,0)","v":0},{"$f":"Table!W5<=Inputs!$B$6","v":false},{"$f":"IF(AND($A5,U5,NOT(W5)),Table!X5,0)","v":0},{"$f":"Table!Y5<=Inputs!$B$6","v":false},{"$f":"IF(AND($A5,W5,NOT(Y5)),Table!Z5,0)","v":0},{"$f":"Table!AA5<=Inputs!$B$6","v":false},{"$f":"IF(AND($A5,Y5,NOT(AA5)),Table!AB5,0)","v":0},{"$f":"Table!AC5<=Inputs!$B$6","v":false},{"$f":"IF(AND($A5,AA5,NOT(AC5)),Table!AD5,0)","v":0},{"$f":"Table!AE5<=Inputs!$B$6","v":false},{"$f":"IF(AND($A5,AC5,NOT(AE5)),Table!AF5,0)","v":0},{"$f":"Table!AG5<=Inputs!$B$6","v":false},{"$f":"IF(AND($A5,AE5,NOT(AG5)),Table!AH5,0)","v":0}]
[{"$f":"AND(B6,NOT(B7))","v":false},{"$f":"2<=Inputs!B$2","v":true},{"$f":"Table!C6<=Inputs!$B$6","v":true},{"$f":"IF(AND(A6,AH6+AF6+AD6+AB6+Z6+X6+V6+T6+R6+P6+N6+L6+J6+H6+F6=0),Table!D6,0)","v":0},{"$f":"Table!E6<=Inputs!$B$6","v":true},{"$f":"IF(AND($A6,C6,NOT(E6)),Table!F6,0)","v":0},{"$f":"Table!G6<=Inputs!$B$6","v":false},{"$f":"IF(AND($A6,E6,NOT(G6)),Table!H6,0)","v":0},{"$f":"Table!I6<=Inputs!$B$6","v":false},{"$f":"IF(AND($A6,G6,NOT(I6)),Table!J6,0)","v":0},{"$f":"Table!K6<=Inputs!$B$6","v":false},{"$f":"IF(AND($A6,I6,NOT(K6)),Table!L6,0)","v":0},{"$f":"Table!M6<=Inputs!$B$6","v":false},{"$f":"IF(AND($A6,K6,NOT(M6)),Table!N6,0)","v":0},{"$f":"Table!O6<=Inputs!$B$6","v":false},{"$f":"IF(AND($A6,M6,NOT(O6)),Table!P6,0)","v":0},{"$f":"Table!Q6<=Inputs!$B$6","v":false},{"$f":"IF(AND($A6,O6,NOT(Q6)),Table!R6,0)","v":0},{"$f":"Table!S6<=Inputs!$B$6","v":false},{"$f":"IF(AND($A6,Q6,NOT(S6)),Table!T6,0)","v":0},{"$f":"Table!U6<=Inputs!$B$6","v":false},{"$f":"IF(AND($A6,S6,NOT(U6)),Table!V6,0)","v":0},{"$f":"Table!W6<=Inputs!$B$6","v":false},{"$f":"IF(AND($A6,U6,NOT(W6)),Table!X6,0)","v":0},{"$f":"Table!Y6<=Inputs!$B$6","v":false},{"$f":"IF(AND($A6,W6,NOT(Y6)),Table!Z6,0)","v":0},{"$f":"Table!AA6<=Inputs!$B$6","v":false},{"$f":"IF(AND($A6,Y6,NOT(AA6)),Table!AB6,0)","v":0},{"$f":"Table!AC6<=Inputs!$B$6","v":false},{"$f":"IF(AND($A6,AA6,NOT(AC6)),Table!AD6,0)","v":0},{"$f":"Table!AE6<=Inputs!$B$6","v":false},{"$f":"IF(AND($A6,AC6,NOT(AE6)),Table!AF6,0)","v":0},{"$f":"Table!AG6<=Inputs!$B$6","v":false},{"$f":"IF(AND($A6,AE6,NOT(AG6)),Table!AH6,0)","v":0}]
[{"$f":"AND(B7,NOT(B8))","v":false},{"$f":"Table!B7<=Inputs!B$2","v":true},{"$f":"Table!C7<=Inputs!$B$6","v":true},{"$f":"IF(AND(A7,AH7+AF7+AD7+AB7+Z7+X7+V7+T7+R7+P7+N7+L7+J7+H7+F7=0),Table!D7,0)","v":0},{"$f":"Table!E7<=Inputs!$B$6","v":true},{"$f":"IF(AND($A7,C7,NOT(E7)),Table!F7,0)","v":0},{"$f":"Table!G7<=Inputs!$B$6","v":false},{"$f":"IF(AND($A7,E7,NOT(G7)),Table!H7,0)","v":0},{"$f":"Table!I7<=Inputs!$B$6","v":false},{"$f":"IF(AND($A7,G7,NOT(I7)),Table!J7,0)","v":0},{"$f":"Table!K7<=Inputs!$B$6","v":false},{"$f":"IF(AND($A7,I7,NOT(K7)),Table!L7,0)","v":0},{"$f":"Table!M7<=Inputs!$B$6","v":false},{"$f":"IF(AND($A7,K7,NOT(M7)),Table!N7,0)","v":0},{"$f":"Table!O7<=Inputs!$B$6","v":false},{"$f":"IF(AND($A7,M7,NOT(O7)),Table!P7,0)","v":0},{"$f":"Table!Q7<=Inputs!$B$6","v":false},{"$f":"IF(AND($A7,O7,NOT(Q7)),Table!R7,0)","v":0},{"$f":"Table!S7<=Inputs!$B$6","v":false},{"$f":"IF(AND($A7,Q7,NOT(S7)),Table!T7,0)","v":0},{"$f":"Table!U7<=Inputs!$B$6","v":false},{"$f":"IF(AND($A7,S7,NOT(U7)),Table!V7,0)","v":0},{"$f":"Table!W7<=Inputs!$B$6","v":false},{"$f":"IF(AND($A7,U7,NOT(W7)),Table!X7,0)","v":0},{"$f":"Table!Y7<=Inputs!$B$6","v":false},{"$f":"IF(AND($A7,W7,NOT(Y7)),Table!Z7,0)","v":0},{"$f":"Table!AA7<=Inputs!$B$6","v":false},{"$f":"IF(AND($A7,Y7,NOT(AA7)),Table!AB7,0)","v":0},{"$f":"Table!AC7<=Inputs!$B$6","v":false},{"$f":"IF(AND($A7,AA7,NOT(AC7)),Table!AD7,0)","v":0},{"$f":"Table!AE7<=Inputs!$B$6","v":false},{"$f":"IF(AND($A7,AC7,NOT(AE7)),Table!AF7,0)","v":0},{"$f":"Table!AG7<=Inputs!$B$6","v":false},{"$f":"IF(AND($A7,AE7,NOT(AG7)),Table!AH7,0)","v":0}]
[{"$f":"AND(B8,NOT(B9))","v":false},{"$f":"Table!B8<=Inputs!B$2","v":true},{"$f":"Table!C8<=Inputs!$B$6","v":true},{"$f":"IF(AND(A8,AH8+AF8+AD8+AB8+Z8+X8+V8+T8+R8+P8+N8+L8+J8+H8+F8=0),Table!D8,0)","v":0},{"$f":"Table!E8<=Inputs!$B$6","v":true},{"$f":"IF(AND($A8,C8,NOT(E8)),Table!F8,0)","v":0},{"$f":"Table!G8<=Inputs!$B$6","v":false},{"$f":"IF(AND($A8,E8,NOT(G8)),Table!H8,0)","v":0},{"$f":"Table!I8<=Inputs!$B$6","v":false},{"$f":"IF(AND($A8,G8,NOT(I8)),Table!J8,0)","v":0},{"$f":"Table!K8<=Inputs!$B$6","v":false},{"$f":"IF(AND($A8,I8,NOT(K8)),Table!L8,0)","v":0},{"$f":"Table!M8<=Inputs!$B$6","v":false},{"$f":"IF(AND($A8,K8,NOT(M8)),Table!N8,0)","v":0},{"$f":"Table!O8<=Inputs!$B$6","v":false},{"$f":"IF(AND($A8,M8,NOT(O8)),Table!P8,0)","v":0},{"$f":"Table!Q8<=Inputs!$B$6","v":false},{"$f":"IF(AND($A8,O8,NOT(Q8)),Table!R8,0)","v":0},{"$f":"Table!S8<=Inputs!$B$6","v":false},{"$f":"IF(AND($A8,Q8,NOT(S8)),Table!T8,0)","v":0},{"$f":"Table!U8<=Inputs!$B$6","v":false},{"$f":"IF(AND($A8,S8,NOT(U8)),Table!V8,0)","v":0},{"$f":"Table!W8<=Inputs!$B$6","v":false},{"$f":"IF(AND($A8,U8,NOT(W8)),Table!X8,0)","v":0},{"$f":"Table!Y8<=Inputs!$B$6","v":false},{"$f":"IF(AND($A8,W8,NOT(Y8)),Table!Z8,0)","v":0},{"$f":"Table!AA8<=Inputs!$B$6","v":false},{"$f":"IF(AND($A8,Y8,NOT(AA8)),Table!AB8,0)","v":0},{"$f":"Table!AC8<=Inputs!$B$6","v":false},{"$f":"IF(AND($A8,AA8,NOT(AC8)),Table!AD8,0)","v":0},{"$f":"Table!AE8<=Inputs!$B$6","v":false},{"$f":"IF(AND($A8,AC8,NOT(AE8)),Table!AF8,0)","v":0},{"$f":"Table!AG8<=Inputs!$B$6","v":false},{"$f":"IF(AND($A8,AE8,NOT(AG8)),Table!AH8,0)","v":0}]
[false,{"$f":"Table!B9<=Inputs!B$2","v":true},{"$f":"Table!C9<=Inputs!$B$6","v":true},{"$f":"IF(AND(A9,AH9+AF9+AD9+AB9+Z9+X9+V9+T9+R9+P9+N9+L9+J9+H9+F9=0),Table!D9,0)","v":0},{"$f":"Table!E9<=Inputs!$B$6","v":true},{"$f":"IF(AND($A9,C9,NOT(E9)),Table!F9,0)","v":0},{"$f":"Table!G9<=Inputs!$B$6","v":true},{"$f":"IF(AND($A9,E9,NOT(G9)),Table!H9,0)","v":0},{"$f":"Table!I9<=Inputs!$B$6","v":false},{"$f":"IF(AND($A9,G9,NOT(I9)),Table!J9,0)","v":0},{"$f":"Table!K9<=Inputs!$B$6","v":false},{"$f":"IF(AND($A9,I9,NOT(K9)),Table!L9,0)","v":0},{"$f":"Table!M9<=Inputs!$B$6","v":false},{"$f":"IF(AND($A9,K9,NOT(M9)),Table!N9,0)","v":0},{"$f":"Table!O9<=Inputs!$B$6","v":false},{"$f":"IF(AND($A9,M9,NOT(O9)),Table!P9,0)","v":0},{"$f":"Table!Q9<=Inputs!$B$6","v":false},{"$f":"IF(AND($A9,O9,NOT(Q9)),Table!R9,0)","v":0},{"$f":"Table!S9<=Inputs!$B$6","v":false},{"$f":"IF(AND($A9,Q9,NOT(S9)),Table!T9,0)","v":0},{"$f":"Table!U9<=Inputs!$B$6","v":false},{"$f":"IF(AND($A9,S9,NOT(U9)),Table!V9,0)","v":0},{"$f":"Table!W9<=Inputs!$B$6","v":false},{"$f":"IF(AND($A9,U9,NOT(W9)),Table!X9,0)","v":0},{"$f":"Table!Y9<=Inputs!$B$6","v":false},{"$f":"IF(AND($A9,W9,NOT(Y9)),Table!Z9,0)","v":0},{"$f":"Table!AA9<=Inputs!$B$6","v":false},{"$f":"IF(AND($A9,Y9,NOT(AA9)),Table!AB9,0)","v":0},{"$f":"Table!AC9<=Inputs!$B$6","v":false},{"$f":"IF(AND($A9,AA9,NOT(AC9)),Table!AD9,0)","v":0},{"$f":"Table!AE9<=Inputs!$B$6","v":false},{"$f":"IF(AND($A9,AC9,NOT(AE9)),Table!AF9,0)","v":0},{"$f":"Table!AG9<=Inputs!$B$6","v":false},{"$f":"IF(AND($A9,AE9,NOT(AG9)),Table!AH9,0)","v":0}]
[false,{"$f":"Table!B10<=Inputs!B$2","v":true},{"$f":"Table!C10<=Inputs!$B$6","v":true},{"$f":"IF(AND(A10,AH10+AF10+AD10+AB10+Z10+X10+V10+T10+R10+P10+N10+L10+J10+H10+F10=0),Table!D10,0)","v":0},{"$f":"Table!E10<=Inputs!$B$6","v":true},{"$f":"IF(AND($A10,C10,NOT(E10)),Table!F10,0)","v":0},{"$f":"Table!G10<=Inputs!$B$6","v":true},{"$f":"IF(AND($A10,E10,NOT(G10)),Table!H10,0)","v":0},{"$f":"Table!I10<=Inputs!$B$6","v":false},{"$f":"IF(AND($A10,G10,NOT(I10)),Table!J10,0)","v":0},{"$f":"Table!K10<=Inputs!$B$6","v":false},{"$f":"IF(AND($A10,I10,NOT(K10)),Table!L10,0)","v":0},{"$f":"Table!M10<=Inputs!$B$6","v":false},{"$f":"IF(AND($A10,K10,NOT(M10)),Table!N10,0)","v":0},{"$f":"Table!O10<=Inputs!$B$6","v":false},{"$f":"IF(AND($A10,M10,NOT(O10)),Table!P10,0)","v":0},{"$f":"Table!Q10<=Inputs!$B$6","v":false},{"$f":"IF(AND($A10,O10,NOT(Q10)),Table!R10,0)","v":0},{"$f":"Table!S10<=Inputs!$B$6","v":false},{"$f":"IF(AND($A10,Q10,NOT(S10)),Table!T10,0)","v":0},{"$f":"Table!U10<=Inputs!$B$6","v":false},{"$f":"IF(AND($A10,S10,NOT(U10)),Table!V10,0)","v":0},{"$f":"Table!W10<=Inputs!$B$6","v":false},{"$f":"IF(AND($A10,U10,NOT(W10)),Table!X10,0)","v":0},{"$f":"Table!Y10<=Inputs!$B$6","v":false},{"$f":"IF(AND($A10,W10,NOT(Y10)),Table!Z10,0)","v":0},{"$f":"Table!AA10<=Inputs!$B$6","v":false},{"$f":"IF(AND($A10,Y10,NOT(AA10)),Table!AB10,0)","v":0},{"$f":"Table!AC10<=Inputs!$B$6","v":false},{"$f":"IF(AND($A10,AA10,NOT(AC10)),Table!AD10,0)","v":0},{"$f":"Table!AE10<=Inputs!$B$6","v":false},{"$f":"IF(AND($A10,AC10,NOT(AE10)),Table!AF10,0)","v":0},{"$f":"Table!AG10<=Inputs!$B$6","v":false},{"$f":"IF(AND($A10,AE10,NOT(AG10)),Table!AH10,0)","v":0}]
[false,{"$f":"Table!B11<=Inputs!B$2","v":true},{"$f":"Table!C11<=Inputs!$B$6","v":true},{"$f":"IF(AND(A11,AH11+AF11+AD11+AB11+Z11+X11+V11+T11+R11+P11+N11+L11+J11+H11+F11=0),Table!D11,0)","v":0},{"$f":"Table!E11<=Inputs!$B$6","v":true},{"$f":"IF(AND($A11,C11,NOT(E11)),Table!F11,0)","v":0},{"$f":"Table!G11<=Inputs!$B$6","v":true},{"$f":"IF(AND($A11,E11,NOT(G11)),Table!H11,0)","v":0},{"$f":"Table!I11<=Inputs!$B$6","v":false},{"$f":"IF(AND($A11,G11,NOT(I11)),Table!J11,0)","v":0},{"$f":"Table!K11<=Inputs!$B$6","v":false},{"$f":"IF(AND($A11,I11,NOT(K11)),Table!L11,0)","v":0},{"$f":"Table!M11<=Inputs!$B$6","v":false},{"$f":"IF(AND($A11,K11,NOT(M11)),Table!N11,0)","v":0},{"$f":"Table!O11<=Inputs!$B$6","v":false},{"$f":"IF(AND($A11,M11,NOT(O11)),Table!P11,0)","v":0},{"$f":"Table!Q11<=Inputs!$B$6","v":false},{"$f":"IF(AND($A11,O11,NOT(Q11)),Table!R11,0)","v":0},{"$f":"Table!S11<=Inputs!$B$6","v":false},{"$f":"IF(AND($A11,Q11,NOT(S11)),Table!T11,0)","v":0},{"$f":"Table!U11<=Inputs!$B$6","v":false},{"$f":"IF(AND($A11,S11,NOT(U11)),Table!V11,0)","v":0},{"$f":"Table!W11<=Inputs!$B$6","v":false},{"$f":"IF(AND($A11,U11,NOT(W11)),Table!X11,0)","v":0},{"$f":"Table!Y11<=Inputs!$B$6","v":false},{"$f":"IF(AND($A11,W11,NOT(Y11)),Table!Z11,0)","v":0},{"$f":"Table!AA11<=Inputs!$B$6","v":false},{"$f":"IF(AND($A11,Y11,NOT(AA11)),Table!AB11,0)","v":0},{"$f":"Table!AC11<=Inputs!$B$6","v":false},{"$f":"IF(AND($A11,AA11,NOT(AC11)),Table!AD11,0)","v":0},{"$f":"Table!AE11<=Inputs!$B$6","v":false},{"$f":"IF(AND($A11,AC11,NOT(AE11)),Table!AF11,0)","v":0},{"$f":"Table!AG11<=Inputs!$B$6","v":false},{"$f":"IF(AND($A11,AE11,NOT(AG11)),Table!AH11,0)","v":0}]
[false,{"$f":"Table!B12<=Inputs!B$2","v":true},{"$f":"Table!C12<=Inputs!$B$6","v":true},{"$f":"IF(AND(A12,AH12+AF12+AD12+AB12+Z12+X12+V12+T12+R12+P12+N12+L12+J12+H12+F12=0),Table!D12,0)","v":0},{"$f":"Table!E12<=Inputs!$B$6","v":true},{"$f":"IF(AND($A12,C12,NOT(E12)),Table!F12,0)","v":0},{"$f":"Table!G12<=Inputs!$B$6","v":true},{"$f":"IF(AND($A12,E12,NOT(G12)),Table!H12,0)","v":0},{"$f":"Table!I12<=Inputs!$B$6","v":false},{"$f":"IF(AND($A12,G12,NOT(I12)),Table!J12,0)","v":0},{"$f":"Table!K12<=Inputs!$B$6","v":false},{"$f":"IF(AND($A12,I12,NOT(K12)),Table!L12,0)","v":0},{"$f":"Table!M12<=Inputs!$B$6","v":false},{"$f":"IF(AND($A12,K12,NOT(M12)),Table!N12,0)","v":0},{"$f":"Table!O12<=Inputs!$B$6","v":false},{"$f":"IF(AND($A12,M12,NOT(O12)),Table!P12,0)","v":0},{"$f":"Table!Q12<=Inputs!$B$6","v":false},{"$f":"IF(AND($A12,O12,NOT(Q12)),Table!R12,0)","v":0},{"$f":"Table!S12<=Inputs!$B$6","v":false},{"$f":"IF(AND($A12,Q12,NOT(S12)),Table!T12,0)","v":0},{"$f":"Table!U12<=Inputs!$B$6","v":false},{"$f":"IF(AND($A12,S12,NOT(U12)),Table!V12,0)","v":0},{"$f":"Table!W12<=Inputs!$B$6","v":false},{"$f":"IF(AND($A12,U12,NOT(W12)),Table!X12,0)","v":0},{"$f":"Table!Y12<=Inputs!$B$6","v":false},{"$f":"IF(AND($A12,W12,NOT(Y12)),Table!Z12,0)","v":0},{"$f":"Table!AA12<=Inputs!$B$6","v":false},{"$f":"IF(AND($A12,Y12,NOT(AA12)),Table!AB12,0)","v":0},{"$f":"Table!AC12<=Inputs!$B$6","v":false},{"$f":"IF(AND($A12,AA12,NOT(AC12)),Table!AD12,0)","v":0},{"$f":"Table!AE12<=Inputs!$B$6","v":false},{"$f":"IF(AND($A12,AC12,NOT(AE12)),Table!AF12,0)","v":0},{"$f":"Table!AG12<=Inputs!$B$6","v":false},{"$f":"IF(AND($A12,AE12,NOT(AG12)),Table!AH12,0)","v":0}]
[false,{"$f":"Table!B13<=Inputs!B$2","v":true},{"$f":"Table!C13<=Inputs!$B$6","v":true},{"$f":"IF(AND(A13,AH13+AF13+AD13+AB13+Z13+X13+V13+T13+R13+P13+N13+L13+J13+H13+F13=0),Table!D13,0)","v":0},{"$f":"Table!E13<=Inputs!$B$6","v":true},{"$f":"IF(AND($A13,C13,NOT(E13)),Table!F13,0)","v":0},{"$f":"Table!G13<=Inputs!$B$6","v":true},{"$f":"IF(AND($A13,E13,NOT(G13)),Table!H13,0)","v":0},{"$f":"Table!I13<=Inputs!$B$6","v":true},{"$f":"IF(AND($A13,G13,NOT(I13)),Table!J13,0)","v":0},{"$f":"Table!K13<=Inputs!$B$6","v":false},{"$f":"IF(AND($A13,I13,NOT(K13)),Table!L13,0)","v":0},{"$f":"Table!M13<=Inputs!$B$6","v":false},{"$f":"IF(AND($A13,K13,NOT(M13)),Table!N13,0)","v":0},{"$f":"Table!O13<=Inputs!$B$6","v":false},{"$f":"IF(AND($A13,M13,NOT(O13)),Table!P13,0)","v":0},{"$f":"Table!Q13<=Inputs!$B$6","v":false},{"$f":"IF(AND($A13,O13,NOT(Q13)),Table!R13,0)","v":0},{"$f":"Table!S13<=Inputs!$B$6","v":false},{"$f":"IF(AND($A13,Q13,NOT(S13)),Table!T13,0)","v":0},{"$f":"Table!U13<=Inputs!$B$6","v":false},{"$f":"IF(AND($A13,S13,NOT(U13)),Table!V13,0)","v":0},{"$f":"Table!W13<=Inputs!$B$6","v":false},{"$f":"IF(AND($A13,U13,NOT(W13)),Table!X13,0)","v":0},{"$f":"Table!Y13<=Inputs!$B$6","v":false},{"$f":"IF(AND($A13,W13,NOT(Y13)),Table!Z13,0)","v":0},{"$f":"Table!AA13<=Inputs!$B$6","v":false},{"$f":"IF(AND($A13,Y13,NOT(AA13)),Table!AB13,0)","v":0},{"$f":"Table!AC13<=Inputs!$B$6","v":false},{"$f":"IF(AND($A13,AA13,NOT(AC13)),Table!AD13,0)","v":0},{"$f":"Table!AE13<=Inputs!$B$6","v":false},{"$f":"IF(AND($A13,AC13,NOT(AE13)),Table!AF13,0)","v":0},{"$f":"Table!AG13<=Inputs!$B$6","v":false},{"$f":"IF(AND($A13,AE13,NOT(AG13)),Table!AH13,0)","v":0}]
[false,{"$f":"Table!B14<=Inputs!B$2","v":true},{"$f":"Table!C14<=Inputs!$B$6","v":true},{"$f":"IF(AND(A14,AH14+AF14+AD14+AB14+Z14+X14+V14+T14+R14+P14+N14+L14+J14+H14+F14=0),Table!D14,0)","v":0},{"$f":"Table!E14<=Inputs!$B$6","v":true},{"$f":"IF(AND($A14,C14,NOT(E14)),Table!F14,0)","v":0},{"$f":"Table!G14<=Inputs!$B$6","v":true},{"$f":"IF(AND($A14,E14,NOT(G14)),Table!H14,0)","v":0},{"$f":"Table!I14<=Inputs!$B$6","v":true},{"$f":"IF(AND($A14,G14,NOT(I14)),Table!J14,0)","v":0},{"$f":"Table!K14<=Inputs!$B$6","v":false},{"$f":"IF(AND($A14,I14,NOT(K14)),Table!L14,0)","v":0},{"$f":"Table!M14<=Inputs!$B$6","v":false},{"$f":"IF(AND($A14,K14,NOT(M14)),Table!N14,0)","v":0},{"$f":"Table!O14<=Inputs!$B$6","v":false},{"$f":"IF(AND($A14,M14,NOT(O14)),Table!P14,0)","v":0},{"$f":"Table!Q14<=Inputs!$B$6","v":false},{"$f":"IF(AND($A14,O14,NOT(Q14)),Table!R14,0)","v":0},{"$f":"Table!S14<=Inputs!$B$6","v":false},{"$f":"IF(AND($A14,Q14,NOT(S14)),Table!T14,0)","v":0},{"$f":"Table!U14<=Inputs!$B$6","v":false},{"$f":"IF(AND($A14,S14,NOT(U14)),Table!V14,0)","v":0},{"$f":"Table!W14<=Inputs!$B$6","v":false},{"$f":"IF(AND($A14,U14,NOT(W14)),Table!X14,0)","v":0},{"$f":"Table!Y14<=Inputs!$B$6","v":false},{"$f":"IF(AND($A14,W14,NOT(Y14)),Table!Z14,0)","v":0},{"$f":"Table!AA14<=Inputs!$B$6","v":false},{"$f":"IF(AND($A14,Y14,NOT(AA14)),Table!AB14,0)","v":0},{"$f":"Table!AC14<=Inputs!$B$6","v":false},{"$f":"IF(AND($A14,AA14,NOT(AC14)),Table!AD14,0)","v":0},{"$f":"Table!AE14<=Inputs!$B$6","v":false},{"$f":"IF(AND($A14,AC14,NOT(AE14)),Table!AF14,0)","v":0},{"$f":"Table!AG14<=Inputs!$B$6","v":false},{"$f":"IF(AND($A14,AE14,NOT(AG14)),Table!AH14,0)","v":0}]
[false,{"$f":"Table!B15<=Inputs!B$2","v":true},{"$f":"Table!C15<=Inputs!$B$6","v":true},{"$f":"IF(AND(A15,AH15+AF15+AD15+AB15+Z15+X15+V15+T15+R15+P15+N15+L15+J15+H15+F15=0),Table!D15,0)","v":0},{"$f":"Table!E15<=Inputs!$B$6","v":true},{"$f":"IF(AND($A15,C15,NOT(E15)),Table!F15,0)","v":0},{"$f":"Table!G15<=Inputs!$B$6","v":true},{"$f":"IF(AND($A15,E15,NOT(G15)),Table!H15,0)","v":0},{"$f":"Table!I15<=Inputs!$B$6","v":true},{"$f":"IF(AND($A15,G15,NOT(I15)),Table!J15,0)","v":0},{"$f":"Table!K15<=Inputs!$B$6","v":false},{"$f":"IF(AND($A15,I15,NOT(K15)),Table!L15,0)","v":0},{"$f":"Table!M15<=Inputs!$B$6","v":false},{"$f":"IF(AND($A15,K15,NOT(M15)),Table!N15,0)","v":0},{"$f":"Table!O15<=Inputs!$B$6","v":false},{"$f":"IF(AND($A15,M15,NOT(O15)),Table!P15,0)","v":0},{"$f":"Table!Q15<=Inputs!$B$6","v":false},{"$f":"IF(AND($A15,O15,NOT(Q15)),Table!R15,0)","v":0},{"$f":"Table!S15<=Inputs!$B$6","v":false},{"$f":"IF(AND($A15,Q15,NOT(S15)),Table!T15,0)","v":0},{"$f":"Table!U15<=Inputs!$B$6","v":false},{"$f":"IF(AND($A15,S15,NOT(U15)),Table!V15,0)","v":0},{"$f":"Table!W15<=Inputs!$B$6","v":false},{"$f":"IF(AND($A15,U15,NOT(W15)),Table!X15,0)","v":0},{"$f":"Table!Y15<=Inputs!$B$6","v":false},{"$f":"IF(AND($A15,W15,NOT(Y15)),Table!Z15,0)","v":0},{"$f":"Table!AA15<=Inputs!$B$6","v":false},{"$f":"IF(AND($A15,Y15,NOT(AA15)),Table!AB15,0)","v":0},{"$f":"Table!AC15<=Inputs!$B$6","v":false},{"$f":"IF(AND($A15,AA15,NOT(AC15)),Table!AD15,0)","v":0},{"$f":"Table!AE15<=Inputs!$B$6","v":false},{"$f":"IF(AND($A15,AC15,NOT(AE15)),Table!AF15,0)","v":0},{"$f":"Table!AG15<=Inputs!$B$6","v":false},{"$f":"IF(AND($A15,AE15,NOT(AG15)),Table!AH15,0)","v":0}]
[false,{"$f":"Table!B16<=Inputs!B$2","v":true},{"$f":"Table!C16<=Inputs!$B$6","v":true},{"$f":"IF(AND(A16,AH16+AF16+AD16+AB16+Z16+X16+V16+T16+R16+P16+N16+L16+J16+H16+F16=0),Table!D16,0)","v":0},{"$f":"Table!E16<=Inputs!$B$6","v":true},{"$f":"IF(AND($A16,C16,NOT(E16)),Table!F16,0)","v":0},{"$f":"Table!G16<=Inputs!$B$6","v":true},{"$f":"IF(AND($A16,E16,NOT(G16)),Table!H16,0)","v":0},{"$f":"Table!I16<=Inputs!$B$6","v":true},{"$f":"IF(AND($A16,G16,NOT(I16)),Table!J16,0)","v":0},{"$f":"Table!K16<=Inputs!$B$6","v":false},{"$f":"IF(AND($A16,I16,NOT(K16)),Table!L16,0)","v":0},{"$f":"Table!M16<=Inputs!$B$6","v":false},{"$f":"IF(AND($A16,K16,NOT(M16)),Table!N16,0)","v":0},{"$f":"Table!O16<=Inputs!$B$6","v":false},{"$f":"IF(AND($A16,M16,NOT(O16)),Table!P16,0)","v":0},{"$f":"Table!Q16<=Inputs!$B$6","v":false},{"$f":"IF(AND($A16,O16,NOT(Q16)),Table!R16,0)","v":0},{"$f":"Table!S16<=Inputs!$B$6","v":false},{"$f":"IF(AND($A16,Q16,NOT(S16)),Table!T16,0)","v":0},{"$f":"Table!U16<=Inputs!$B$6","v":false},{"$f":"IF(AND($A16,S16,NOT(U16)),Table!V16,0)","v":0},{"$f":"Table!W16<=Inputs!$B$6","v":false},{"$f":"IF(AND($A16,U16,NOT(W16)),Table!X16,0)","v":0},{"$f":"Table!Y16<=Inputs!$B$6","v":false},{"$f":"IF(AND($A16,W16,NOT(Y16)),Table!Z16,0)","v":0},{"$f":"Table!AA16<=Inputs!$B$6","v":false},{"$f":"IF(AND($A16,Y16,NOT(AA16)),Table!AB16,0)","v":0},{"$f":"Table!AC16<=Inputs!$B$6","v":false},{"$f":"IF(AND($A16,AA16,NOT(AC16)),Table!AD16,0)","v":0},{"$f":"Table!AE16<=Inputs!$B$6","v":false},{"$f":"IF(AND($A16,AC16,NOT(AE16)),Table!AF16,0)","v":0},{"$f":"Table!AG16<=Inputs!$B$6","v":false},{"$f":"IF(AND($A16,AE16,NOT(AG16)),Table!AH16,0)","v":0}]
[false,{"$f":"Table!B17<=Inputs!B$2","v":true},{"$f":"Table!C17<=Inputs!$B$6","v":true},{"$f":"IF(AND(A17,AH17+AF17+AD17+AB17+Z17+X17+V17+T17+R17+P17+N17+L17+J17+H17+F17=0),Table!D17,0)","v":0},{"$f":"Table!E17<=Inputs!$B$6","v":true},{"$f":"IF(AND($A17,C17,NOT(E17)),Table!F17,0)","v":0},{"$f":"Table!G17<=Inputs!$B$6","v":true},{"$f":"IF(AND($A17,E17,NOT(G17)),Table!H17,0)","v":0},{"$f":"Table!I17<=Inputs!$B$6","v":true},{"$f":"IF(AND($A17,G17,NOT(I17)),Table!J17,0)","v":0},{"$f":"Table!K17<=Inputs!$B$6","v":false},{"$f":"IF(AND($A17,I17,NOT(K17)),Table!L17,0)","v":0},{"$f":"Table!M17<=Inputs!$B$6","v":false},{"$f":"IF(AND($A17,K17,NOT(M17)),Table!N17,0)","v":0},{"$f":"Table!O17<=Inputs!$B$6","v":false},{"$f":"IF(AND($A17,M17,NOT(O17)),Table!P17,0)","v":0},{"$f":"Table!Q17<=Inputs!$B$6","v":false},{"$f":"IF(AND($A17,O17,NOT(Q17)),Table!R17,0)","v":0},{"$f":"Table!S17<=Inputs!$B$6","v":false},{"$f":"IF(AND($A17,Q17,NOT(S17)),Table!T17,0)","v":0},{"$f":"Table!U17<=Inputs!$B$6","v":false},{"$f":"IF(AND($A17,S17,NOT(U17)),Table!V17,0)","v":0},{"$f":"Table!W17<=Inputs!$B$6","v":false},{"$f":"IF(AND($A17,U17,NOT(W17)),Table!X17,0)","v":0},{"$f":"Table!Y17<=Inputs!$B$6","v":false},{"$f":"IF(AND($A17,W17,NOT(Y17)),Table!Z17,0)","v":0},{"$f":"Table!AA17<=Inputs!$B$6","v":false},{"$f":"IF(AND($A17,Y17,NOT(AA17)),Table!AB17,0)","v":0},{"$f":"Table!AC17<=Inputs!$B$6","v":false},{"$f":"IF(AND($A17,AA17,NOT(AC17)),Table!AD17,0)","v":0},{"$f":"Table!AE17<=Inputs!$B$6","v":false},{"$f":"IF(AND($A17,AC17,NOT(AE17)),Table!AF17,0)","v":0},{"$f":"Table!AG17<=Inputs!$B$6","v":false},{"$f":"IF(AND($A17,AE17,NOT(AG17)),Table!AH17,0)","v":0}]
[false,{"$f":"Table!B18<=Inputs!B$2","v":true},{"$f":"Table!C18<=Inputs!$B$6","v":true},{"$f":"IF(AND(A18,AH18+AF18+AD18+AB18+Z18+X18+V18+T18+R18+P18+N18+L18+J18+H18+F18=0),Table!D18,0)","v":0},{"$f":"Table!E18<=Inputs!$B$6","v":true},{"$f":"IF(AND($A18,C18,NOT(E18)),Table!F18,0)","v":0},{"$f":"Table!G18<=Inputs!$B$6","v":true},{"$f":"IF(AND($A18,E18,NOT(G18)),Table!H18,0)","v":0},{"$f":"Table!I18<=Inputs!$B$6","v":true},{"$f":"IF(AND($A18,G18,NOT(I18)),Table!J18,0)","v":0},{"$f":"Table!K18<=Inputs!$B$6","v":true},{"$f":"IF(AND($A18,I18,NOT(K18)),Table!L18,0)","v":0},{"$f":"Table!M18<=Inputs!$B$6","v":false},{"$f":"IF(AND($A18,K18,NOT(M18)),Table!N18,0)","v":0},{"$f":"Table!O18<=Inputs!$B$6","v":false},{"$f":"IF(AND($A18,M18,NOT(O18)),Table!P18,0)","v":0},{"$f":"Table!Q18<=Inputs!$B$6","v":false},{"$f":"IF(AND($A18,O18,NOT(Q18)),Table!R18,0)","v":0},{"$f":"Table!S18<=Inputs!$B$6","v":false},{"$f":"IF(AND($A18,Q18,NOT(S18)),Table!T18,0)","v":0},{"$f":"Table!U18<=Inputs!$B$6","v":false},{"$f":"IF(AND($A18,S18,NOT(U18)),Table!V18,0)","v":0},{"$f":"Table!W18<=Inputs!$B$6","v":false},{"$f":"IF(AND($A18,U18,NOT(W18)),Table!X18,0)","v":0},{"$f":"Table!Y18<=Inputs!$B$6","v":false},{"$f":"IF(AND($A18,W18,NOT(Y18)),Table!Z18,0)","v":0},{"$f":"Table!AA18<=Inputs!$B$6","v":false},{"$f":"IF(AND($A18,Y18,NOT(AA18)),Table!AB18,0)","v":0},{"$f":"Table!AC18<=Inputs!$B$6","v":false},{"$f":"IF(AND($A18,AA18,NOT(AC18)),Table!AD18,0)","v":0},{"$f":"Table!AE18<=Inputs!$B$6","v":false},{"$f":"IF(AND($A18,AC18,NOT(AE18)),Table!AF18,0)","v":0},{"$f":"Table!AG18<=Inputs!$B$6","v":false},{"$f":"IF(AND($A18,AE18,NOT(AG18)),Table!AH18,0)","v":0}]
[false,{"$f":"Table!B19<=Inputs!B$2","v":true},{"$f":"Table!C19<=Inputs!$B$6","v":true},{"$f":"IF(AND(A19,AH19+AF19+AD19+AB19+Z19+X19+V19+T19+R19+P19+N19+L19+J19+H19+F19=0),Table!D19,0)","v":0},{"$f":"Table!E19<=Inputs!$B$6","v":true},{"$f":"IF(AND($A19,C19,NOT(E19)),Table!F19,0)","v":0},{"$f":"Table!G19<=Inputs!$B$6","v":true},{"$f":"IF(AND($A19,E19,NOT(G19)),Table!H19,0)","v":0},{"$f":"Table!I19<=Inputs!$B$6","v":true},{"$f":"IF(AND($A19,G19,NOT(I19)),Table!J19,0)","v":0},{"$f":"Table!K19<=Inputs!$B$6","v":true},{"$f":"IF(AND($A19,I19,NOT(K19)),Table!L19,0)","v":0},{"$f":"Table!M19<=Inputs!$B$6","v":false},{"$f":"IF(AND($A19,K19,NOT(M19)),Table!N19,0)","v":0},{"$f":"Table!O19<=Inputs!$B$6","v":false},{"$f":"IF(AND($A19,M19,NOT(O19)),Table!P19,0)","v":0},{"$f":"Table!Q19<=Inputs!$B$6","v":false},{"$f":"IF(AND($A19,O19,NOT(Q19)),Table!R19,0)","v":0},{"$f":"Table!S19<=Inputs!$B$6","v":false},{"$f":"IF(AND($A19,Q19,NOT(S19)),Table!T19,0)","v":0},{"$f":"Table!U19<=Inputs!$B$6","v":false},{"$f":"IF(AND($A19,S19,NOT(U19)),Table!V19,0)","v":0},{"$f":"Table!W19<=Inputs!$B$6","v":false},{"$f":"IF(AND($A19,U19,NOT(W19)),Table!X19,0)","v":0},{"$f":"Table!Y19<=Inputs!$B$6","v":false},{"$f":"IF(AND($A19,W19,NOT(Y19)),Table!Z19,0)","v":0},{"$f":"Table!AA19<=Inputs!$B$6","v":false},{"$f":"IF(AND($A19,Y19,NOT(AA19)),Table!AB19,0)","v":0},{"$f":"Table!AC19<=Inputs!$B$6","v":false},{"$f":"IF(AND($A19,AA19,NOT(AC19)),Table!AD19,0)","v":0},{"$f":"Table!AE19<=Inputs!$B$6","v":false},{"$f":"IF(AND($A19,AC19,NOT(AE19)),Table!AF19,0)","v":0},{"$f":"Table!AG19<=Inputs!$B$6","v":false},{"$f":"IF(AND($A19,AE19,NOT(AG19)),Table!AH19,0)","v":0}]
[false,{"$f":"Table!B20<=Inputs!B$2","v":true},{"$f":"Table!C20<=Inputs!$B$6","v":true},{"$f":"IF(AND(A20,AH20+AF20+AD20+AB20+Z20+X20+V20+T20+R20+P20+N20+L20+J20+H20+F20=0),Table!D20,0)","v":0},{"$f":"Table!E20<=Inputs!$B$6","v":true},{"$f":"IF(AND($A20,C20,NOT(E20)),Table!F20,0)","v":0},{"$f":"Table!G20<=Inputs!$B$6","v":true},{"$f":"IF(AND($A20,E20,NOT(G20)),Table!H20,0)","v":0},{"$f":"Table!I20<=Inputs!$B$6","v":true},{"$f":"IF(AND($A20,G20,NOT(I20)),Table!J20,0)","v":0},{"$f":"Table!K20<=Inputs!$B$6","v":true},{"$f":"IF(AND($A20,I20,NOT(K20)),Table!L20,0)","v":0},{"$f":"Table!M20<=Inputs!$B$6","v":false},{"$f":"IF(AND($A20,K20,NOT(M20)),Table!N20,0)","v":0},{"$f":"Table!O20<=Inputs!$B$6","v":false},{"$f":"IF(AND($A20,M20,NOT(O20)),Table!P20,0)","v":0},{"$f":"Table!Q20<=Inputs!$B$6","v":false},{"$f":"IF(AND($A20,O20,NOT(Q20)),Table!R20,0)","v":0},{"$f":"Table!S20<=Inputs!$B$6","v":false},{"$f":"IF(AND($A20,Q20,NOT(S20)),Table!T20,0)","v":0},{"$f":"Table!U20<=Inputs!$B$6","v":false},{"$f":"IF(AND($A20,S20,NOT(U20)),Table!V20,0)","v":0},{"$f":"Table!W20<=Inputs!$B$6","v":false},{"$f":"IF(AND($A20,U20,NOT(W20)),Table!X20,0)","v":0},{"$f":"Table!Y20<=Inputs!$B$6","v":false},{"$f":"IF(AND($A20,W20,NOT(Y20)),Table!Z20,0)","v":0},{"$f":"Table!AA20<=Inputs!$B$6","v":false},{"$f":"IF(AND($A20,Y20,NOT(AA20)),Table!AB20,0)","v":0},{"$f":"Table!AC20<=Inputs!$B$6","v":false},{"$f":"IF(AND($A20,AA20,NOT(AC20)),Table!AD20,0)","v":0},{"$f":"Table!AE20<=Inputs!$B$6","v":false},{"$f":"IF(AND($A20,AC20,NOT(AE20)),Table!AF20,0)","v":0},{"$f":"Table!AG20<=Inputs!$B$6","v":false},{"$f":"IF(AND($A20,AE20,NOT(AG20)),Table!AH20,0)","v":0}]
[false,{"$f":"Table!B21<=Inputs!B$2","v":true},{"$f":"Table!C21<=Inputs!$B$6","v":true},{"$f":"IF(AND(A21,AH21+AF21+AD21+AB21+Z21+X21+V21+T21+R21+P21+N21+L21+J21+H21+F21=0),Table!D21,0)","v":0},{"$f":"Table!E21<=Inputs!$B$6","v":true},{"$f":"IF(AND($A21,C21,NOT(E21)),Table!F21,0)","v":0},{"$f":"Table!G21<=Inputs!$B$6","v":true},{"$f":"IF(AND($A21,E21,NOT(G21)),Table!H21,0)","v":0},{"$f":"Table!I21<=Inputs!$B$6","v":true},{"$f":"IF(AND($A21,G21,NOT(I21)),Table!J21,0)","v":0},{"$f":"Table!K21<=Inputs!$B$6","v":true},{"$f":"IF(AND($A21,I21,NOT(K21)),Table!L21,0)","v":0},{"$f":"Table!M21<=Inputs!$B$6","v":false},{"$f":"IF(AND($A21,K21,NOT(M21)),Table!N21,0)","v":0},{"$f":"Table!O21<=Inputs!$B$6","v":false},{"$f":"IF(AND($A21,M21,NOT(O21)),Table!P21,0)","v":0},{"$f":"Table!Q21<=Inputs!$B$6","v":false},{"$f":"IF(AND($A21,O21,NOT(Q21)),Table!R21,0)","v":0},{"$f":"Table!S21<=Inputs!$B$6","v":false},{"$f":"IF(AND($A21,Q21,NOT(S21)),Table!T21,0)","v":0},{"$f":"Table!U21<=Inputs!$B$6","v":false},{"$f":"IF(AND($A21,S21,NOT(U21)),Table!V21,0)","v":0},{"$f":"Table!W21<=Inputs!$B$6","v":false},{"$f":"IF(AND($A21,U21,NOT(W21)),Table!X21,0)","v":0},{"$f":"Table!Y21<=Inputs!$B$6","v":false},{"$f":"IF(AND($A21,W21,NOT(Y21)),Table!Z21,0)","v":0},{"$f":"Table!AA21<=Inputs!$B$6","v":false},{"$f":"IF(AND($A21,Y21,NOT(AA21)),Table!AB21,0)","v":0},{"$f":"Table!AC21<=Inputs!$B$6","v":false},{"$f":"IF(AND($A21,AA21,NOT(AC21)),Table!AD21,0)","v":0},{"$f":"Table!AE21<=Inputs!$B$6","v":false},{"$f":"IF(AND($A21,AC21,NOT(AE21)),Table!AF21,0)","v":0},{"$f":"Table!AG21<=Inputs!$B$6","v":false},{"$f":"IF(AND($A21,AE21,NOT(AG21)),Table!AH21,0)","v":0}]
[false,{"$f":"Table!B22<=Inputs!B$2","v":true},{"$f":"Table!C22<=Inputs!$B$6","v":true},{"$f":"IF(AND(A22,AH22+AF22+AD22+AB22+Z22+X22+V22+T22+R22+P22+N22+L22+J22+H22+F22=0),Table!D22,0)","v":0},{"$f":"Table!E22<=Inputs!$B$6","v":true},{"$f":"IF(AND($A22,C22,NOT(E22)),Table!F22,0)","v":0},{"$f":"Table!G22<=Inputs!$B$6","v":true},{"$f":"IF(AND($A22,E22,NOT(G22)),Table!H22,0)","v":0},{"$f":"Table!I22<=Inputs!$B$6","v":true},{"$f":"IF(AND($A22,G22,NOT(I22)),Table!J22,0)","v":0},{"$f":"Table!K22<=Inputs!$B$6","v":true},{"$f":"IF(AND($A22,I22,NOT(K22)),Table!L22,0)","v":0},{"$f":"Table!M22<=Inputs!$B$6","v":true},{"$f":"IF(AND($A22,K22,NOT(M22)),Table!N22,0)","v":0},{"$f":"Table!O22<=Inputs!$B$6","v":false},{"$f":"IF(AND($A22,M22,NOT(O22)),Table!P22,0)","v":0},{"$f":"Table!Q22<=Inputs!$B$6","v":false},{"$f":"IF(AND($A22,O22,NOT(Q22)),Table!R22,0)","v":0},{"$f":"Table!S22<=Inputs!$B$6","v":false},{"$f":"IF(AND($A22,Q22,NOT(S22)),Table!T22,0)","v":0},{"$f":"Table!U22<=Inputs!$B$6","v":false},{"$f":"IF(AND($A22,S22,NOT(U22)),Table!V22,0)","v":0},{"$f":"Table!W22<=Inputs!$B$6","v":false},{"$f":"IF(AND($A22,U22,NOT(W22)),Table!X22,0)","v":0},{"$f":"Table!Y22<=Inputs!$B$6","v":false},{"$f":"IF(AND($A22,W22,NOT(Y22)),Table!Z22,0)","v":0},{"$f":"Table!AA22<=Inputs!$B$6","v":false},{"$f":"IF(AND($A22,Y22,NOT(AA22)),Table!AB22,0)","v":0},{"$f":"Table!AC22<=Inputs!$B$6","v":false},{"$f":"IF(AND($A22,AA22,NOT(AC22)),Table!AD22,0)","v":0},{"$f":"Table!AE22<=Inputs!$B$6","v":false},{"$f":"IF(AND($A22,AC22,NOT(AE22)),Table!AF22,0)","v":0},{"$f":"Table!AG22<=Inputs!$B$6","v":false},{"$f":"IF(AND($A22,AE22,NOT(AG22)),Table!AH22,0)","v":0}]
[false,{"$f":"Table!B23<=Inputs!B$2","v":true},{"$f":"Table!C23<=Inputs!$B$6","v":true},{"$f":"IF(AND(A23,AH23+AF23+AD23+AB23+Z23+X23+V23+T23+R23+P23+N23+L23+J23+H23+F23=0),Table!D23,0)","v":0},{"$f":"Table!E23<=Inputs!$B$6","v":true},{"$f":"IF(AND($A23,C23,NOT(E23)),Table!F23,0)","v":0},{"$f":"Table!G23<=Inputs!$B$6","v":true},{"$f":"IF(AND($A23,E23,NOT(G23)),Table!H23,0)","v":0},{"$f":"Table!I23<=Inputs!$B$6","v":true},{"$f":"IF(AND($A23,G23,NOT(I23)),Table!J23,0)","v":0},{"$f":"Table!K23<=Inputs!$B$6","v":true},{"$f":"IF(AND($A23,I23,NOT(K23)),Table!L23,0)","v":0},{"$f":"Table!M23<=Inputs!$B$6","v":true},{"$f":"IF(AND($A23,K23,NOT(M23)),Table!N23,0)","v":0},{"$f":"Table!O23<=Inputs!$B$6","v":false},{"$f":"IF(AND($A23,M23,NOT(O23)),Table!P23,0)","v":0},{"$f":"Table!Q23<=Inputs!$B$6","v":false},{"$f":"IF(AND($A23,O23,NOT(Q23)),Table!R23,0)","v":0},{"$f":"Table!S23<=Inputs!$B$6","v":false},{"$f":"IF(AND($A23,Q23,NOT(S23)),Table!T23,0)","v":0},{"$f":"Table!U23<=Inputs!$B$6","v":false},{"$f":"IF(AND($A23,S23,NOT(U23)),Table!V23,0)","v":0},{"$f":"Table!W23<=Inputs!$B$6","v":false},{"$f":"IF(AND($A23,U23,NOT(W23)),Table!X23,0)","v":0},{"$f":"Table!Y23<=Inputs!$B$6","v":false},{"$f":"IF(AND($A23,W23,NOT(Y23)),Table!Z23,0)","v":0},{"$f":"Table!AA23<=Inputs!$B$6","v":false},{"$f":"IF(AND($A23,Y23,NOT(AA23)),Table!AB23,0)","v":0},{"$f":"Table!AC23<=Inputs!$B$6","v":false},{"$f":"IF(AND($A23,AA23,NOT(AC23)),Table!AD23,0)","v":0},{"$f":"Table!AE23<=Inputs!$B$6","v":false},{"$f":"IF(AND($A23,AC23,NOT(AE23)),Table!AF23,0)","v":0},{"$f":"Table!AG23<=Inputs!$B$6","v":false},{"$f":"IF(AND($A23,AE23,NOT(AG23)),Table!AH23,0)","v":0}]
[false,{"$f":"Table!B24<=Inputs!B$2","v":true},{"$f":"Table!C24<=Inputs!$B$6","v":true},{"$f":"IF(AND(A24,AH24+AF24+AD24+AB24+Z24+X24+V24+T24+R24+P24+N24+L24+J24+H24+F24=0),Table!D24,0)","v":0},{"$f":"Table!E24<=Inputs!$B$6","v":true},{"$f":"IF(AND($A24,C24,NOT(E24)),Table!F24,0)","v":0},{"$f":"Table!G24<=Inputs!$B$6","v":true},{"$f":"IF(AND($A24,E24,NOT(G24)),Table!H24,0)","v":0},{"$f":"Table!I24<=Inputs!$B$6","v":true},{"$f":"IF(AND($A24,G24,NOT(I24)),Table!J24,0)","v":0},{"$f":"Table!K24<=Inputs!$B$6","v":true},{"$f":"IF(AND($A24,I24,NOT(K24)),Table!L24,0)","v":0},{"$f":"Table!M24<=Inputs!$B$6","v":true},{"$f":"IF(AND($A24,K24,NOT(M24)),Table!N24,0)","v":0},{"$f":"Table!O24<=Inputs!$B$6","v":false},{"$f":"IF(AND($A24,M24,NOT(O24)),Table!P24,0)","v":0},{"$f":"Table!Q24<=Inputs!$B$6","v":false},{"$f":"IF(AND($A24,O24,NOT(Q24)),Table!R24,0)","v":0},{"$f":"Table!S24<=Inputs!$B$6","v":false},{"$f":"IF(AND($A24,Q24,NOT(S24)),Table!T24,0)","v":0},{"$f":"Table!U24<=Inputs!$B$6","v":false},{"$f":"IF(AND($A24,S24,NOT(U24)),Table!V24,0)","v":0},{"$f":"Table!W24<=Inputs!$B$6","v":false},{"$f":"IF(AND($A24,U24,NOT(W24)),Table!X24,0)","v":0},{"$f":"Table!Y24<=Inputs!$B$6","v":false},{"$f":"IF(AND($A24,W24,NOT(Y24)),Table!Z24,0)","v":0},{"$f":"Table!AA24<=Inputs!$B$6","v":false},{"$f":"IF(AND($A24,Y24,NOT(AA24)),Table!AB24,0)","v":0},{"$f":"Table!AC24<=Inputs!$B$6","v":false},{"$f":"IF(AND($A24,AA24,NOT(AC24)),Table!AD24,0)","v":0},{"$f":"Table!AE24<=Inputs!$B$6","v":false},{"$f":"IF(AND($A24,AC24,NOT(AE24)),Table!AF24,0)","v":0},{"$f":"Table!AG24<=Inputs!$B$6","v":false},{"$f":"IF(AND($A24,AE24,NOT(AG24)),Table!AH24,0)","v":0}]
[false,{"$f":"Table!B25<=Inputs!B$2","v":true},{"$f":"Table!C25<=Inputs!$B$6","v":true},{"$f":"IF(AND(A25,AH25+AF25+AD25+AB25+Z25+X25+V25+T25+R25+P25+N25+L25+J25+H25+F25=0),Table!D25,0)","v":0},{"$f":"Table!E25<=Inputs!$B$6","v":true},{"$f":"IF(AND($A25,C25,NOT(E25)),Table!F25,0)","v":0},{"$f":"Table!G25<=Inputs!$B$6","v":true},{"$f":"IF(AND($A25,E25,NOT(G25)),Table!H25,0)","v":0},{"$f":"Table!I25<=Inputs!$B$6","v":true},{"$f":"IF(AND($A25,G25,NOT(I25)),Table!J25,0)","v":0},{"$f":"Table!K25<=Inputs!$B$6","v":true},{"$f":"IF(AND($A25,I25,NOT(K25)),Table!L25,0)","v":0},{"$f":"Table!M25<=Inputs!$B$6","v":true},{"$f":"IF(AND($A25,K25,NOT(M25)),Table!N25,0)","v":0},{"$f":"Table!O25<=Inputs!$B$6","v":false},{"$f":"IF(AND($A25,M25,NOT(O25)),Table!P25,0)","v":0},{"$f":"Table!Q25<=Inputs!$B$6","v":false},{"$f":"IF(AND($A25,O25,NOT(Q25)),Table!R25,0)","v":0},{"$f":"Table!S25<=Inputs!$B$6","v":false},{"$f":"IF(AND($A25,Q25,NOT(S25)),Table!T25,0)","v":0},{"$f":"Table!U25<=Inputs!$B$6","v":false},{"$f":"IF(AND($A25,S25,NOT(U25)),Table!V25,0)","v":0},{"$f":"Table!W25<=Inputs!$B$6","v":false},{"$f":"IF(AND($A25,U25,NOT(W25)),Table!X25,0)","v":0},{"$f":"Table!Y25<=Inputs!$B$6","v":false},{"$f":"IF(AND($A25,W25,NOT(Y25)),Table!Z25,0)","v":0},{"$f":"Table!AA25<=Inputs!$B$6","v":false},{"$f":"IF(AND($A25,Y25,NOT(AA25)),Table!AB25,0)","v":0},{"$f":"Table!AC25<=Inputs!$B$6","v":false},{"$f":"IF(AND($A25,AA25,NOT(AC25)),Table!AD25,0)","v":0},{"$f":"Table!AE25<=Inputs!$B$6","v":false},{"$f":"IF(AND($A25,AC25,NOT(AE25)),Table!AF25,0)","v":0},{"$f":"Table!AG25<=Inputs!$B$6","v":false},{"$f":"IF(AND($A25,AE25,NOT(AG25)),Table!AH25,0)","v":0}]
[false,{"$f":"Table!B26<=Inputs!B$2","v":true},{"$f":"Table!C26<=Inputs!$B$6","v":true},{"$f":"IF(AND(A26,AH26+AF26+AD26+AB26+Z26+X26+V26+T26+R26+P26+N26+L26+J26+H26+F26=0),Table!D26,0)","v":0},{"$f":"Table!E26<=Inputs!$B$6","v":true},{"$f":"IF(AND($A26,C26,NOT(E26)),Table!F26,0)","v":0},{"$f":"Table!G26<=Inputs!$B$6","v":true},{"$f":"IF(AND($A26,E26,NOT(G26)),Table!H26,0)","v":0},{"$f":"Table!I26<=Inputs!$B$6","v":true},{"$f":"IF(AND($A26,G26,NOT(I26)),Table!J26,0)","v":0},{"$f":"Table!K26<=Inputs!$B$6","v":true},{"$f":"IF(AND($A26,I26,NOT(K26)),Table!L26,0)","v":0},{"$f":"Table!M26<=Inputs!$B$6","v":true},{"$f":"IF(AND($A26,K26,NOT(M26)),Table!N26,0)","v":0},{"$f":"Table!O26<=Inputs!$B$6","v":false},{"$f":"IF(AND($A26,M26,NOT(O26)),Table!P26,0)","v":0},{"$f":"Table!Q26<=Inputs!$B$6","v":false},{"$f":"IF(AND($A26,O26,NOT(Q26)),Table!R26,0)","v":0},{"$f":"Table!S26<=Inputs!$B$6","v":false},{"$f":"IF(AND($A26,Q26,NOT(S26)),Table!T26,0)","v":0},{"$f":"Table!U26<=Inputs!$B$6","v":false},{"$f":"IF(AND($A26,S26,NOT(U26)),Table!V26,0)","v":0},{"$f":"Table!W26<=Inputs!$B$6","v":false},{"$f":"IF(AND($A26,U26,NOT(W26)),Table!X26,0)","v":0},{"$f":"Table!Y26<=Inputs!$B$6","v":false},{"$f":"IF(AND($A26,W26,NOT(Y26)),Table!Z26,0)","v":0},{"$f":"Table!AA26<=Inputs!$B$6","v":false},{"$f":"IF(AND($A26,Y26,NOT(AA26)),Table!AB26,0)","v":0},{"$f":"Table!AC26<=Inputs!$B$6","v":false},{"$f":"IF(AND($A26,AA26,NOT(AC26)),Table!AD26,0)","v":0},{"$f":"Table!AE26<=Inputs!$B$6","v":false},{"$f":"IF(AND($A26,AC26,NOT(AE26)),Table!AF26,0)","v":0},{"$f":"Table!AG26<=Inputs!$B$6","v":false},{"$f":"IF(AND($A26,AE26,NOT(AG26)),Table!AH26,0)","v":0}]
[false,{"$f":"Table!B27<=Inputs!B$2","v":true},{"$f":"Table!C27<=Inputs!$B$6","v":true},{"$f":"IF(AND(A27,AH27+AF27+AD27+AB27+Z27+X27+V27+T27+R27+P27+N27+L27+J27+H27+F27=0),Table!D27,0)","v":0},{"$f":"Table!E27<=Inputs!$B$6","v":true},{"$f":"IF(AND($A27,C27,NOT(E27)),Table!F27,0)","v":0},{"$f":"Table!G27<=Inputs!$B$6","v":true},{"$f":"IF(AND($A27,E27,NOT(G27)),Table!H27,0)","v":0},{"$f":"Table!I27<=Inputs!$B$6","v":true},{"$f":"IF(AND($A27,G27,NOT(I27)),Table!J27,0)","v":0},{"$f":"Table!K27<=Inputs!$B$6","v":true},{"$f":"IF(AND($A27,I27,NOT(K27)),Table!L27,0)","v":0},{"$f":"Table!M27<=Inputs!$B$6","v":true},{"$f":"IF(AND($A27,K27,NOT(M27)),Table!N27,0)","v":0},{"$f":"Table!O27<=Inputs!$B$6","v":true},{"$f":"IF(AND($A27,M27,NOT(O27)),Table!P27,0)","v":0},{"$f":"Table!Q27<=Inputs!$B$6","v":false},{"$f":"IF(AND($A27,O27,NOT(Q27)),Table!R27,0)","v":0},{"$f":"Table!S27<=Inputs!$B$6","v":false},{"$f":"IF(AND($A27,Q27,NOT(S27)),Table!T27,0)","v":0},{"$f":"Table!U27<=Inputs!$B$6","v":false},{"$f":"IF(AND($A27,S27,NOT(U27)),Table!V27,0)","v":0},{"$f":"Table!W27<=Inputs!$B$6","v":false},{"$f":"IF(AND($A27,U27,NOT(W27)),Table!X27,0)","v":0},{"$f":"Table!Y27<=Inputs!$B$6","v":false},{"$f":"IF(AND($A27,W27,NOT(Y27)),Table!Z27,0)","v":0},{"$f":"Table!AA27<=Inputs!$B$6","v":false},{"$f":"IF(AND($A27,Y27,NOT(AA27)),Table!AB27,0)","v":0},{"$f":"Table!AC27<=Inputs!$B$6","v":false},{"$f":"IF(AND($A27,AA27,NOT(AC27)),Table!AD27,0)","v":0},{"$f":"Table!AE27<=Inputs!$B$6","v":false},{"$f":"IF(AND($A27,AC27,NOT(AE27)),Table!AF27,0)","v":0},{"$f":"Table!AG27<=Inputs!$B$6","v":false},{"$f":"IF(AND($A27,AE27,NOT(AG27)),Table!AH27,0)","v":0}]
[false,{"$f":"Table!B28<=Inputs!B$2","v":true},{"$f":"Table!C28<=Inputs!$B$6","v":true},{"$f":"IF(AND(A28,AH28+AF28+AD28+AB28+Z28+X28+V28+T28+R28+P28+N28+L28+J28+H28+F28=0),Table!D28,0)","v":0},{"$f":"Table!E28<=Inputs!$B$6","v":true},{"$f":"IF(AND($A28,C28,NOT(E28)),Table!F28,0)","v":0},{"$f":"Table!G28<=Inputs!$B$6","v":true},{"$f":"IF(AND($A28,E28,NOT(G28)),Table!H28,0)","v":0},{"$f":"Table!I28<=Inputs!$B$6","v":true},{"$f":"IF(AND($A28,G28,NOT(I28)),Table!J28,0)","v":0},{"$f":"Table!K28<=Inputs!$B$6","v":true},{"$f":"IF(AND($A28,I28,NOT(K28)),Table!L28,0)","v":0},{"$f":"Table!M28<=Inputs!$B$6","v":true},{"$f":"IF(AND($A28,K28,NOT(M28)),Table!N28,0)","v":0},{"$f":"Table!O28<=Inputs!$B$6","v":true},{"$f":"IF(AND($A28,M28,NOT(O28)),Table!P28,0)","v":0},{"$f":"Table!Q28<=Inputs!$B$6","v":false},{"$f":"IF(AND($A28,O28,NOT(Q28)),Table!R28,0)","v":0},{"$f":"Table!S28<=Inputs!$B$6","v":false},{"$f":"IF(AND($A28,Q28,NOT(S28)),Table!T28,0)","v":0},{"$f":"Table!U28<=Inputs!$B$6","v":false},{"$f":"IF(AND($A28,S28,NOT(U28)),Table!V28,0)","v":0},{"$f":"Table!W28<=Inputs!$B$6","v":false},{"$f":"IF(AND($A28,U28,NOT(W28)),Table!X28,0)","v":0},{"$f":"Table!Y28<=Inputs!$B$6","v":false},{"$f":"IF(AND($A28,W28,NOT(Y28)),Table!Z28,0)","v":0},{"$f":"Table!AA28<=Inputs!$B$6","v":false},{"$f":"IF(AND($A28,Y28,NOT(AA28)),Table!AB28,0)","v":0},{"$f":"Table!AC28<=Inputs!$B$6","v":false},{"$f":"IF(AND($A28,AA28,NOT(AC28)),Table!AD28,0)","v":0},{"$f":"Table!AE28<=Inputs!$B$6","v":false},{"$f":"IF(AND($A28,AC28,NOT(AE28)),Table!AF28,0)","v":0},{"$f":"Table!AG28<=Inputs!$B$6","v":false},{"$f":"IF(AND($A28,AE28,NOT(AG28)),Table!AH28,0)","v":0}]
[false,{"$f":"Table!B29<=Inputs!B$2","v":true},{"$f":"Table!C29<=Inputs!$B$6","v":true},{"$f":"IF(AND(A29,AH29+AF29+AD29+AB29+Z29+X29+V29+T29+R29+P29+N29+L29+J29+H29+F29=0),Table!D29,0)","v":0},{"$f":"Table!E29<=Inputs!$B$6","v":true},{"$f":"IF(AND($A29,C29,NOT(E29)),Table!F29,0)","v":0},{"$f":"Table!G29<=Inputs!$B$6","v":true},{"$f":"IF(AND($A29,E29,NOT(G29)),Table!H29,0)","v":0},{"$f":"Table!I29<=Inputs!$B$6","v":true},{"$f":"IF(AND($A29,G29,NOT(I29)),Table!J29,0)","v":0},{"$f":"Table!K29<=Inputs!$B$6","v":true},{"$f":"IF(AND($A29,I29,NOT(K29)),Table!L29,0)","v":0},{"$f":"Table!M29<=Inputs!$B$6","v":true},{"$f":"IF(AND($A29,K29,NOT(M29)),Table!N29,0)","v":0},{"$f":"Table!O29<=Inputs!$B$6","v":true},{"$f":"IF(AND($A29,M29,NOT(O29)),Table!P29,0)","v":0},{"$f":"Table!Q29<=Inputs!$B$6","v":false},{"$f":"IF(AND($A29,O29,NOT(Q29)),Table!R29,0)","v":0},{"$f":"Table!S29<=Inputs!$B$6","v":false},{"$f":"IF(AND($A29,Q29,NOT(S29)),Table!T29,0)","v":0},{"$f":"Table!U29<=Inputs!$B$6","v":false},{"$f":"IF(AND($A29,S29,NOT(U29)),Table!V29,0)","v":0},{"$f":"Table!W29<=Inputs!$B$6","v":false},{"$f":"IF(AND($A29,U29,NOT(W29)),Table!X29,0)","v":0},{"$f":"Table!Y29<=Inputs!$B$6","v":false},{"$f":"IF(AND($A29,W29,NOT(Y29)),Table!Z29,0)","v":0},{"$f":"Table!AA29<=Inputs!$B$6","v":false},{"$f":"IF(AND($A29,Y29,NOT(AA29)),Table!AB29,0)","v":0},{"$f":"Table!AC29<=Inputs!$B$6","v":false},{"$f":"IF(AND($A29,AA29,NOT(AC29)),Table!AD29,0)","v":0},{"$f":"Table!AE29<=Inputs!$B$6","v":false},{"$f":"IF(AND($A29,AC29,NOT(AE29)),Table!AF29,0)","v":0},{"$f":"Table!AG29<=Inputs!$B$6","v":false},{"$f":"IF(AND($A29,AE29,NOT(AG29)),Table!AH29,0)","v":0}]
[false,{"$f":"Table!B30<=Inputs!B$2","v":true},{"$f":"Table!C30<=Inputs!$B$6","v":true},{"$f":"IF(AND(A30,AH30+AF30+AD30+AB30+Z30+X30+V30+T30+R30+P30+N30+L30+J30+H30+F30=0),Table!D30,0)","v":0},{"$f":"Table!E30<=Inputs!$B$6","v":true},{"$f":"IF(AND($A30,C30,NOT(E30)),Table!F30,0)","v":0},{"$f":"Table!G30<=Inputs!$B$6","v":true},{"$f":"IF(AND($A30,E30,NOT(G30)),Table!H30,0)","v":0},{"$f":"Table!I30<=Inputs!$B$6","v":true},{"$f":"IF(AND($A30,G30,NOT(I30)),Table!J30,0)","v":0},{"$f":"Table!K30<=Inputs!$B$6","v":true},{"$f":"IF(AND($A30,I30,NOT(K30)),Table!L30,0)","v":0},{"$f":"Table!M30<=Inputs!$B$6","v":true},{"$f":"IF(AND($A30,K30,NOT(M30)),Table!N30,0)","v":0},{"$f":"Table!O30<=Inputs!$B$6","v":true},{"$f":"IF(AND($A30,M30,NOT(O30)),Table!P30,0)","v":0},{"$f":"Table!Q30<=Inputs!$B$6","v":false},{"$f":"IF(AND($A30,O30,NOT(Q30)),Table!R30,0)","v":0},{"$f":"Table!S30<=Inputs!$B$6","v":false},{"$f":"IF(AND($A30,Q30,NOT(S30)),Table!T30,0)","v":0},{"$f":"Table!U30<=Inputs!$B$6","v":false},{"$f":"IF(AND($A30,S30,NOT(U30)),Table!V30,0)","v":0},{"$f":"Table!W30<=Inputs!$B$6","v":false},{"$f":"IF(AND($A30,U30,NOT(W30)),Table!X30,0)","v":0},{"$f":"Table!Y30<=Inputs!$B$6","v":false},{"$f":"IF(AND($A30,W30,NOT(Y30)),Table!Z30,0)","v":0},{"$f":"Table!AA30<=Inputs!$B$6","v":false},{"$f":"IF(AND($A30,Y30,NOT(AA30)),Table!AB30,0)","v":0},{"$f":"Table!AC30<=Inputs!$B$6","v":false},{"$f":"IF(AND($A30,AA30,NOT(AC30)),Table!AD30,0)","v":0},{"$f":"Table!AE30<=Inputs!$B$6","v":false},{"$f":"IF(AND($A30,AC30,NOT(AE30)),Table!AF30,0)","v":0},{"$f":"Table!AG30<=Inputs!$B$6","v":false},{"$f":"IF(AND($A30,AE30,NOT(AG30)),Table!AH30,0)","v":0}]
[true,{"$f":"Table!B31<=Inputs!B$2","v":true},{"$f":"Table!C31<=Inputs!$B$6","v":true},{"$f":"IF(AND(A31,AH31+AF31+AD31+AB31+Z31+X31+V31+T31+R31+P31+N31+L31+J31+H31+F31=0),Table!D31,0)","v":0},{"$f":"Table!E31<=Inputs!$B$6","v":true},{"$f":"IF(AND($A31,C31,NOT(E31)),Table!F31,0)","v":0},{"$f":"Table!G31<=Inputs!$B$6","v":true},{"$f":"IF(AND($A31,E31,NOT(G31)),Table!H31,0)","v":0},{"$f":"Table!I31<=Inputs!$B$6","v":true},{"$f":"IF(AND($A31,G31,NOT(I31)),Table!J31,0)","v":0},{"$f":"Table!K31<=Inputs!$B$6","v":true},{"$f":"IF(AND($A31,I31,NOT(K31)),Table!L31,0)","v":0},{"$f":"Table!M31<=Inputs!$B$6","v":true},{"$f":"IF(AND($A31,K31,NOT(M31)),Table!N31,0)","v":0},{"$f":"Table!O31<=Inputs!$B$6","v":true},{"$f":"IF(AND($A31,M31,NOT(O31)),Table!P31,0)","v":0},{"$f":"Table!Q31<=Inputs!$B$6","v":true},{"$f":"IF(AND($A31,O31,NOT(Q31)),Table!R31,0)","v":0},{"$f":"Table!S31<=Inputs!$B$6","v":false},{"$f":"IF(AND($A31,Q31,NOT(S31)),Table!T31,0)","v":220},{"$f":"Table!U31<=Inputs!$B$6","v":false},{"$f":"IF(AND($A31,S31,NOT(U31)),Table!V31,0)","v":0},{"$f":"Table!W31<=Inputs!$B$6","v":false},{"$f":"IF(AND($A31,U31,NOT(W31)),Table!X31,0)","v":0},{"$f":"Table!Y31<=Inputs!$B$6","v":false},{"$f":"IF(AND($A31,W31,NOT(Y31)),Table!Z31,0)","v":0},{"$f":"Table!AA31<=Inputs!$B$6","v":false},{"$f":"IF(AND($A31,Y31,NOT(AA31)),Table!AB31,0)","v":0},{"$f":"Table!AC31<=Inputs!$B$6","v":false},{"$f":"IF(AND($A31,AA31,NOT(AC31)),Table!AD31,0)","v":0},{"$f":"Table!AE31<=Inputs!$B$6","v":false},{"$f":"IF(AND($A31,AC31,NOT(AE31)),Table!AF31,0)","v":0},{"$f":"Table!AG31<=Inputs!$B$6","v":false},{"$f":"IF(AND($A31,AE31,NOT(AG31)),Table!AH31,0)","v":0}]
[false,{"$f":"Table!B32<=Inputs!B$2","v":false},{"$f":"Table!C32<=Inputs!$B$6","v":true},{"$f":"IF(AND(A32,AH32+AF32+AD32+AB32+Z32+X32+V32+T32+R32+P32+N32+L32+J32+H32+F32=0),Table!D32,0)","v":0},{"$f":"Table!E32<=Inputs!$B$6","v":true},{"$f":"IF(AND($A32,C32,NOT(E32)),Table!F32,0)","v":0},{"$f":"Table!G32<=Inputs!$B$6","v":true},{"$f":"IF(AND($A32,E32,NOT(G32)),Table!H32,0)","v":0},{"$f":"Table!I32<=Inputs!$B$6","v":true},{"$f":"IF(AND($A32,G32,NOT(I32)),Table!J32,0)","v":0},{"$f":"Table!K32<=Inputs!$B$6","v":true},{"$f":"IF(AND($A32,I32,NOT(K32)),Table!L32,0)","v":0},{"$f":"Table!M32<=Inputs!$B$6","v":true},{"$f":"IF(AND($A32,K32,NOT(M32)),Table!N32,0)","v":0},{"$f":"Table!O32<=Inputs!$B$6","v":true},{"$f":"IF(AND($A32,M32,NOT(O32)),Table!P32,0)","v":0},{"$f":"Table!Q32<=Inputs!$B$6","v":true},{"$f":"IF(AND($A32,O32,NOT(Q32)),Table!R32,0)","v":0},{"$f":"Table!S32<=Inputs!$B$6","v":false},{"$f":"IF(AND($A32,Q32,NOT(S32)),Table!T32,0)","v":0},{"$f":"Table!U32<=Inputs!$B$6","v":false},{"$f":"IF(AND($A32,S32,NOT(U32)),Table!V32,0)","v":0},{"$f":"Table!W32<=Inputs!$B$6","v":false},{"$f":"IF(AND($A32,U32,NOT(W32)),Table!X32,0)","v":0},{"$f":"Table!Y32<=Inputs!$B$6","v":false},{"$f":"IF(AND($A32,W32,NOT(Y32)),Table!Z32,0)","v":0},{"$f":"Table!AA32<=Inputs!$B$6","v":false},{"$f":"IF(AND($A32,Y32,NOT(AA32)),Table!AB32,0)","v":0},{"$f":"Table!AC32<=Inputs!$B$6","v":false},{"$f":"IF(AND($A32,AA32,NOT(AC32)),Table!AD32,0)","v":0},{"$f":"Table!AE32<=Inputs!$B$6","v":false},{"$f":"IF(AND($A32,AC32,NOT(AE32)),Table!AF32,0)","v":0},{"$f":"Table!AG32<=Inputs!$B$6","v":false},{"$f":"IF(AND($A32,AE32,NOT(AG32)),Table!AH32,0)","v":0}]
[false,{"$f":"Table!B33<=Inputs!B$2","v":false},{"$f":"Table!C33<=Inputs!$B$6","v":true},{"$f":"IF(AND(A33,AH33+AF33+AD33+AB33+Z33+X33+V33+T33+R33+P33+N33+L33+J33+H33+F33=0),Table!D33,0)","v":0},{"$f":"Table!E33<=Inputs!$B$6","v":true},{"$f":"IF(AND($A33,C33,NOT(E33)),Table!F33,0)","v":0},{"$f":"Table!G33<=Inputs!$B$6","v":true},{"$f":"IF(AND($A33,E33,NOT(G33)),Table!H33,0)","v":0},{"$f":"Table!I33<=Inputs!$B$6","v":true},{"$f":"IF(AND($A33,G33,NOT(I33)),Table!J33,0)","v":0},{"$f":"Table!K33<=Inputs!$B$6","v":true},{"$f":"IF(AND($A33,I33,NOT(K33)),Table!L33,0)","v":0},{"$f":"Table!M33<=Inputs!$B$6","v":true},{"$f":"IF(AND($A33,K33,NOT(M33)),Table!N33,0)","v":0},{"$f":"Table!O33<=Inputs!$B$6","v":true},{"$f":"IF(AND($A33,M33,NOT(O33)),Table!P33,0)","v":0},{"$f":"Table!Q33<=Inputs!$B$6","v":true},{"$f":"IF(AND($A33,O33,NOT(Q33)),Table!R33,0)","v":0},{"$f":"Table!S33<=Inputs!$B$6","v":false},{"$f":"IF(AND($A33,Q33,NOT(S33)),Table!T33,0)","v":0},{"$f":"Table!U33<=Inputs!$B$6","v":false},{"$f":"IF(AND($A33,S33,NOT(U33)),Table!V33,0)","v":0},{"$f":"Table!W33<=Inputs!$B$6","v":false},{"$f":"IF(AND($A33,U33,NOT(W33)),Table!X33,0)","v":0},{"$f":"Table!Y33<=Inputs!$B$6","v":false},{"$f":"IF(AND($A33,W33,NOT(Y33)),Table!Z33,0)","v":0},{"$f":"Table!AA33<=Inputs!$B$6","v":false},{"$f":"IF(AND($A33,Y33,NOT(AA33)),Table!AB33,0)","v":0},{"$f":"Table!AC33<=Inputs!$B$6","v":false},{"$f":"IF(AND($A33,AA33,NOT(AC33)),Table!AD33,0)","v":0},{"$f":"Table!AE33<=Inputs!$B$6","v":false},{"$f":"IF(AND($A33,AC33,NOT(AE33)),Table!AF33,0)","v":0},{"$f":"Table!AG33<=Inputs!$B$6","v":false},{"$f":"IF(AND($A33,AE33,NOT(AG33)),Table!AH33,0)","v":0}]
[false,{"$f":"Table!B34<=Inputs!B$2","v":false},{"$f":"Table!C34<=Inputs!$B$6","v":true},{"$f":"IF(AND(A34,AH34+AF34+AD34+AB34+Z34+X34+V34+T34+R34+P34+N34+L34+J34+H34+F34=0),Table!D34,0)","v":0},{"$f":"Table!E34<=Inputs!$B$6","v":true},{"$f":"IF(AND($A34,C34,NOT(E34)),Table!F34,0)","v":0},{"$f":"Table!G34<=Inputs!$B$6","v":true},{"$f":"IF(AND($A34,E34,NOT(G34)),Table!H34,0)","v":0},{"$f":"Table!I34<=Inputs!$B$6","v":true},{"$f":"IF(AND($A34,G34,NOT(I34)),Table!J34,0)","v":0},{"$f":"Table!K34<=Inputs!$B$6","v":true},{"$f":"IF(AND($A34,I34,NOT(K34)),Table!L34,0)","v":0},{"$f":"Table!M34<=Inputs!$B$6","v":true},{"$f":"IF(AND($A34,K34,NOT(M34)),Table!N34,0)","v":0},{"$f":"Table!O34<=Inputs!$B$6","v":true},{"$f":"IF(AND($A34,M34,NOT(O34)),Table!P34,0)","v":0},{"$f":"Table!Q34<=Inputs!$B$6","v":true},{"$f":"IF(AND($A34,O34,NOT(Q34)),Table!R34,0)","v":0},{"$f":"Table!S34<=Inputs!$B$6","v":false},{"$f":"IF(AND($A34,Q34,NOT(S34)),Table!T34,0)","v":0},{"$f":"Table!U34<=Inputs!$B$6","v":false},{"$f":"IF(AND($A34,S34,NOT(U34)),Table!V34,0)","v":0},{"$f":"Table!W34<=Inputs!$B$6","v":false},{"$f":"IF(AND($A34,U34,NOT(W34)),Table!X34,0)","v":0},{"$f":"Table!Y34<=Inputs!$B$6","v":false},{"$f":"IF(AND($A34,W34,NOT(Y34)),Table!Z34,0)","v":0},{"$f":"Table!AA34<=Inputs!$B$6","v":false},{"$f":"IF(AND($A34,Y34,NOT(AA34)),Table!AB34,0)","v":0},{"$f":"Table!AC34<=Inputs!$B$6","v":false},{"$f":"IF(AND($A34,AA34,NOT(AC34)),Table!AD34,0)","v":0},{"$f":"Table!AE34<=Inputs!$B$6","v":false},{"$f":"IF(AND($A34,AC34,NOT(AE34)),Table!AF34,0)","v":0},{"$f":"Table!AG34<=Inputs!$B$6","v":false},{"$f":"IF(AND($A34,AE34,NOT(AG34)),Table!AH34,0)","v":0}]
[false,{"$f":"Table!B35<=Inputs!B$2","v":false},{"$f":"Table!C35<=Inputs!$B$6","v":true},{"$f":"IF(AND(A35,AH35+AF35+AD35+AB35+Z35+X35+V35+T35+R35+P35+N35+L35+J35+H35+F35=0),Table!D35,0)","v":0},{"$f":"Table!E35<=Inputs!$B$6","v":true},{"$f":"IF(AND($A35,C35,NOT(E35)),Table!F35,0)","v":0},{"$f":"Table!G35<=Inputs!$B$6","v":true},{"$f":"IF(AND($A35,E35,NOT(G35)),Table!H35,0)","v":0},{"$f":"Table!I35<=Inputs!$B$6","v":true},{"$f":"IF(AND($A35,G35,NOT(I35)),Table!J35,0)","v":0},{"$f":"Table!K35<=Inputs!$B$6","v":true},{"$f":"IF(AND($A35,I35,NOT(K35)),Table!L35,0)","v":0},{"$f":"Table!M35<=Inputs!$B$6","v":true},{"$f":"IF(AND($A35,K35,NOT(M35)),Table!N35,0)","v":0},{"$f":"Table!O35<=Inputs!$B$6","v":true},{"$f":"IF(AND($A35,M35,NOT(O35)),Table!P35,0)","v":0},{"$f":"Table!Q35<=Inputs!$B$6","v":true},{"$f":"IF(AND($A35,O35,NOT(Q35)),Table!R35,0)","v":0},{"$f":"Table!S35<=Inputs!$B$6","v":true},{"$f":"IF(AND($A35,Q35,NOT(S35)),Table!T35,0)","v":0},{"$f":"Table!U35<=Inputs!$B$6","v":false},{"$f":"IF(AND($A35,S35,NOT(U35)),Table!V35,0)","v":0},{"$f":"Table!W35<=Inputs!$B$6","v":false},{"$f":"IF(AND($A35,U35,NOT(W35)),Table!X35,0)","v":0},{"$f":"Table!Y35<=Inputs!$B$6","v":false},{"$f":"IF(AND($A35,W35,NOT(Y35)),Table!Z35,0)","v":0},{"$f":"Table!AA35<=Inputs!$B$6","v":false},{"$f":"IF(AND($A35,Y35,NOT(AA35)),Table!AB35,0)","v":0},{"$f":"Table!AC35<=Inputs!$B$6","v":false},{"$f":"IF(AND($A35,AA35,NOT(AC35)),Table!AD35,0)","v":0},{"$f":"Table!AE35<=Inputs!$B$6","v":false},{"$f":"IF(AND($A35,AC35,NOT(AE35)),Table!AF35,0)","v":0},{"$f":"Table!AG35<=Inputs!$B$6","v":false},{"$f":"IF(AND($A35,AE35,NOT(AG35)),Table!AH35,0)","v":0}]
[false,{"$f":"Table!B36<=Inputs!B$2","v":false},{"$f":"Table!C36<=Inputs!$B$6","v":true},{"$f":"IF(AND(A36,AH36+AF36+AD36+AB36+Z36+X36+V36+T36+R36+P36+N36+L36+J36+H36+F36=0),Table!D36,0)","v":0},{"$f":"Table!E36<=Inputs!$B$6","v":true},{"$f":"IF(AND($A36,C36,NOT(E36)),Table!F36,0)","v":0},{"$f":"Table!G36<=Inputs!$B$6","v":true},{"$f":"IF(AND($A36,E36,NOT(G36)),Table!H36,0)","v":0},{"$f":"Table!I36<=Inputs!$B$6","v":true},{"$f":"IF(AND($A36,G36,NOT(I36)),Table!J36,0)","v":0},{"$f":"Table!K36<=Inputs!$B$6","v":true},{"$f":"IF(AND($A36,I36,NOT(K36)),Table!L36,0)","v":0},{"$f":"Table!M36<=Inputs!$B$6","v":true},{"$f":"IF(AND($A36,K36,NOT(M36)),Table!N36,0)","v":0},{"$f":"Table!O36<=Inputs!$B$6","v":true},{"$f":"IF(AND($A36,M36,NOT(O36)),Table!P36,0)","v":0},{"$f":"Table!Q36<=Inputs!$B$6","v":true},{"$f":"IF(AND($A36,O36,NOT(Q36)),Table!R36,0)","v":0},{"$f":"Table!S36<=Inputs!$B$6","v":true},{"$f":"IF(AND($A36,Q36,NOT(S36)),Table!T36,0)","v":0},{"$f":"Table!U36<=Inputs!$B$6","v":false},{"$f":"IF(AND($A36,S36,NOT(U36)),Table!V36,0)","v":0},{"$f":"Table!W36<=Inputs!$B$6","v":false},{"$f":"IF(AND($A36,U36,NOT(W36)),Table!X36,0)","v":0},{"$f":"Table!Y36<=Inputs!$B$6","v":false},{"$f":"IF(AND($A36,W36,NOT(Y36)),Table!Z36,0)","v":0},{"$f":"Table!AA36<=Inputs!$B$6","v":false},{"$f":"IF(AND($A36,Y36,NOT(AA36)),Table!AB36,0)","v":0},{"$f":"Table!AC36<=Inputs!$B$6","v":false},{"$f":"IF(AND($A36,AA36,NOT(AC36)),Table!AD36,0)","v":0},{"$f":"Table!AE36<=Inputs!$B$6","v":false},{"$f":"IF(AND($A36,AC36,NOT(AE36)),Table!AF36,0)","v":0},{"$f":"Table!AG36<=Inputs!$B$6","v":false},{"$f":"IF(AND($A36,AE36,NOT(AG36)),Table!AH36,0)","v":0}]
[]
[null,null,null,{"$f":"SUM(D6:D36)","v":0},null,{"$f":"SUM(F6:F36)","v":0},null,{"$f":"SUM(H6:H36)","v":0},null,{"$f":"SUM(J6:J36)","v":0},null,{"$f":"SUM(L6:L36)","v":0},null,{"$f":"SUM(N6:N36)","v":0},null,{"$f":"SUM(P6:P36)","v":0},null,{"$f":"SUM(R6:R36)","v":0},null,{"$f":"SUM(T6:T36)","v":220},null,{"$f":"SUM(V6:V36)","v":0},null,{"$f":"SUM(X6:X36)","v":0},null,{"$f":"SUM(Z6:Z36)","v":0},null,{"$f":"SUM(AB6:AB36)","v":0},null,{"$f":"SUM(AD6:AD36)","v":0},null,{"$f":"SUM(AF6:AF36)","v":0},null,{"$f":"SUM(AH6:AH36)","v":0}]
[]
[null,null,null,{"$f":"SUM(D38:AH38)","v":220}]

{"sheet":"STL Volume","index":4,"n_rows":107,"n_cols":27,"rows_kept":107,"cut":false,"hidden":false,"merged":[]}
["0 = Curve",null,null,0,"W/2","W",null,null,null,null,null,0,"W/2","W",null,null,0,"W/2","W",null,"Avg dh","Avg dh",null,"Avg Area","Avg Area"]
[null,null,"x","hex(x)","hm(x)","he(x)",null,"Slope R","Slope L",null,"x","hreq(w,x)","hreq(w,x)","hreq(w,x)",null,"x","dh(w,x)","dh(w,x)","dh(w,x)",null,"Left","Right",null,"Left","Right",null,"Area"]
[0,null,{"$f":"A3/100*C$103","v":0},0,{"$f":"IF(AVERAGE(D3,F3)<0.24,0.24,AVERAGE(D3,F3))","v":0.45599999999999996},{"$f":"Inputs!B1/100*Inputs!B7","v":0.91199999999999992},null,{"$f":"E3/12*100","v":3.8},{"$f":"(F3-E3)/12*100","v":3.8},null,{"$f":"C3","v":0},{"$f":"IF(K3>50,0,(1-K3/50)/12)","v":8.3333333333333329E-2},{"$f":"IF(AVERAGE(L3,N3)<0.24,0.24,AVERAGE(L3,N3))","v":0.92333333333333323},{"$f":"Inputs!B2*Inputs!B7/100+L3","v":1.7633333333333332},null,{"$f":"K3","v":0},{"$f":"L3-D3","v":8.3333333333333329E-2},{"$f":"M3-E3","v":0.46733333333333327},{"$f":"N3-F3","v":0.85133333333333328},null,{"$f":"AVERAGE(Q3:R3)","v":0.27533333333333332},{"$f":"AVERAGE(R3:S3)","v":0.65933333333333333},null,{"$f":"Inputs!$B$7/2*U3","v":3.3039999999999998},{"$f":"Inputs!$B$7/2*V3","v":7.9119999999999999},null,{"$f":"X3+Y3","v":11.215999999999999}]
[{"$f":"1","v":1},null,{"$f":"A4/100*C$103","v":2.2000000000000002},0,{"$f":"IF(AVERAGE(D4,F4)<0.24,0.24,AVERAGE(D4,F4))","v":0.44596799999999998},{"$f":"IF(C4<A$106,F$3*(1-C4/A$106),0)","v":0.89193599999999995},null,{"$f":"E4/12*100","v":3.7163999999999997},{"$f":"(F4-E4)/12*100","v":3.7163999999999997},null,{"$f":"C4","v":2.2000000000000002},{"$f":"IF(K4>50,0,(1-K4/50)/12)","v":7.9666666666666663E-2},{"$f":"IF(AVERAGE(L4,N4)<0.24,0.24,AVERAGE(L4,N4))","v":0.91268333333333329},{"$f":"N$3*(1-K4/C$103)","v":1.7456999999999998},null,{"$f":"K4","v":2.2000000000000002},{"$f":"L4-D4","v":7.9666666666666663E-2},0.46671533333333332,0.85376399999999986,null,{"$f":"AVERAGE(Q4:R4)","v":0.27319099999999996},0.66023966666666656,null,{"$f":"Inputs!$B$7/2*U4","v":3.2782919999999995},{"$f":"Inputs!$B$7/2*V4","v":7.9228759999999987},null,{"$f":"X4+Y4","v":11.201167999999999}]
[{"$f":"A4+1","v":2},null,{"$f":"A5/100*C$103","v":4.4000000000000004},0,0.43593599999999993,{"$f":"IF(C5<A$106,F$3*(1-C5/A$106),0)","v":0.87187199999999987},null,3.6327999999999991,3.6327999999999991,null,4.4000000000000004,{"$f":"IF(K5>50,0,(1-K5/50)/12)","v":7.5999999999999998E-2},{"$f":"IF(AVERAGE(L5,N5)<0.24,0.24,AVERAGE(L5,N5))","v":0.90203333333333324},{"$f":"N$3*(1-K5/C$103)","v":1.7280666666666664},null,4.4000000000000004,7.5999999999999998E-2,0.46609733333333331,0.85619466666666655,null,0.27104866666666666,0.6611459999999999,null,{"$f":"Inputs!$B$7/2*U5","v":3.2525839999999997},{"$f":"Inputs!$B$7/2*V5","v":7.9337519999999984},null,11.186335999999997]
[3,null,{"$f":"A6/100*C$103","v":6.6},0,0.42590399999999995,0.8518079999999999,null,3.5491999999999995,3.5491999999999995,null,6.6,7.2333333333333333E-2,0.89138333333333331,1.7104333333333333,null,6.6,7.2333333333333333E-2,0.46547933333333336,0.85862533333333335,null,0.26890633333333336,0.66205233333333335,null,{"$f":"Inputs!$B$7/2*U6","v":3.2268760000000003},{"$f":"Inputs!$B$7/2*V6","v":7.9446279999999998},null,11.171504000000001]
[4,null,8.8000000000000007,0,0.41587199999999996,0.83174399999999993,null,3.4655999999999998,3.4655999999999998,null,8.8000000000000007,6.8666666666666668E-2,0.88073333333333326,1.6927999999999999,null,8.8000000000000007,6.8666666666666668E-2,0.46486133333333329,0.86105599999999993,null,0.266764,0.66295866666666659,null,{"$f":"Inputs!$B$7/2*U7","v":3.201168},{"$f":"Inputs!$B$7/2*V7","v":7.9555039999999995},null,11.156672]
[5,null,11,0,0.40583999999999998,0.81167999999999996,null,3.3819999999999997,3.3819999999999997,null,11,6.5000000000000002E-2,0.87008333333333321,1.6751666666666665,null,11,6.5000000000000002E-2,0.46424333333333323,0.86348666666666651,null,0.26462166666666664,0.66386499999999993,null,{"$f":"Inputs!$B$7/2*U8","v":3.1754599999999997},{"$f":"Inputs!$B$7/2*V8","v":7.9663799999999991},null,11.141839999999998]
[6,null,13.2,0,0.39580799999999994,0.79161599999999988,null,3.2983999999999991,3.2983999999999991,null,13.2,6.133333333333333E-2,0.85943333333333316,1.6575333333333331,null,13.2,6.133333333333333E-2,0.46362533333333322,0.86591733333333321,null,0.26247933333333329,0.66477133333333316,null,{"$f":"Inputs!$B$7/2*U9","v":3.1497519999999994},{"$f":"Inputs!$B$7/2*V9","v":7.9772559999999979},null,11.127007999999996]
[7,null,15.400000000000002,0,0.38577599999999995,0.7715519999999999,null,3.2147999999999994,3.2147999999999994,null,15.400000000000002,5.7666666666666665E-2,0.84878333333333322,1.6398999999999997,null,15.400000000000002,5.7666666666666665E-2,0.46300733333333327,0.86834799999999979,null,0.26033699999999999,0.6656776666666665,null,{"$f":"Inputs!$B$7/2*U10","v":3.1240439999999996},{"$f":"Inputs!$B$7/2*V10","v":7.9881319999999985},null,11.112175999999998]
[8,null,17.600000000000001,0,0.37574399999999997,0.75148799999999993,null,3.1311999999999998,3.1311999999999998,null,17.600000000000001,5.3999999999999992E-2,0.83813333333333329,1.6222666666666665,null,17.600000000000001,5.3999999999999992E-2,0.46238933333333332,0.87077866666666659,null,0.25819466666666668,0.66658399999999995,null,{"$f":"Inputs!$B$7/2*U11","v":3.0983360000000002},{"$f":"Inputs!$B$7/2*V11","v":7.9990079999999999},null,11.097344]
[9,null,19.8,0,0.36571199999999998,0.73142399999999996,null,3.0476000000000001,3.0476000000000001,null,19.8,5.0333333333333334E-2,0.82748333333333335,1.6046333333333334,null,19.8,5.0333333333333334E-2,0.46177133333333337,0.87320933333333339,null,0.25605233333333333,0.66749033333333341,null,{"$f":"Inputs!$B$7/2*U12","v":3.0726279999999999},{"$f":"Inputs!$B$7/2*V12","v":8.0098840000000013},null,11.082512000000001]
[10,null,22,0,0.35568,0.71135999999999999,null,2.964,2.964,null,22,4.6666666666666669E-2,0.8168333333333333,1.587,null,22,4.6666666666666669E-2,0.4611533333333333,0.87563999999999997,null,0.25390999999999997,0.66839666666666664,null,{"$f":"Inputs!$B$7/2*U13","v":3.0469199999999996},{"$f":"Inputs!$B$7/2*V13","v":8.0207599999999992},null,11.067679999999999]
[11,null,24.2,0,0.34564799999999996,0.69129599999999991,null,2.8803999999999998,2.8803999999999998,null,24.2,4.3000000000000003E-2,0.80618333333333325,1.5693666666666666,null,24.2,4.3000000000000003E-2,0.4605353333333333,0.87807066666666667,null,0.25176766666666667,0.66930299999999998,null,{"$f":"Inputs!$B$7/2*U14","v":3.0212120000000002},{"$f":"Inputs!$B$7/2*V14","v":8.0316359999999989},null,11.052847999999999]
[12,null,26.4,0,0.33561599999999997,0.67123199999999994,null,2.7967999999999997,2.7967999999999997,null,26.4,3.9333333333333331E-2,0.7955333333333332,1.5517333333333332,null,26.4,3.9333333333333331E-2,0.45991733333333323,0.88050133333333325,null,0.24962533333333328,0.67020933333333321,null,{"$f":"Inputs!$B$7/2*U15","v":2.9955039999999995},{"$f":"Inputs!$B$7/2*V15","v":8.0425119999999986},null,11.038015999999999]
[13,null,28.6,0,0.32558399999999998,0.65116799999999997,null,2.7132000000000001,2.7132000000000001,null,28.6,3.5666666666666659E-2,0.78488333333333327,1.5340999999999998,null,28.6,3.5666666666666659E-2,0.45929933333333328,0.88293199999999983,null,0.24748299999999998,0.67111566666666655,null,{"$f":"Inputs!$B$7/2*U16","v":2.9697959999999997},{"$f":"Inputs!$B$7/2*V16","v":8.0533879999999982},null,11.023183999999997]
[14,null,30.800000000000004,0,0.31555199999999994,0.63110399999999989,null,2.6295999999999995,2.6295999999999995,null,30.800000000000004,3.1999999999999994E-2,0.77423333333333333,1.5164666666666666,null,30.800000000000004,3.1999999999999994E-2,0.45868133333333339,0.88536266666666674,null,0.24534066666666668,0.67202200000000012,null,{"$f":"Inputs!$B$7/2*U17","v":2.9440880000000003},{"$f":"Inputs!$B$7/2*V17","v":8.0642640000000014},null,11.008352000000002]
[15,null,33,0,0.30551999999999996,0.61103999999999992,null,2.5459999999999998,2.5459999999999998,null,33,2.8333333333333332E-2,0.76358333333333328,1.4988333333333332,null,33,2.8333333333333332E-2,0.45806333333333332,0.88779333333333332,null,0.24319833333333332,0.67292833333333335,null,{"$f":"Inputs!$B$7/2*U18","v":2.91838},{"$f":"Inputs!$B$7/2*V18","v":8.0751400000000011},null,10.99352]
[16,null,35.200000000000003,0,0.29548799999999992,0.59097599999999983,null,2.4623999999999993,2.4623999999999993,null,35.200000000000003,2.466666666666666E-2,0.75293333333333323,1.4811999999999999,null,35.200000000000003,2.466666666666666E-2,0.45744533333333331,0.89022400000000002,null,0.24105599999999999,0.67383466666666669,null,{"$f":"Inputs!$B$7/2*U19","v":2.8926720000000001},{"$f":"Inputs!$B$7/2*V19","v":8.0860160000000008},null,10.978688000000002]
[17,null,37.400000000000006,0,0.28545599999999993,0.57091199999999986,null,2.3787999999999991,2.3787999999999991,null,37.400000000000006,2.0999999999999991E-2,0.74228333333333318,1.4635666666666665,null,37.400000000000006,2.0999999999999991E-2,0.45682733333333325,0.8926546666666666,null,0.23891366666666664,0.67474099999999992,null,{"$f":"Inputs!$B$7/2*U20","v":2.8669639999999994},{"$f":"Inputs!$B$7/2*V20","v":8.0968919999999986},null,10.963855999999998]
[18,null,39.6,0,0.27542399999999995,0.55084799999999989,null,2.2951999999999995,2.2951999999999995,null,39.6,1.7333333333333329E-2,0.73163333333333336,1.4459333333333333,null,39.6,1.7333333333333329E-2,0.45620933333333341,0.8950853333333334,null,0.23677133333333336,0.67564733333333338,null,{"$f":"Inputs!$B$7/2*U21","v":2.8412560000000004},{"$f":"Inputs!$B$7/2*V21","v":8.1077680000000001},null,10.949024000000001]
[19,null,41.8,0,0.26539200000000002,0.53078400000000003,null,2.2116000000000002,2.2116000000000002,null,41.8,1.3666666666666669E-2,0.72098333333333331,1.4282999999999999,null,41.8,1.3666666666666669E-2,0.45559133333333329,0.89751599999999987,null,0.23462899999999998,0.67655366666666661,null,{"$f":"Inputs!$B$7/2*U22","v":2.8155479999999997},{"$f":"Inputs!$B$7/2*V22","v":8.1186439999999997},null,10.934191999999999]
[20,null,44,0,0.25535999999999998,0.51071999999999995,null,{"$f":"E23/12*100","v":2.1279999999999997},2.1279999999999997,null,44,0.01,0.71033333333333337,1.4106666666666667,null,44,0.01,0.4549733333333334,0.89994666666666678,null,0.2324866666666667,0.67746000000000006,null,{"$f":"Inputs!$B$7/2*U23","v":2.7898400000000003},{"$f":"Inputs!$B$7/2*V23","v":8.1295200000000012},null,10.919360000000001]
[21,null,46.199999999999996,0,0.24532799999999999,0.49065599999999998,null,2.0444,2.0444,null,46.199999999999996,6.3333333333333392E-3,0.69968333333333332,1.3930333333333333,null,46.199999999999996,6.3333333333333392E-3,0.45435533333333333,0.90237733333333336,null,0.23034433333333335,0.6783663333333334,null,{"$f":"Inputs!$B$7/2*U24","v":2.764132},{"$f":"Inputs!$B$7/2*V24","v":8.1403960000000009},null,10.904528000000001]
[22,null,48.4,0,0.24,0.47059199999999995,null,2,1.9215999999999998,null,48.4,2.6666666666666692E-3,0.68903333333333328,1.3754,null,48.4,2.6666666666666692E-3,0.44903333333333328,0.90480800000000006,null,0.22584999999999997,0.67692066666666673,null,{"$f":"Inputs!$B$7/2*U25","v":2.7101999999999995},{"$f":"Inputs!$B$7/2*V25","v":8.1230480000000007},null,10.833248000000001]
[23,null,50.6,0,0.24,0.45052799999999998,null,2,1.7544,null,50.6,0,0.67888333333333328,1.3577666666666666,null,50.6,0,0.43888333333333329,0.90723866666666653,null,0.21944166666666665,0.67306099999999991,null,{"$f":"Inputs!$B$7/2*U26","v":2.6332999999999998},{"$f":"Inputs!$B$7/2*V26","v":8.0767319999999998},null,10.710032]
[24,null,52.8,0,0.24,0.43046399999999996,null,2,1.5871999999999997,null,52.8,0,0.67006666666666659,1.3401333333333332,null,52.8,0,0.4300666666666666,0.90966933333333322,null,0.2150333333333333,0.66986799999999991,null,{"$f":"Inputs!$B$7/2*U27","v":2.5803999999999996},{"$f":"Inputs!$B$7/2*V27","v":8.038415999999998},null,10.618815999999997]
[25,null,55,0,0.24,0.41039999999999993,null,2,1.4199999999999995,null,55,0,0.66124999999999989,1.3224999999999998,null,55,0,0.4212499999999999,0.91209999999999991,null,0.21062499999999995,0.66667499999999991,null,{"$f":"Inputs!$B$7/2*U28","v":2.5274999999999994},{"$f":"Inputs!$B$7/2*V28","v":8.0000999999999998},null,10.5276]
[26,null,57.2,0,0.24,0.39033599999999991,null,2,1.2527999999999992,null,57.2,0,0.65243333333333331,1.3048666666666666,null,57.2,0,0.41243333333333332,0.91453066666666671,null,0.20621666666666666,0.66348200000000002,null,{"$f":"Inputs!$B$7/2*U29","v":2.4745999999999997},{"$f":"Inputs!$B$7/2*V29","v":7.9617839999999998},null,10.436384]
[27,null,59.400000000000006,0,0.24,0.37027199999999988,null,2,1.085599999999999,null,59.400000000000006,0,0.64361666666666661,1.2872333333333332,null,59.400000000000006,0,0.40361666666666662,0.91696133333333329,null,0.20180833333333331,0.6602889999999999,null,{"$f":"Inputs!$B$7/2*U30","v":2.4216999999999995},{"$f":"Inputs!$B$7/2*V30","v":7.9234679999999988},null,10.345167999999997]
[28,null,61.600000000000009,0,0.24,0.35020799999999985,null,2,0.91839999999999888,null,61.600000000000009,0,0.63479999999999992,1.2695999999999998,null,61.600000000000009,0,0.39479999999999993,0.91939199999999999,null,0.19739999999999996,0.6570959999999999,null,{"$f":"Inputs!$B$7/2*U31","v":2.3687999999999994},{"$f":"Inputs!$B$7/2*V31","v":7.8851519999999988},null,10.253951999999998]
[29,null,63.8,0,0.24,0.33014399999999994,null,2,0.75119999999999953,null,63.8,0,0.62598333333333323,1.2519666666666665,null,63.8,0,0.38598333333333323,0.92182266666666646,null,0.19299166666666662,0.6539029999999999,null,{"$f":"Inputs!$B$7/2*U32","v":2.3158999999999992},{"$f":"Inputs!$B$7/2*V32","v":7.8468359999999988},null,10.162735999999999]
[30,null,66,0,0.24,0.31007999999999997,null,2,0.58399999999999985,null,66,0,0.61716666666666653,1.2343333333333331,null,66,0,0.37716666666666654,0.92425333333333315,null,0.18858333333333327,0.6507099999999999,null,{"$f":"Inputs!$B$7/2*U33","v":2.262999999999999},{"$f":"Inputs!$B$7/2*V33","v":7.8085199999999988},null,10.071519999999998]
[31,null,68.2,0,0.24,0.29001599999999994,null,2,0.41679999999999956,null,68.2,0,0.60834999999999995,1.2166999999999999,null,68.2,0,0.36834999999999996,0.92668399999999995,null,0.18417499999999998,0.6475169999999999,null,{"$f":"Inputs!$B$7/2*U34","v":2.2100999999999997},{"$f":"Inputs!$B$7/2*V34","v":7.7702039999999988},null,9.9803039999999985]
[32,null,70.400000000000006,0,0.24,0.26995199999999991,null,2,0.24959999999999935,null,70.400000000000006,0,0.59953333333333325,1.1990666666666665,null,70.400000000000006,0,0.35953333333333326,0.92911466666666653,null,0.17976666666666663,0.6443239999999999,null,{"$f":"Inputs!$B$7/2*U35","v":2.1571999999999996},{"$f":"Inputs!$B$7/2*V35","v":7.7318879999999988},null,9.8890879999999974]
[33,null,72.600000000000009,0,0.24,0.24988799999999989,null,2,8.2399999999999141E-2,null,72.600000000000009,0,0.59071666666666656,1.1814333333333331,null,72.600000000000009,0,0.35071666666666657,0.93154533333333323,null,0.17535833333333328,0.6411309999999999,null,{"$f":"Inputs!$B$7/2*U36","v":2.1042999999999994},{"$f":"Inputs!$B$7/2*V36","v":7.6935719999999987},null,9.7978719999999981]
[34,null,74.800000000000011,0,0.24,0.22982399999999989,null,2,-8.4800000000000847E-2,null,74.800000000000011,0,0.58189999999999986,1.1637999999999997,null,74.800000000000011,0,0.34189999999999987,0.93397599999999981,null,0.17094999999999994,0.63793799999999989,null,{"$f":"Inputs!$B$7/2*U37","v":2.0513999999999992},{"$f":"Inputs!$B$7/2*V37","v":7.6552559999999987},null,9.7066559999999988]
[35,null,77,0,0.24,0.20975999999999997,null,2,-0.25200000000000011,null,77,0,0.57308333333333328,1.1461666666666666,null,77,0,0.33308333333333329,0.93640666666666661,null,0.16654166666666664,0.63474499999999989,null,{"$f":"Inputs!$B$7/2*U38","v":1.9984999999999997},{"$f":"Inputs!$B$7/2*V38","v":7.6169399999999987},null,9.6154399999999978]
[36,null,79.2,0,0.24,0.18969599999999995,null,2,-0.41920000000000041,null,79.2,0,0.56426666666666658,1.1285333333333332,null,79.2,0,0.32426666666666659,0.93883733333333319,null,0.1621333333333333,0.63155199999999989,null,{"$f":"Inputs!$B$7/2*U39","v":1.9455999999999996},{"$f":"Inputs!$B$7/2*V39","v":7.5786239999999987},null,9.5242239999999985]
[37,null,81.400000000000006,0,0.24,0.16963199999999992,null,2,-0.58640000000000059,null,81.400000000000006,0,0.55544999999999989,1.1108999999999998,null,81.400000000000006,0,0.3154499999999999,0.94126799999999988,null,0.15772499999999995,0.62835899999999989,null,{"$f":"Inputs!$B$7/2*U40","v":1.8926999999999994},{"$f":"Inputs!$B$7/2*V40","v":7.5403079999999987},null,9.4330079999999974]
[38,null,83.6,0,0.24,0.14956800000000001,null,2,-0.75359999999999983,null,83.6,0,0.54663333333333342,1.0932666666666668,null,83.6,0,0.30663333333333342,0.9436986666666668,null,0.15331666666666671,0.62516600000000011,null,{"$f":"Inputs!$B$7/2*U41","v":1.8398000000000005},{"$f":"Inputs!$B$7/2*V41","v":7.5019920000000013},null,9.3417920000000017]
[39,null,85.8,0,0.24,0.12950400000000001,null,2,-0.92079999999999995,null,85.8,0,0.53781666666666661,1.0756333333333332,null,85.8,0,0.29781666666666662,0.94612933333333316,null,0.14890833333333331,0.62197299999999989,null,{"$f":"Inputs!$B$7/2*U42","v":1.7868999999999997},{"$f":"Inputs!$B$7/2*V42","v":7.4636759999999986},null,9.2505759999999988]
[40,null,88,0,0.24,0.10943999999999998,null,2,-1.0880000000000001,null,88,0,0.52899999999999991,1.0579999999999998,null,88,0,0.28899999999999992,0.94855999999999985,null,0.14449999999999996,0.61877999999999989,null,{"$f":"Inputs!$B$7/2*U43","v":1.7339999999999995},{"$f":"Inputs!$B$7/2*V43","v":7.4253599999999986},null,9.1593599999999977]
[41,null,90.199999999999989,0,0.24,8.9376000000000067E-2,null,2,-1.2551999999999994,null,90.199999999999989,0,0.52018333333333333,1.0403666666666667,null,90.199999999999989,0,0.28018333333333334,0.95099066666666654,null,0.14009166666666667,0.61558699999999988,null,{"$f":"Inputs!$B$7/2*U44","v":1.6811},{"$f":"Inputs!$B$7/2*V44","v":7.3870439999999986},null,9.0681439999999984]
[42,null,92.399999999999991,0,0.24,6.9312000000000054E-2,null,2,-1.4223999999999994,null,92.399999999999991,0,0.51136666666666664,1.0227333333333333,null,92.399999999999991,0,0.27136666666666664,0.95342133333333323,null,0.13568333333333332,0.61239399999999988,null,{"$f":"Inputs!$B$7/2*U45","v":1.6281999999999999},{"$f":"Inputs!$B$7/2*V45","v":7.3487279999999986},null,8.9769279999999991]
[43,null,94.6,0,0.24,4.9248000000000042E-2,null,2,-1.5895999999999997,null,94.6,0,0.50255000000000005,1.0051000000000001,null,94.6,0,0.26255000000000006,0.95585200000000003,null,0.13127500000000003,0.6092010000000001,null,{"$f":"Inputs!$B$7/2*U46","v":1.5753000000000004},{"$f":"Inputs!$B$7/2*V46","v":7.3104120000000012},null,8.8857120000000016]
[44,null,96.8,0,0.24,2.9184000000000022E-2,null,2,-1.7567999999999997,null,96.8,0,0.49373333333333336,0.98746666666666671,null,96.8,0,0.25373333333333337,0.95828266666666673,null,0.12686666666666668,0.6060080000000001,null,{"$f":"Inputs!$B$7/2*U47","v":1.5224000000000002},{"$f":"Inputs!$B$7/2*V47","v":7.2720960000000012},null,8.7944960000000023]
[45,null,99,0,0.24,9.1200000000000066E-3,null,2,-1.9239999999999997,null,99,0,0.48491666666666666,0.96983333333333333,null,99,0,0.24491666666666667,0.96071333333333331,null,0.12245833333333334,0.60281499999999999,null,{"$f":"Inputs!$B$7/2*U48","v":1.4695},{"$f":"Inputs!$B$7/2*V48","v":7.2337799999999994},null,8.7032799999999995]
[46,null,101.2,0,0.24,0,null,2,-2,null,101.2,0,0.47609999999999997,0.95219999999999994,null,101.2,0,0.23609999999999998,0.95219999999999994,null,0.11804999999999999,0.59414999999999996,null,{"$f":"Inputs!$B$7/2*U49","v":1.4165999999999999},{"$f":"Inputs!$B$7/2*V49","v":7.1297999999999995},null,8.5463999999999984]
[47,null,103.39999999999999,0,0.24,0,null,2,-2,null,103.39999999999999,0,0.46728333333333333,0.93456666666666666,null,103.39999999999999,0,0.22728333333333334,0.93456666666666666,null,0.11364166666666667,0.58092500000000002,null,{"$f":"Inputs!$B$7/2*U50","v":1.3637000000000001},{"$f":"Inputs!$B$7/2*V50","v":6.9710999999999999},null,8.3347999999999995]
[48,null,105.6,0,0.24,0,null,2,-2,null,105.6,0,0.45846666666666663,0.91693333333333327,null,105.6,0,0.21846666666666664,0.91693333333333327,null,0.10923333333333332,0.56769999999999998,null,{"$f":"Inputs!$B$7/2*U51","v":1.3108},{"$f":"Inputs!$B$7/2*V51","v":6.8124000000000002},null,8.1232000000000006]
[49,null,107.8,0,0.24,0,null,2,-2,null,107.8,0,0.44964999999999999,0.89929999999999999,null,107.8,0,0.20965,0.89929999999999999,null,0.104825,0.55447500000000005,null,{"$f":"Inputs!$B$7/2*U52","v":1.2579},{"$f":"Inputs!$B$7/2*V52","v":6.6537000000000006},null,7.9116000000000009]
[50,null,110,0,0.24,0,null,2,-2,null,110,0,0.4408333333333333,0.8816666666666666,null,110,0,0.20083333333333331,0.8816666666666666,null,0.10041666666666665,0.54125000000000001,null,{"$f":"Inputs!$B$7/2*U53","v":1.2049999999999998},{"$f":"Inputs!$B$7/2*V53","v":6.4950000000000001},null,7.7]
[51,null,112.2,0,0.24,0,null,2,-2,null,112.2,0,0.4320166666666666,0.86403333333333321,null,112.2,0,0.19201666666666661,0.86403333333333321,null,9.6008333333333307E-2,0.52802499999999997,null,{"$f":"Inputs!$B$7/2*U54","v":1.1520999999999997},{"$f":"Inputs!$B$7/2*V54","v":6.3362999999999996},null,7.4883999999999995]
[52,null,114.4,0,0.24,0,null,2,-2,null,114.4,0,0.42319999999999997,0.84639999999999993,null,114.4,0,0.18319999999999997,0.84639999999999993,null,9.1599999999999987E-2,0.51479999999999992,null,{"$f":"Inputs!$B$7/2*U55","v":1.0991999999999997},{"$f":"Inputs!$B$7/2*V55","v":6.1775999999999991},null,7.2767999999999988]
[53,null,116.60000000000001,0,0.24,0,null,2,-2,null,116.60000000000001,0,0.41438333333333327,0.82876666666666654,null,116.60000000000001,0,0.17438333333333328,0.82876666666666654,null,8.719166666666664E-2,0.50157499999999988,null,{"$f":"Inputs!$B$7/2*U56","v":1.0462999999999996},{"$f":"Inputs!$B$7/2*V56","v":6.0188999999999986},null,7.0651999999999981]
[54,null,118.80000000000001,0,0.24,0,null,2,-2,null,118.80000000000001,0,0.40556666666666663,0.81113333333333326,null,118.80000000000001,0,0.16556666666666664,0.81113333333333326,null,8.278333333333332E-2,0.48834999999999995,null,{"$f":"Inputs!$B$7/2*U57","v":0.99339999999999984},{"$f":"Inputs!$B$7/2*V57","v":5.860199999999999},null,6.8535999999999984]
[55,null,121.00000000000001,0,0.24,0,null,2,-2,null,121.00000000000001,0,0.39674999999999994,0.79349999999999987,null,121.00000000000001,0,0.15674999999999994,0.79349999999999987,null,7.8374999999999972E-2,0.47512499999999991,null,{"$f":"Inputs!$B$7/2*U58","v":0.94049999999999967},{"$f":"Inputs!$B$7/2*V58","v":5.7014999999999993},null,6.6419999999999995]
[56,null,123.20000000000002,0,0.24,0,null,2,-2,null,123.20000000000002,0,0.38793333333333324,0.77586666666666648,null,123.20000000000002,0,0.14793333333333325,0.77586666666666648,null,7.3966666666666625E-2,0.46189999999999987,null,{"$f":"Inputs!$B$7/2*U59","v":0.8875999999999995},{"$f":"Inputs!$B$7/2*V59","v":5.542799999999998},null,6.430399999999997]
[57,null,125.39999999999999,0,0.24,0,null,2,-2,null,125.39999999999999,0,0.37911666666666666,0.75823333333333331,null,125.39999999999999,0,0.13911666666666667,0.75823333333333331,null,6.9558333333333333E-2,0.44867499999999999,null,{"$f":"Inputs!$B$7/2*U60","v":0.8347},{"$f":"Inputs!$B$7/2*V60","v":5.3841000000000001},null,6.2187999999999999]
[58,null,127.6,0,0.24,0,null,2,-2,null,127.6,0,0.37030000000000002,0.74060000000000004,null,127.6,0,0.13030000000000003,0.74060000000000004,null,6.5150000000000013E-2,0.43545,null,{"$f":"Inputs!$B$7/2*U61","v":0.78180000000000016},{"$f":"Inputs!$B$7/2*V61","v":5.2254000000000005},null,6.007200000000001]
[59,null,129.79999999999998,0,0.24,0,null,2,-2,null,129.79999999999998,0,0.36148333333333332,0.72296666666666665,null,129.79999999999998,0,0.12148333333333333,0.72296666666666665,null,6.0741666666666666E-2,0.42222499999999996,null,{"$f":"Inputs!$B$7/2*U62","v":0.72889999999999999},{"$f":"Inputs!$B$7/2*V62","v":5.0666999999999991},null,5.7955999999999994]
[60,null,132,0,0.24,0,null,2,-2,null,132,0,0.35266666666666668,0.70533333333333337,null,132,0,0.11266666666666669,0.70533333333333337,null,5.6333333333333346E-2,0.40900000000000003,null,{"$f":"Inputs!$B$7/2*U63","v":0.67600000000000016},{"$f":"Inputs!$B$7/2*V63","v":4.9080000000000004},null,5.5840000000000005]
[61,null,134.19999999999999,0,0.24,0,null,2,-2,null,134.19999999999999,0,0.34384999999999999,0.68769999999999998,null,134.19999999999999,0,0.10385,0.68769999999999998,null,5.1924999999999999E-2,0.39577499999999999,null,{"$f":"Inputs!$B$7/2*U64","v":0.62309999999999999},{"$f":"Inputs!$B$7/2*V64","v":4.7492999999999999},null,5.3723999999999998]
[62,null,136.4,0,0.24,0,null,2,-2,null,136.4,0,0.33503333333333329,0.67006666666666659,null,136.4,0,9.5033333333333303E-2,0.67006666666666659,null,4.7516666666666652E-2,0.38254999999999995,null,{"$f":"Inputs!$B$7/2*U65","v":0.57019999999999982},{"$f":"Inputs!$B$7/2*V65","v":4.5905999999999993},null,5.1607999999999992]
[63,null,138.6,0,0.24,0,null,2,-2,null,138.6,0,0.32621666666666665,0.65243333333333331,null,138.6,0,8.6216666666666664E-2,0.65243333333333331,null,4.3108333333333332E-2,0.36932500000000001,null,{"$f":"Inputs!$B$7/2*U66","v":0.51729999999999998},{"$f":"Inputs!$B$7/2*V66","v":4.4319000000000006},null,4.9492000000000003]
[64,null,140.80000000000001,0,0.24,0,null,2,-2,null,140.80000000000001,0,0.31739999999999996,0.63479999999999992,null,140.80000000000001,0,7.7399999999999969E-2,0.63479999999999992,null,3.8699999999999984E-2,0.35609999999999997,null,{"$f":"Inputs!$B$7/2*U67","v":0.46439999999999981},{"$f":"Inputs!$B$7/2*V67","v":4.2731999999999992},null,4.7375999999999987]
[65,null,143,0,{"$f":"IF(AVERAGE(D68,F68)<0.24,0.24,AVERAGE(D68,F68))","v":0.24},0,null,{"$f":"E68/12*100","v":2},{"$f":"(F68-E68)/12*100","v":-2},null,{"$f":"C68","v":143},0,0.30858333333333327,0.61716666666666653,null,{"$f":"K68","v":143},{"$f":"L68-D68","v":0},6.8583333333333274E-2,0.61716666666666653,null,{"$f":"AVERAGE(Q68:R68)","v":3.4291666666666637E-2},0.34287499999999993,null,{"$f":"Inputs!$B$7/2*U68","v":0.41149999999999964},{"$f":"Inputs!$B$7/2*V68","v":4.1144999999999996},null,{"$f":"X68+Y68","v":4.5259999999999989}]
[{"$f":"A68+1","v":66},null,145.20000000000002,0,0.24,{"$f":"IF(C69<A$106,F$3*(1-C69/A$106),0)","v":0},null,2,-2,null,145.20000000000002,{"$f":"IF(K69>50,0,(1-K69/50)/12)","v":0},{"$f":"IF(AVERAGE(L69,N69)<0.24,0.24,AVERAGE(L69,N69))","v":0.29976666666666663},{"$f":"N$3*(1-K69/C$103)","v":0.59953333333333325},null,145.20000000000002,0,5.9766666666666635E-2,0.59953333333333325,null,2.9883333333333317E-2,0.32964999999999994,null,{"$f":"Inputs!$B$7/2*U69","v":0.35859999999999981},{"$f":"Inputs!$B$7/2*V69","v":3.9557999999999991},null,4.3143999999999991]
[67,null,{"$f":"A70/100*C$103","v":147.4},0,0.24,0,null,2,-2,null,147.4,0,0.29094999999999993,0.58189999999999986,null,147.4,0,5.094999999999994E-2,0.58189999999999986,null,2.547499999999997E-2,0.3164249999999999,null,{"$f":"Inputs!$B$7/2*U70","v":0.30569999999999964},{"$f":"Inputs!$B$7/2*V70","v":3.7970999999999986},null,4.1027999999999984]
[68,null,149.60000000000002,0,0.24,0,null,2,-2,null,149.60000000000002,0,0.28213333333333329,0.56426666666666658,null,149.60000000000002,0,4.21333333333333E-2,0.56426666666666658,null,2.106666666666665E-2,0.30319999999999991,null,{"$f":"Inputs!$B$7/2*U71","v":0.2527999999999998},{"$f":"Inputs!$B$7/2*V71","v":3.638399999999999},null,3.8911999999999987]
[69,null,151.79999999999998,0,0.24,0,null,2,-2,null,151.79999999999998,0,0.27331666666666671,0.54663333333333342,null,151.79999999999998,0,3.3316666666666717E-2,0.54663333333333342,null,1.6658333333333358E-2,0.28997500000000009,null,{"$f":"Inputs!$B$7/2*U72","v":0.1999000000000003},{"$f":"Inputs!$B$7/2*V72","v":3.4797000000000011},null,3.6796000000000015]
[70,null,154,0,0.24,0,null,2,-2,null,154,0,0.26450000000000001,0.52900000000000003,null,154,0,2.4500000000000022E-2,0.52900000000000003,null,1.2250000000000011E-2,0.27675000000000005,null,{"$f":"Inputs!$B$7/2*U73","v":0.14700000000000013},{"$f":"Inputs!$B$7/2*V73","v":3.3210000000000006},null,3.4680000000000009]
[71,null,156.19999999999999,0,0.24,0,null,2,-2,null,156.19999999999999,0,0.25568333333333332,0.51136666666666664,null,156.19999999999999,0,1.5683333333333327E-2,0.51136666666666664,null,7.8416666666666635E-3,0.26352500000000001,null,{"$f":"Inputs!$B$7/2*U74","v":9.4099999999999961E-2},{"$f":"Inputs!$B$7/2*V74","v":3.1623000000000001},null,3.2564000000000002]
[72,null,158.4,0,0.24,0,null,2,-2,null,158.4,0,0.24686666666666668,0.49373333333333336,null,158.4,0,6.8666666666666876E-3,0.49373333333333336,null,3.4333333333333438E-3,0.25030000000000002,null,{"$f":"Inputs!$B$7/2*U75","v":4.1200000000000125E-2},{"$f":"Inputs!$B$7/2*V75","v":3.0036000000000005},null,3.0448000000000004]
[73,null,160.6,0,0.24,0,null,2,-2,null,160.6,0,0.24,0.47609999999999997,null,160.6,0,0,0.47609999999999997,null,0,0.23804999999999998,null,{"$f":"Inputs!$B$7/2*U76","v":0},{"$f":"Inputs!$B$7/2*V76","v":2.8565999999999998},null,2.8565999999999998]
[74,null,162.80000000000001,0,0.24,0,null,2,-2,null,162.80000000000001,0,0.24,0.45846666666666647,null,162.80000000000001,0,0,0.45846666666666647,null,0,0.22923333333333323,null,{"$f":"Inputs!$B$7/2*U77","v":0},{"$f":"Inputs!$B$7/2*V77","v":2.750799999999999},null,2.750799999999999]
[75,null,165,0,0.24,0,null,2,-2,null,165,0,0.24,0.4408333333333333,null,165,0,0,0.4408333333333333,null,0,0.22041666666666665,null,{"$f":"Inputs!$B$7/2*U78","v":0},{"$f":"Inputs!$B$7/2*V78","v":2.6449999999999996},null,2.6449999999999996]
[76,null,167.2,0,0.24,0,null,2,-2,null,167.2,0,0.24,0.42320000000000013,null,167.2,0,0,0.42320000000000013,null,0,0.21160000000000007,null,{"$f":"Inputs!$B$7/2*U79","v":0},{"$f":"Inputs!$B$7/2*V79","v":2.539200000000001},null,2.539200000000001]
[77,null,169.4,0,0.24,0,null,2,-2,null,169.4,0,0.24,0.40556666666666663,null,169.4,0,0,0.40556666666666663,null,0,0.20278333333333332,null,{"$f":"Inputs!$B$7/2*U80","v":0},{"$f":"Inputs!$B$7/2*V80","v":2.4333999999999998},null,2.4333999999999998]
[78,null,171.6,0,0.24,0,null,2,-2,null,171.6,0,0.24,0.38793333333333324,null,171.6,0,0,0.38793333333333324,null,0,0.19396666666666662,null,{"$f":"Inputs!$B$7/2*U81","v":0},{"$f":"Inputs!$B$7/2*V81","v":2.3275999999999994},null,2.3275999999999994]
[79,null,173.8,0,0.24,0,null,2,-2,null,173.8,0,0.24,0.37029999999999991,null,173.8,0,0,0.37029999999999991,null,0,0.18514999999999995,null,{"$f":"Inputs!$B$7/2*U82","v":0},{"$f":"Inputs!$B$7/2*V82","v":2.2217999999999996},null,2.2217999999999996]
[80,null,176,0,0.24,0,null,2,-2,null,176,0,0.24,0.35266666666666657,null,176,0,0,0.35266666666666657,null,0,0.17633333333333329,null,{"$f":"Inputs!$B$7/2*U83","v":0},{"$f":"Inputs!$B$7/2*V83","v":2.1159999999999997},null,2.1159999999999997]
[81,null,{"$f":"A84/100*C$103","v":178.20000000000002},0,0.24,0,null,2,-2,null,178.20000000000002,0,0.24,0.33503333333333324,null,178.20000000000002,0,0,0.33503333333333324,null,0,0.16751666666666662,null,{"$f":"Inputs!$B$7/2*U84","v":0},{"$f":"Inputs!$B$7/2*V84","v":2.0101999999999993},null,2.0101999999999993]
[82,null,{"$f":"A85/100*C$103","v":180.39999999999998},0,0.24,0,null,2,-2,null,180.39999999999998,0,0.24,0.31740000000000007,null,180.39999999999998,0,0,0.31740000000000007,null,0,0.15870000000000004,null,{"$f":"Inputs!$B$7/2*U85","v":0},{"$f":"Inputs!$B$7/2*V85","v":1.9044000000000003},null,1.9044000000000003]
[83,null,182.6,0,0.24,0,null,2,-2,null,182.6,0,0.24,0.29976666666666674,null,182.6,0,0,0.29976666666666674,null,0,0.14988333333333337,null,{"$f":"Inputs!$B$7/2*U86","v":0},{"$f":"Inputs!$B$7/2*V86","v":1.7986000000000004},null,1.7986000000000004]
[84,null,184.79999999999998,0,0.24,0,null,2,-2,null,184.79999999999998,0,0.24,0.28213333333333335,null,184.79999999999998,0,0,0.28213333333333335,null,0,0.14106666666666667,null,{"$f":"Inputs!$B$7/2*U87","v":0},{"$f":"Inputs!$B$7/2*V87","v":1.6928000000000001},null,1.6928000000000001]
[85,null,187,0,0.24,0,null,2,-2,null,187,0,0.24,0.26450000000000001,null,187,0,0,0.26450000000000001,null,0,0.13225000000000001,null,{"$f":"Inputs!$B$7/2*U88","v":0},{"$f":"Inputs!$B$7/2*V88","v":1.5870000000000002},null,1.5870000000000002]
[86,null,189.2,0,0.24,0,null,2,-2,null,189.2,0,0.24,0.24686666666666668,null,189.2,0,0,0.24686666666666668,null,0,0.12343333333333334,null,{"$f":"Inputs!$B$7/2*U89","v":0},{"$f":"Inputs!$B$7/2*V89","v":1.4812000000000001},null,1.4812000000000001]
[87,null,191.4,0,0.24,0,null,2,-2,null,191.4,0,0.24,0.22923333333333332,null,191.4,0,0,0.22923333333333332,null,0,0.11461666666666666,null,{"$f":"Inputs!$B$7/2*U90","v":0},{"$f":"Inputs!$B$7/2*V90","v":1.3754},null,1.3754]
[88,null,193.6,0,0.24,0,null,2,-2,null,193.6,0,0.24,0.21159999999999998,null,193.6,0,0,0.21159999999999998,null,0,0.10579999999999999,null,{"$f":"Inputs!$B$7/2*U91","v":0},{"$f":"Inputs!$B$7/2*V91","v":1.2695999999999998},null,1.2695999999999998]
[89,null,195.8,0,0.24,0,null,2,-2,null,195.8,0,0.24,0.19396666666666662,null,195.8,0,0,0.19396666666666662,null,0,9.698333333333331E-2,null,{"$f":"Inputs!$B$7/2*U92","v":0},{"$f":"Inputs!$B$7/2*V92","v":1.1637999999999997},null,1.1637999999999997]
[90,null,198,0,0.24,0,null,2,-2,null,198,0,0.24,0.17633333333333329,null,198,0,0,0.17633333333333329,null,0,8.8166666666666643E-2,null,{"$f":"Inputs!$B$7/2*U93","v":0},{"$f":"Inputs!$B$7/2*V93","v":1.0579999999999998},null,1.0579999999999998]
[91,null,200.20000000000002,0,0.24,0,null,2,-2,null,200.20000000000002,0,0.24,0.15869999999999992,null,200.20000000000002,0,0,0.15869999999999992,null,0,7.9349999999999962E-2,null,{"$f":"Inputs!$B$7/2*U94","v":0},{"$f":"Inputs!$B$7/2*V94","v":0.95219999999999949},null,0.95219999999999949]
[92,null,202.4,0,0.24,0,null,2,-2,null,202.4,0,0.24,0.14106666666666659,null,202.4,0,0,0.14106666666666659,null,0,7.0533333333333295E-2,null,{"$f":"Inputs!$B$7/2*U95","v":0},{"$f":"Inputs!$B$7/2*V95","v":0.8463999999999996},null,0.8463999999999996]
[93,null,204.60000000000002,0,0.24,0,null,2,-2,null,204.60000000000002,0,0.24,0.12343333333333324,null,204.60000000000002,0,0,0.12343333333333324,null,0,6.1716666666666621E-2,null,{"$f":"Inputs!$B$7/2*U96","v":0},{"$f":"Inputs!$B$7/2*V96","v":0.74059999999999948},null,0.74059999999999948]
[94,null,206.79999999999998,0,0.24,0,null,2,-2,null,206.79999999999998,0,0.24,0.10580000000000009,null,206.79999999999998,0,0,0.10580000000000009,null,0,5.2900000000000044E-2,null,{"$f":"Inputs!$B$7/2*U97","v":0},{"$f":"Inputs!$B$7/2*V97","v":0.63480000000000047},null,0.63480000000000047]
[95,null,209,0,0.24,0,null,2,-2,null,209,0,0.24,8.816666666666674E-2,null,209,0,0,8.816666666666674E-2,null,0,4.408333333333337E-2,null,{"$f":"Inputs!$B$7/2*U98","v":0},{"$f":"Inputs!$B$7/2*V98","v":0.52900000000000047},null,0.52900000000000047]
[96,null,211.2,0,0.24,0,null,2,-2,null,211.2,0,0.24,7.0533333333333392E-2,null,211.2,0,0,7.0533333333333392E-2,null,0,3.5266666666666696E-2,null,{"$f":"Inputs!$B$7/2*U99","v":0},{"$f":"Inputs!$B$7/2*V99","v":0.42320000000000035},null,0.42320000000000035]
[97,null,213.4,0,0.24,0,null,2,-2,null,213.4,0,0.24,5.2900000000000044E-2,null,213.4,0,0,5.2900000000000044E-2,null,0,2.6450000000000022E-2,null,{"$f":"Inputs!$B$7/2*U100","v":0},{"$f":"Inputs!$B$7/2*V100","v":0.31740000000000024},null,0.31740000000000024]
[98,null,215.6,0,{"$f":"IF(AVERAGE(D101,F101)<0.24,0.24,AVERAGE(D101,F101))","v":0.24},0,null,2,-2,null,215.6,0,0.24,3.5266666666666696E-2,null,215.6,0,0,3.5266666666666696E-2,null,0,1.7633333333333348E-2,null,{"$f":"Inputs!$B$7/2*U101","v":0},{"$f":"Inputs!$B$7/2*V101","v":0.21160000000000018},null,0.21160000000000018]
[99,null,217.8,0,{"$f":"IF(AVERAGE(D102,F102)<0.24,0.24,AVERAGE(D102,F102))","v":0.24},0,null,2,-2,null,217.8,0,0.24,1.763333333333315E-2,null,217.8,0,0,1.763333333333315E-2,null,0,8.8166666666665752E-3,null,{"$f":"Inputs!$B$7/2*U102","v":0},{"$f":"Inputs!$B$7/2*V102","v":0.10579999999999889},null,0.10579999999999889]
[null,null,{"$f":"IF(Inputs!B4<0.01,Inputs!B40,Inputs!B4)","v":220},0,0.24,0,null,2,-2,null,220,0,0.24,0,null,220,0,0,0,null,0,0,null,{"$f":"Inputs!$B$7/2*U103","v":0},{"$f":"Inputs!$B$7/2*V103","v":0},null,0]
[]
["Old STL"]
[{"$f":"IF(Inputs!B5<0.01,Inputs!B33,Inputs!B5)","v":100},null,null,null,null,null,null,null,null,null,null,null,null,null,null,null,null,null,null,null,null,null,null,null,null,"Average Area:",{"$f":"AVERAGE(AA3:AA103,AB4:AB102)","v":6.6721360792079194}]
[null,null,null,null,null,null,null,null,null,null,null,null,null,null,null,null,null,null,null,null,null,null,null,null,null,"Total Volume:",{"$f":"AA106*(C103)*2","v":2935.7398748514847}]

{"sheet":"Sheet1","index":5,"n_rows":0,"n_cols":0,"rows_kept":0,"cut":false,"hidden":false,"merged":[]}